BEGIN:VCALENDAR
VERSION:2.0
PRODID:-//Greater Raritan - ECPv6.3.5//NONSGML v1.0//EN
CALSCALE:GREGORIAN
METHOD:PUBLISH
X-WR-CALNAME:Greater Raritan
X-ORIGINAL-URL:https://www.thegrwdb.org
X-WR-CALDESC:Events for Greater Raritan
REFRESH-INTERVAL;VALUE=DURATION:PT1H
X-Robots-Tag:noindex
X-PUBLISHED-TTL:PT1H
BEGIN:VTIMEZONE
TZID:America/New_York
BEGIN:DAYLIGHT
TZOFFSETFROM:-0500
TZOFFSETTO:-0400
TZNAME:EDT
DTSTART:20190310T070000
END:DAYLIGHT
BEGIN:STANDARD
TZOFFSETFROM:-0400
TZOFFSETTO:-0500
TZNAME:EST
DTSTART:20191103T060000
END:STANDARD
TZID:UTC
BEGIN:STANDARD
TZOFFSETFROM:+0000
TZOFFSETTO:+0000
TZNAME:UTC
DTSTART:20190101T000000
END:STANDARD
END:VTIMEZONE
BEGIN:VEVENT
DTSTART;TZID=America/New_York:20190613T150000
DTEND;TZID=America/New_York:20190613T170000
DTSTAMP:20260420T110317
CREATED:20181001T221342Z
LAST-MODIFIED:20190223T010647Z
UID:644-1560438000-1560445200@www.thegrwdb.org
SUMMARY:GRWDB Board Meeting
DESCRIPTION:The GRWDB Board Meeting is scheduled for Thursday\, June 13\, 2019 at 3:00 PM. Check back for the meeting package as once it is available\, you can easily download it here. Newcomers\, please RSVP to Aubrey at aflanagan@co.somerset.nj.us to ensure ample seating!
URL:https://www.thegrwdb.org/event/board-meeting-2/
LOCATION:Hunterdon County Chamber of Commerce’s Historic Reading-Large House\, 119 Main Street\, Flemington\, NJ\, 08822\, United States
CATEGORIES:Board Meeting
ATTACH;FMTTYPE=image/png:https://www.thegrwdb.org/wp-content/uploads/2018/08/icon-calendar.png
END:VEVENT
BEGIN:VEVENT
DTSTART;TZID=UTC:20190523T150000
DTEND;TZID=UTC:20190523T170000
DTSTAMP:20260420T110317
CREATED:20181008T200503Z
LAST-MODIFIED:20181024T212500Z
UID:670-1558623600-1558630800@www.thegrwdb.org
SUMMARY:GRWDB Executive Committee Meeting
DESCRIPTION:The GRWDB Executive Committee Meeting is scheduled for Thursday\, March 7\, 2019 at 3:00 PM. Check back for the meeting package as once it is available\, you can easily download it here. Message Aubrey at aflanagan@co.somerset.nj.us for more details or any questions!
URL:https://www.thegrwdb.org/event/grwdb-executive-committee-meeting-2/
LOCATION:Raritan Valley Community College Workforce Training Center\, Workforce Training Center Conference Room\, 118 Lamington Rd\, Branchburg\, NJ\, 08876\, United States
CATEGORIES:Executive Committee
ATTACH;FMTTYPE=image/png:https://www.thegrwdb.org/wp-content/uploads/2018/08/icon-calendar.png
END:VEVENT
BEGIN:VEVENT
DTSTART;TZID=America/New_York:20190411T150000
DTEND;TZID=America/New_York:20190411T170000
DTSTAMP:20260420T110317
CREATED:20181001T221237Z
LAST-MODIFIED:20190117T232558Z
UID:642-1554994800-1555002000@www.thegrwdb.org
SUMMARY:GRWDB Board Meeting
DESCRIPTION:The GRWDB Board Meeting is scheduled for Thursday\, April 11\, 2019 at 3:00 PM. Check back for the meeting package as once it is available\, you can easily download it here. Newcomers\, please RSVP to Aubrey at aflanagan@co.somerset.nj.us to ensure ample seating!
URL:https://www.thegrwdb.org/event/board-meeting/
LOCATION:Raritan Valley Community College Workforce Training Center\, 118 Lamington Rd\, Branchburg\, NJ\, 08876\, United States
CATEGORIES:Board Meeting
ATTACH;FMTTYPE=image/png:https://www.thegrwdb.org/wp-content/uploads/2018/08/icon-calendar.png
END:VEVENT
BEGIN:VEVENT
DTSTART;TZID=America/New_York:20190307T150000
DTEND;TZID=America/New_York:20190307T170000
DTSTAMP:20260420T110317
CREATED:20181008T192636Z
LAST-MODIFIED:20190117T232539Z
UID:660-1551970800-1551978000@www.thegrwdb.org
SUMMARY:GRWDB Executive Committee Meeting
DESCRIPTION:The GRWDB Executive Committee Meeting is scheduled for Thursday\, March 7\, 2019 at 3:00 PM. Check back for the meeting package as once it is available\, you can easily download it here. Message Aubrey at aflanagan@co.somerset.nj.us for more details or any questions!
URL:https://www.thegrwdb.org/event/grwdb-executive-committee-meeting/
LOCATION:Raritan Valley Community College Workforce Training Center\, Workforce Training Center Conference Room\, 118 Lamington Rd\, Branchburg\, NJ\, 08876\, United States
CATEGORIES:Executive Committee
ATTACH;FMTTYPE=image/png:https://www.thegrwdb.org/wp-content/uploads/2018/08/icon-calendar.png
END:VEVENT
BEGIN:VEVENT
DTSTART;TZID=America/New_York:20190117T150000
DTEND;TZID=America/New_York:20190117T170000
DTSTAMP:20260420T110317
CREATED:20180831T203059Z
LAST-MODIFIED:20190117T232522Z
UID:518-1547737200-1547744400@www.thegrwdb.org
SUMMARY:GRWDB Board Meeting
DESCRIPTION:The GRWDB Board Meeting is scheduled for Thursday\, January 17\, 2019 at 3:00 PM. Please use the Rehill Avenue Parking Deck to access the Emergency Department Conference Room through the Main Lobby at Robert Wood Johnson University Hospital Somerset. Newcomers\, please RSVP to Aubrey at aflanagan@co.somerset.nj.us to ensure ample seating! Click here to download the Meeting Package.  \n 
URL:https://www.thegrwdb.org/event/grwdb-board-meeting/
LOCATION:Robert Wood Johnson University Hospital Somerset\, 110 Rehill Ave\, Somerville\, NJ\, 08876\, United States
CATEGORIES:Board Meeting
ATTACH;FMTTYPE=image/png:https://www.thegrwdb.org/wp-content/uploads/2018/08/icon-calendar.png
ORGANIZER;CN="":MAILTO:aflanagan@co.somerset.nj.us
END:VEVENT
END:VCALENDAR