BEGIN:VCALENDAR
VERSION:2.0
PRODID:-//Greater Raritan - ECPv6.3.5//NONSGML v1.0//EN
CALSCALE:GREGORIAN
METHOD:PUBLISH
X-ORIGINAL-URL:https://www.thegrwdb.org
X-WR-CALDESC:Events for Greater Raritan
REFRESH-INTERVAL;VALUE=DURATION:PT1H
X-Robots-Tag:noindex
X-PUBLISHED-TTL:PT1H
BEGIN:VTIMEZONE
TZID:America/New_York
BEGIN:DAYLIGHT
TZOFFSETFROM:-0500
TZOFFSETTO:-0400
TZNAME:EDT
DTSTART:20210314T070000
END:DAYLIGHT
BEGIN:STANDARD
TZOFFSETFROM:-0400
TZOFFSETTO:-0500
TZNAME:EST
DTSTART:20211107T060000
END:STANDARD
END:VTIMEZONE
BEGIN:VEVENT
DTSTART;TZID=America/New_York:20210506T083000
DTEND;TZID=America/New_York:20210506T093000
DTSTAMP:20260421T092623
CREATED:20210119T225903Z
LAST-MODIFIED:20210504T221752Z
UID:4540-1620289800-1620293400@www.thegrwdb.org
SUMMARY:Anita's Angels Virtual Information Session
DESCRIPTION:The New Jersey Department of Labor and Workforce Development and the Greater Raritan Workforce Development Board are presenting a Virtual Information Session for job seekers at 8:30 a.m. Thursday\, May 6\, for Anita’s Angels in Flemington. The following positions are available: Certified Homemaker – Home Health Aides. \nAttendees will be get details about the positions from company representatives\, and have the opportunity to ask questions. \nTo register\, use the QR code in the flyer link in this listing or go to this link: https://bit.ly/3douAQQ. \n  \n  \n 
URL:https://www.thegrwdb.org/event/job-opportunities-info-session-2-2-2-2-3-6-2/
LOCATION:Virtual Event
CATEGORIES:Career Fair,Community Event,Virtual Information Job Session
END:VEVENT
BEGIN:VEVENT
DTSTART;TZID=America/New_York:20210503T150000
DTEND;TZID=America/New_York:20210503T160000
DTSTAMP:20260421T092623
CREATED:20210119T225903Z
LAST-MODIFIED:20210504T221828Z
UID:4118-1620054000-1620057600@www.thegrwdb.org
SUMMARY:Roche Molecular Systems Virtual Information Session
DESCRIPTION:The New Jersey Department of Labor and Workforce Development and the Greater Raritan Workforce Development Board are presenting a Virtual Information Session for job seekers at 3 p.m. Monday\, May 3\, for Roche Molecular Systems in Branchburg.  The company is looking to fill the following positions: Third Shift Manufacturing Supervisor\, and Various Shifts (Monday to Saturday) for Sr Filling / Packaging Mechanic\, Filling / Packaging Mechanic\, and Associate Filling / Packaging Mechanic. \nAttendees will be get details about the positions from company representatives\, and have the opportunity to ask questions. \nTo register\, use the QR code in the flyer link in this listing or go to bit.ly/3vhjH9J. \n  \n  \n 
URL:https://www.thegrwdb.org/event/job-opportunities-info-session-2-2-2-2-3/
LOCATION:Virtual Event
CATEGORIES:Career Fair,Community Event,Virtual Information Job Session
END:VEVENT
BEGIN:VEVENT
DTSTART;TZID=America/New_York:20210429T140000
DTEND;TZID=America/New_York:20210429T150000
DTSTAMP:20260421T092623
CREATED:20210119T225903Z
LAST-MODIFIED:20210423T144718Z
UID:4437-1619704800-1619708400@www.thegrwdb.org
SUMMARY:American Aluminium Company Opportunities Info Session
DESCRIPTION:The New Jersey Department of Labor and Workforce Development is presenting a Virtual Information Session for job seekers at 2 p.m. Thursday\, April 29\, for American Aluminum Company in Mountainside.  The company is looking to fill the following positions: Three Machine Operators\, One Tool Maker Trainee. \nAttendees will be get details about the positions from company representatives\, and have the opportunity to ask questions. \nTo register\, use the QR code in the flyer link in this listing or go to bit.ly/2QOmfgk. \n  \n  \n 
URL:https://www.thegrwdb.org/event/job-opportunities-info-session-2-2-2-2-3-5/
LOCATION:Virtual Event
CATEGORIES:Career Fair,Community Event,Virtual Information Job Session
END:VEVENT
BEGIN:VEVENT
DTSTART;TZID=America/New_York:20210429T100000
DTEND;TZID=America/New_York:20210429T110000
DTSTAMP:20260421T092623
CREATED:20210119T225903Z
LAST-MODIFIED:20210420T193934Z
UID:4401-1619690400-1619694000@www.thegrwdb.org
SUMMARY:Magna-Power Electronics Opportunities Info Session
DESCRIPTION:The New Jersey Department of Labor and Workforce Development and the Greater Raritan Workforce Development Board are presenting a Virtual Information Session for job seekers at 10 a.m. Thursday\, April 29\, for Magna-Power Electronics in Flemington. \nThe company is looking to fill the following positions: Transformer Assembler\, Production Assembler\, Mechanical Assembler\, Purchasing/Planning\nCoordinator\, Stock Room Clerk\, Shipping & Receiving Clerk/ Forklift Operator\, Electronic Test Technician. Starting at $16/hr. \nAttendees will be get details about the positions from company representatives\, and have the opportunity to ask questions. \nThis event will be virtual\, from the jobseekers’ PC\, Tablet or Phone. \nAll interested candidates can submit their resume to the attention of Ryan Roberts\, HR at rroberts@magna-power.com and indicate the job title.  All resumes will be reviewed for consideration and applicants will receive notification on next steps. \n  \n  \n 
URL:https://www.thegrwdb.org/event/job-opportunities-info-session-2-2-2-2-3-4/
LOCATION:Virtual Event
CATEGORIES:Career Fair,Community Event,Virtual Information Job Session
END:VEVENT
BEGIN:VEVENT
DTSTART;TZID=America/New_York:20210428T130000
DTEND;TZID=America/New_York:20210428T140000
DTSTAMP:20260421T092623
CREATED:20210119T225903Z
LAST-MODIFIED:20210420T193225Z
UID:4399-1619614800-1619618400@www.thegrwdb.org
SUMMARY:Lowe's\, Hillsborough\, Opportunities Info Session
DESCRIPTION:The New Jersey Department of Labor and Workforce Development and the Greater Raritan Workforce Development Board are presenting a Virtual Information Session for job seekers at 1 p.m. Wednesday\, April 28\, for Lowe’s in Hillsborough. \nThe company is looking to fill the more than 30 positions: Seasonal CSA\, FT CSA Appliances\, FT CSA\, Flooring\, FT CSA Windows and Walls\, 2 PT Seasonal CSA\, Cashier\, 13 seasonal Overnights Receive Stock\, 6 seasonal Receive Stock Days\, 5 PT Seasonal Cashiers\, 3 seasonal CSA Inside Lawn and Garden\, 3 Seasonal OSLG\, PT Pro Cashier PT CSA Building Materials. \nAttendees will be get details about the positions from company representatives\, and have the opportunity to ask questions. \nTo register\, use the QR code in the flyer link in this listing or go to bit.ly/3eiLAHM. \n  \n  \n 
URL:https://www.thegrwdb.org/event/job-opportunities-info-session-2-2-2-2-3-3/
LOCATION:Virtual Event
CATEGORIES:Community Event,Virtual Information Job Session
END:VEVENT
BEGIN:VEVENT
DTSTART;TZID=America/New_York:20210423T130000
DTEND;TZID=America/New_York:20210423T140000
DTSTAMP:20260421T092623
CREATED:20210119T225903Z
LAST-MODIFIED:20210420T193342Z
UID:4383-1619182800-1619186400@www.thegrwdb.org
SUMMARY:Center for Greater Expectations Opportunities Info Session
DESCRIPTION:The New Jersey Department of Labor and Workforce Development and the Greater Raritan Workforce Development Board are presenting a Virtual Information Session for job seekers at 1 p.m. Friday\, April 23\, for the Center for Greater Expectations in the Somerset section of Franklin.  The company is looking to fill the following positions: Residential Associates for Adults and Adolescents\, various shifts. \nAttendees will be get details about the positions from company representatives\, and have the opportunity to ask questions. \nTo register\, use the QR code in the flyer link in this listing or go to bit.ly/3smq5L0. \n  \n  \n 
URL:https://www.thegrwdb.org/event/job-opportunities-info-session-2-2-2-2-3-2/
LOCATION:Virtual Event
CATEGORIES:Career Fair,Community Event,Virtual Information Job Session
END:VEVENT
BEGIN:VEVENT
DTSTART;TZID=America/New_York:20210423T100000
DTEND;TZID=America/New_York:20210423T110000
DTSTAMP:20260421T092623
CREATED:20210119T225903Z
LAST-MODIFIED:20210420T193421Z
UID:4305-1619172000-1619175600@www.thegrwdb.org
SUMMARY:Amneal Job Opportunities Info Session
DESCRIPTION:The New Jersey Department of Labor and Workforce Development and the Greater Raritan Workforce Development Board are presenting a Virtual Information Session for job seekers at 10 a.m. Friday\, April 23\, for Amneal\, a pharmaceutical company with locations in Bridgewater\, Branchburg\, Piscataway and East Hanover. The company is looking to fill the following positions (all levels and shifts)\, at the firm’s Branchburg and Piscataway locations: Manufacturing & Warehouse Operators\, QA Inspectors\, and QC Scientist/Chemist. \nAttendees will be get details about the positions from company representatives\, and have the opportunity to ask questions. \nTo register\, use the QR code in the flyer link in this listing or go to bit.ly/2Q6KCG0. \n  \n  \n 
URL:https://www.thegrwdb.org/event/job-opportunities-info-session-2-2-2-3/
LOCATION:Virtual Event
CATEGORIES:Career Fair,Community Event,Virtual Information Job Session
END:VEVENT
BEGIN:VEVENT
DTSTART;TZID=America/New_York:20210118T123000
DTEND;TZID=America/New_York:20210118T133000
DTSTAMP:20260421T092623
CREATED:20201223T214208Z
LAST-MODIFIED:20201223T214300Z
UID:3624-1610973000-1610976600@www.thegrwdb.org
SUMMARY:Pharmacy Technician Virtual Information Session
DESCRIPTION:Passaic County Community College’s Center for Continuing Education and Workforce Development is hosting Pharmacy Technician Virtual Information Sessions at 12:30 p.m. Wednesday\, Jan. 6\, and Monday\, Jan. 18. \nThe new program is part of NJ HealthWorks Scaling Apprenticeship Grant\, which allow students to earn while they learn with employers. This program includes 144 hours of technical instruction and 1\,000 to 2\,000 hours of On-The-Job learning. \nFor more information\, email njhealthworks@pccc.edu or call 973-684-5974.
URL:https://www.thegrwdb.org/event/pharmacy-technician-virtual-information-session-2/
LOCATION:Virtual Meeting
CATEGORIES:Community Event,Virtual Information Job Session
END:VEVENT
BEGIN:VEVENT
DTSTART;TZID=America/New_York:20210106T123000
DTEND;TZID=America/New_York:20210106T133000
DTSTAMP:20260421T092623
CREATED:20201223T214208Z
LAST-MODIFIED:20201223T214208Z
UID:3622-1609936200-1609939800@www.thegrwdb.org
SUMMARY:Pharmacy Technician Virtual Information Session
DESCRIPTION:Passaic County Community College’s Center for Continuing Education and Workforce Development is hosting Pharmacy Technician Virtual Information Sessions at 12:30 p.m. Wednesday\, Jan. 6\, and Monday\, Jan. 18. \nThe new program is part of NJ HealthWorks Scaling Apprenticeship Grant\, which allow students to earn while they learn with employers. This program includes 144 hours of technical instruction and 1\,000 to 2\,000 hours of On-The-Job learning. \nFor more information\, email njhealthworks@pccc.edu or call 973-684-5974.
URL:https://www.thegrwdb.org/event/pharmacy-technician-virtual-information-session/
LOCATION:Virtual Meeting
CATEGORIES:Community Event,Virtual Information Job Session
END:VEVENT
END:VCALENDAR