BEGIN:VCALENDAR
VERSION:2.0
PRODID:-//Greater Raritan - ECPv6.3.5//NONSGML v1.0//EN
CALSCALE:GREGORIAN
METHOD:PUBLISH
X-ORIGINAL-URL:https://www.thegrwdb.org
X-WR-CALDESC:Events for Greater Raritan
REFRESH-INTERVAL;VALUE=DURATION:PT1H
X-Robots-Tag:noindex
X-PUBLISHED-TTL:PT1H
BEGIN:VTIMEZONE
TZID:America/New_York
BEGIN:DAYLIGHT
TZOFFSETFROM:-0500
TZOFFSETTO:-0400
TZNAME:EDT
DTSTART:20260308T070000
END:DAYLIGHT
BEGIN:STANDARD
TZOFFSETFROM:-0400
TZOFFSETTO:-0500
TZNAME:EST
DTSTART:20261101T060000
END:STANDARD
END:VTIMEZONE
BEGIN:VEVENT
DTSTART;TZID=America/New_York:20260416T120000
DTEND;TZID=America/New_York:20260416T131500
DTSTAMP:20260420T122529
CREATED:20260327T195734Z
LAST-MODIFIED:20260327T213827Z
UID:16283-1776340800-1776345300@www.thegrwdb.org
SUMMARY:Business Virtual Briefing: Merck Journeys: From hands-on skills to impactful careers
DESCRIPTION:Raritan Valley Community is presenting a virtual briefing\, “Merck Journeys: From hands-on skills to impactful careers\,” from 12 to 1:15 p.m. Thursday\, April 16. \nThis event is designed for professionals ready to launch or advance technical careers. Participants will hear about opportunities at Merck’s new FLEx Center\, a next‑generation sterile development hub offering hands‑on roles in clinical‑stage manufacturing\, and learn how cross‑functional collaboration with scientists\, engineers\, and quality specialists drives rapid innovation. \nThe event also will highlight how Raritan Valley Community College courses directly align with the technical\, regulatory\, and operational skills Merck looks for\, making them a way to build industry‑ready experience. \nTo register for the virtual briefing\, go here.
URL:https://www.thegrwdb.org/event/business-virtual-briefing-merck-journeys-from-hands-on-skills-to-impactful-careers/
LOCATION:Virtual Event
CATEGORIES:Virtual Information Job Session
END:VEVENT
END:VCALENDAR