BEGIN:VCALENDAR
VERSION:2.0
PRODID:-//Greater Raritan - ECPv6.3.5//NONSGML v1.0//EN
CALSCALE:GREGORIAN
METHOD:PUBLISH
X-WR-CALNAME:Greater Raritan
X-ORIGINAL-URL:https://www.thegrwdb.org
X-WR-CALDESC:Events for Greater Raritan
REFRESH-INTERVAL;VALUE=DURATION:PT1H
X-Robots-Tag:noindex
X-PUBLISHED-TTL:PT1H
BEGIN:VTIMEZONE
TZID:America/New_York
BEGIN:DAYLIGHT
TZOFFSETFROM:-0500
TZOFFSETTO:-0400
TZNAME:EDT
DTSTART:20260308T070000
END:DAYLIGHT
BEGIN:STANDARD
TZOFFSETFROM:-0400
TZOFFSETTO:-0500
TZNAME:EST
DTSTART:20261101T060000
END:STANDARD
END:VTIMEZONE
BEGIN:VEVENT
DTSTART;TZID=America/New_York:20260217T100000
DTEND;TZID=America/New_York:20260217T110000
DTSTAMP:20260420T140107
CREATED:20260208T201134Z
LAST-MODIFIED:20260208T201134Z
UID:15907-1771322400-1771326000@www.thegrwdb.org
SUMMARY:Hackensack Meridian Health Virtual Recruitment Event
DESCRIPTION:Hackensack Meridian Health will be hosting a Virtual Recruitment Event at 10 a.m. Tuesday\, February 17. \nThe healthcare system is looking for part-time catering associates at its Brick location\, and a full-time catering associate and a fulltime environmental science aid at its Red Bank location. \nTo register for the event\, go to https://forms.office.com/g/sWip0MhzqQ.
URL:https://www.thegrwdb.org/event/hackensack-meridian-health-virtual-recruitment-event/
LOCATION:Virtual Event
CATEGORIES:Virtual Information Job Session
END:VEVENT
END:VCALENDAR