BEGIN:VCALENDAR
VERSION:2.0
PRODID:-//Greater Raritan - ECPv6.3.5//NONSGML v1.0//EN
CALSCALE:GREGORIAN
METHOD:PUBLISH
X-WR-CALNAME:Greater Raritan
X-ORIGINAL-URL:https://www.thegrwdb.org
X-WR-CALDESC:Events for Greater Raritan
REFRESH-INTERVAL;VALUE=DURATION:PT1H
X-Robots-Tag:noindex
X-PUBLISHED-TTL:PT1H
BEGIN:VTIMEZONE
TZID:America/New_York
BEGIN:DAYLIGHT
TZOFFSETFROM:-0500
TZOFFSETTO:-0400
TZNAME:EDT
DTSTART:20250309T070000
END:DAYLIGHT
BEGIN:STANDARD
TZOFFSETFROM:-0400
TZOFFSETTO:-0500
TZNAME:EST
DTSTART:20251102T060000
END:STANDARD
END:VTIMEZONE
BEGIN:VEVENT
DTSTART;TZID=America/New_York:20251218T170000
DTEND;TZID=America/New_York:20251218T180000
DTSTAMP:20260420T173943
CREATED:20251211T221856Z
LAST-MODIFIED:20251211T222857Z
UID:15484-1766077200-1766080800@www.thegrwdb.org
SUMMARY:Information Session on Shop Craft Program for Film and TV Industry
DESCRIPTION:In partnership with I.A.T.S.E. Local 52\, Reel Works is hosting an intensive training program to prepare rising New Jersey professionals with the skills needed to work successfully as Shop Craftpersons – a first step toward a career in the entertainment industry. \nInterested individuals can learn more during an information session being conducted at 5 p.m. Thursday\, December 18. The event\, which includes a live question-and-answer session\, is supported by Netflix. \nThe Shop Craft department – carpentry – builds\, installs and removes all wooden structures on a set. To be considered for the training program\, individuals must be 18 years or older\, and have experience of using hand and power tools\, and be a New Jersey resident living within a 70-mile radius of Fort Monmouth. \nThere is no fee for the program\, and each trainee will be paid a stipend during training. \nScan the QR code in this flyer to register for the information session. \nLearn more at: mediamkrs.org/career-development. \n  \n  \n 
URL:https://www.thegrwdb.org/event/information-session-on-shop-craft-program-for-film-and-tv-industry/
LOCATION:Virtual Event
CATEGORIES:Virtual Information Job Session
END:VEVENT
END:VCALENDAR