BEGIN:VCALENDAR
VERSION:2.0
PRODID:-//Greater Raritan - ECPv6.3.5//NONSGML v1.0//EN
CALSCALE:GREGORIAN
METHOD:PUBLISH
X-ORIGINAL-URL:https://www.thegrwdb.org
X-WR-CALDESC:Events for Greater Raritan
REFRESH-INTERVAL;VALUE=DURATION:PT1H
X-Robots-Tag:noindex
X-PUBLISHED-TTL:PT1H
BEGIN:VTIMEZONE
TZID:America/New_York
BEGIN:DAYLIGHT
TZOFFSETFROM:-0500
TZOFFSETTO:-0400
TZNAME:EDT
DTSTART:20250309T070000
END:DAYLIGHT
BEGIN:STANDARD
TZOFFSETFROM:-0400
TZOFFSETTO:-0500
TZNAME:EST
DTSTART:20251102T060000
END:STANDARD
END:VTIMEZONE
BEGIN:VEVENT
DTSTART;TZID=America/New_York:20251208T100000
DTEND;TZID=America/New_York:20251208T110000
DTSTAMP:20260420T174117
CREATED:20251125T185802Z
LAST-MODIFIED:20251125T185802Z
UID:15343-1765188000-1765191600@www.thegrwdb.org
SUMMARY:Virtual Information Session for Hackensack Meridian Health Carrier Clinic
DESCRIPTION:Hackensack Meridian Health Carrier Clinic\, in the Belle Mead section of Montgomery\, is hiring. Find out everything you need to know at Virtual Information Session running from 10 to 11 a.m. Monday\, December 8. \nThis session\, focusing on the Hospitality Sector\, is presented by the New Jersey Department of Labor and Workforce Development and the Greater Raritan Workforce Development Board. \nOpen positions include Food Service Worker\, Environmental Service Aide (Housekeeping) and Admissions Specialist. \nThe employer will present an overview of Hackensack Meridian Health\, and details about open Hospitality and Support roles and team member benefits\, including health insurance. Application instructions will be shared along with additional information\, including resume tips. \nTo register\, use this QR code in this flyer or this link: https://bit.ly/4pk7DQX.
URL:https://www.thegrwdb.org/event/virtual-information-session-for-hackensack-meridian-health-carrier-clinic/
LOCATION:Virtual Event
CATEGORIES:Virtual Information Job Session
END:VEVENT
END:VCALENDAR