BEGIN:VCALENDAR
VERSION:2.0
PRODID:-//Greater Raritan - ECPv6.3.5//NONSGML v1.0//EN
CALSCALE:GREGORIAN
METHOD:PUBLISH
X-WR-CALNAME:Greater Raritan
X-ORIGINAL-URL:https://www.thegrwdb.org
X-WR-CALDESC:Events for Greater Raritan
REFRESH-INTERVAL;VALUE=DURATION:PT1H
X-Robots-Tag:noindex
X-PUBLISHED-TTL:PT1H
BEGIN:VTIMEZONE
TZID:America/New_York
BEGIN:DAYLIGHT
TZOFFSETFROM:-0500
TZOFFSETTO:-0400
TZNAME:EDT
DTSTART:20250309T070000
END:DAYLIGHT
BEGIN:STANDARD
TZOFFSETFROM:-0400
TZOFFSETTO:-0500
TZNAME:EST
DTSTART:20251102T060000
END:STANDARD
END:VTIMEZONE
BEGIN:VEVENT
DTSTART;TZID=America/New_York:20251029T160000
DTEND;TZID=America/New_York:20251029T173000
DTSTAMP:20260420T192324
CREATED:20251029T001347Z
LAST-MODIFIED:20251029T001347Z
UID:15056-1761753600-1761759000@www.thegrwdb.org
SUMMARY:NJ TRANSIT Virtual Information Session
DESCRIPTION:NJ TRANSIT is hosting a Virtual Information Session at 4 p.m. Wednesday\, October 29\, to learn about current openings\, future career paths\, and Total Rewards benefits. Speakers will present resume best practices\, share interview tips\, and host a live Q&A to answer general questions. \nUse the registration link in this flyer or go here. \n 
URL:https://www.thegrwdb.org/event/nj-transit-virtual-information-session/
LOCATION:Virtual Event
CATEGORIES:Virtual Information Job Session
END:VEVENT
END:VCALENDAR