BEGIN:VCALENDAR
VERSION:2.0
PRODID:-//Greater Raritan - ECPv6.3.5//NONSGML v1.0//EN
CALSCALE:GREGORIAN
METHOD:PUBLISH
X-WR-CALNAME:Greater Raritan
X-ORIGINAL-URL:https://www.thegrwdb.org
X-WR-CALDESC:Events for Greater Raritan
REFRESH-INTERVAL;VALUE=DURATION:PT1H
X-Robots-Tag:noindex
X-PUBLISHED-TTL:PT1H
BEGIN:VTIMEZONE
TZID:America/New_York
BEGIN:DAYLIGHT
TZOFFSETFROM:-0500
TZOFFSETTO:-0400
TZNAME:EDT
DTSTART:20250309T070000
END:DAYLIGHT
BEGIN:STANDARD
TZOFFSETFROM:-0400
TZOFFSETTO:-0500
TZNAME:EST
DTSTART:20251102T060000
END:STANDARD
END:VTIMEZONE
BEGIN:VEVENT
DTSTART;TZID=America/New_York:20250806T100000
DTEND;TZID=America/New_York:20250806T110000
DTSTAMP:20260420T225219
CREATED:20250805T195814Z
LAST-MODIFIED:20250805T195830Z
UID:14576-1754474400-1754478000@www.thegrwdb.org
SUMMARY:Keystone Roofing and Siding Virtual Recruitment
DESCRIPTION:Keystone Roofing and Siding is hosting a virtual recruitment from 10 to 11 a.m. Wednesday\, August 6. \nThe Howell Township-based company is seeking an Entry Level Marketing Representative who will engage with potential customers\, promote company services\, and contribute to different marketing efforts through various channels. The ability to communicate effectively and build relationships are key to  this position. \nThe salary is $65\,000 to $175\,000 yearly. \nTo register for the recruitment\, go to https://forms.office.com/g/WgrkQjeahF.
URL:https://www.thegrwdb.org/event/keystone-virtual-recruitment/
LOCATION:Virtual Event
CATEGORIES:Virtual Information Job Session
END:VEVENT
BEGIN:VEVENT
DTSTART;TZID=America/New_York:20250821T130000
DTEND;TZID=America/New_York:20250821T140000
DTSTAMP:20260420T225219
CREATED:20250819T164614Z
LAST-MODIFIED:20250819T164634Z
UID:14674-1755781200-1755784800@www.thegrwdb.org
SUMMARY:Amazon Virtual Information Session
DESCRIPTION:Job seekers are invited to attend a Virtual Information Session for Amazon running from 1 to 2 p.m. Thursday\, August 21. \nAttendees will learn about Amazon’s entry-level warehouse positions; the application and hiring process will be reviewed along with growth opportunities\, benefits and workplace culture. \nWhile this is not a hiring event\, it is an opportunity for potential candidates to understand the warehouse work environment and determine if Amazon could be the right fit for them. \nTo register for the session\, use the link in this flyer or go here. \nIn addition\, job seekers get a head start by checking in early and signing up for Amazon Job Alerts at https://amzn.to/4l0nHEU. (Job seekers also can begin creating their profile to streamline the application process.)
URL:https://www.thegrwdb.org/event/amazon-virtual-information-session-3/
LOCATION:Virtual Event
CATEGORIES:Virtual Information Job Session
END:VEVENT
END:VCALENDAR