BEGIN:VCALENDAR
VERSION:2.0
PRODID:-//Greater Raritan - ECPv6.3.5//NONSGML v1.0//EN
CALSCALE:GREGORIAN
METHOD:PUBLISH
X-WR-CALNAME:Greater Raritan
X-ORIGINAL-URL:https://www.thegrwdb.org
X-WR-CALDESC:Events for Greater Raritan
REFRESH-INTERVAL;VALUE=DURATION:PT1H
X-Robots-Tag:noindex
X-PUBLISHED-TTL:PT1H
BEGIN:VTIMEZONE
TZID:America/New_York
BEGIN:DAYLIGHT
TZOFFSETFROM:-0500
TZOFFSETTO:-0400
TZNAME:EDT
DTSTART:20250309T070000
END:DAYLIGHT
BEGIN:STANDARD
TZOFFSETFROM:-0400
TZOFFSETTO:-0500
TZNAME:EST
DTSTART:20251102T060000
END:STANDARD
END:VTIMEZONE
BEGIN:VEVENT
DTSTART;TZID=America/New_York:20250201T120000
DTEND;TZID=America/New_York:20250201T140000
DTSTAMP:20260421T092042
CREATED:20250106T163251Z
LAST-MODIFIED:20250106T163251Z
UID:13098-1738411200-1738418400@www.thegrwdb.org
SUMMARY:Logistics Career Virtual Information Session
DESCRIPTION:Every Saturday from January 11 to February 15\, individuals interested in learning about a career in transportation and logistics can join a virtual information session being offered by Logistic Professionals. \nThe Saturday Zoom sessions\, running from 12 to 2 p.m.\, will offer information on free training and development opportunities\, include import export customer service and Certified Logistic Associate Certification\, along with information about qualifying program eligibility requirements. \nTo enter the meeting\, scan the QR code or use the link in this flyer. For more information\, call 973-536-1007.
URL:https://www.thegrwdb.org/event/logistics-career-virtual-information-session-3/
LOCATION:Zoom
CATEGORIES:Virtual Information Job Session
END:VEVENT
BEGIN:VEVENT
DTSTART;TZID=America/New_York:20250203T100000
DTEND;TZID=America/New_York:20250203T110000
DTSTAMP:20260421T092042
CREATED:20250128T232337Z
LAST-MODIFIED:20250128T232337Z
UID:13233-1738576800-1738580400@www.thegrwdb.org
SUMMARY:Blue Star Carting Virtual Information Seesion
DESCRIPTION:Blue Star Carting in Raritan Borough\, N.J.\, is hiring. Learn want you need to know at a Virtual Information Session on Monday\, February. 3\, at 10 a.m.\, presented the New Jersey Department of Labor and Workforce Development and the Greater Raritan Workforce Development Board. \nThe business is looking for a well-rounded candidate to assist with customer service\, accounting and data entry bookkeeping services. Retirees and\nveterans are welcomed to apply for the 32-hour per week position paying $16.50/hour. \nAttendees will be educated on the open position and will have the opportunity to ask questions and learn the next steps to apply. \nTo register\, use the QR code in this flyer or this link: https://bit.ly/4aumaU4. The event link will be provided upon completion of the RSVP.
URL:https://www.thegrwdb.org/event/blue-star-carting-virtual-information-seesion/
LOCATION:Virtual Event
CATEGORIES:Virtual Information Job Session
END:VEVENT
BEGIN:VEVENT
DTSTART;TZID=America/New_York:20250208T120000
DTEND;TZID=America/New_York:20250208T140000
DTSTAMP:20260421T092042
CREATED:20250106T163344Z
LAST-MODIFIED:20250106T163344Z
UID:13100-1739016000-1739023200@www.thegrwdb.org
SUMMARY:Logistics Career Virtual Information Session
DESCRIPTION:Every Saturday from January 11 to February 15\, individuals interested in learning about a career in transportation and logistics can join a virtual information session being offered by Logistic Professionals. \nThe Saturday Zoom sessions\, running from 12 to 2 p.m.\, will offer information on free training and development opportunities\, include import export customer service and Certified Logistic Associate Certification\, along with information about qualifying program eligibility requirements. \nTo enter the meeting\, scan the QR code or use the link in this flyer. For more information\, call 973-536-1007.
URL:https://www.thegrwdb.org/event/logistics-career-virtual-information-session-4/
LOCATION:Zoom
CATEGORIES:Virtual Information Job Session
END:VEVENT
END:VCALENDAR