BEGIN:VCALENDAR
VERSION:2.0
PRODID:-//Greater Raritan - ECPv6.3.5//NONSGML v1.0//EN
CALSCALE:GREGORIAN
METHOD:PUBLISH
X-WR-CALNAME:Greater Raritan
X-ORIGINAL-URL:https://www.thegrwdb.org
X-WR-CALDESC:Events for Greater Raritan
REFRESH-INTERVAL;VALUE=DURATION:PT1H
X-Robots-Tag:noindex
X-PUBLISHED-TTL:PT1H
BEGIN:VTIMEZONE
TZID:America/New_York
BEGIN:DAYLIGHT
TZOFFSETFROM:-0500
TZOFFSETTO:-0400
TZNAME:EDT
DTSTART:20260308T070000
END:DAYLIGHT
BEGIN:STANDARD
TZOFFSETFROM:-0400
TZOFFSETTO:-0500
TZNAME:EST
DTSTART:20261101T060000
END:STANDARD
END:VTIMEZONE
BEGIN:VEVENT
DTSTART;TZID=America/New_York:20260304T140000
DTEND;TZID=America/New_York:20260304T153000
DTSTAMP:20260420T104021
CREATED:20260220T210342Z
LAST-MODIFIED:20260220T210528Z
UID:16053-1772632800-1772638200@www.thegrwdb.org
SUMMARY:Veterans and Military Spouse Career Fair
DESCRIPTION:A virtual Career Fair for Veterans and Military Spouses will be conducted at 2 p.m. Wednesday\, March4. \nThis event\, presented by Military Spouse Jobs and Vet Jobs\, is designed to connect job seekers directly with employers interested in hiring veterans and military spouses. \nTo register\, use the QR code in this flyer. \nFor more information\, visit www.militaryspousejobs.org or www.vetjobs.org.
URL:https://www.thegrwdb.org/event/veterans-and-military-spouse-career-fair/
LOCATION:Virtual Event
CATEGORIES:Veterans Event
END:VEVENT
END:VCALENDAR