BEGIN:VCALENDAR
VERSION:2.0
PRODID:-//Greater Raritan - ECPv6.3.5//NONSGML v1.0//EN
CALSCALE:GREGORIAN
METHOD:PUBLISH
X-WR-CALNAME:Greater Raritan
X-ORIGINAL-URL:https://www.thegrwdb.org
X-WR-CALDESC:Events for Greater Raritan
REFRESH-INTERVAL;VALUE=DURATION:PT1H
X-Robots-Tag:noindex
X-PUBLISHED-TTL:PT1H
BEGIN:VTIMEZONE
TZID:America/New_York
BEGIN:DAYLIGHT
TZOFFSETFROM:-0500
TZOFFSETTO:-0400
TZNAME:EDT
DTSTART:20190310T070000
END:DAYLIGHT
BEGIN:STANDARD
TZOFFSETFROM:-0400
TZOFFSETTO:-0500
TZNAME:EST
DTSTART:20191103T060000
END:STANDARD
END:VTIMEZONE
BEGIN:VEVENT
DTSTART;TZID=America/New_York:20191106T190000
DTEND;TZID=America/New_York:20191106T210000
DTSTAMP:20260421T132507
CREATED:20191011T191735Z
LAST-MODIFIED:20191017T160606Z
UID:1291-1573066800-1573074000@www.thegrwdb.org
SUMMARY:FREE Career Workshop: 5 Strategies to Defeating Unconscious Bias
DESCRIPTION:Greater Raritan One Stop Career Center Free Career Workshop \nLet’s face it\, everybody has some unconscious bias. This is not in the context of talking about a preference for Mexican food or an inclination toward the color blue. The focus here is on those inflexible beliefs about whole categories of people that keep us from seeing others accurately\, from making fair and appropriate decisions\, and from building the kind of harmonious relationships that make our lives more successful. \nClearly\, biases are bad news. On the other hand\, the good news is that biases do not make us bad people. Human nature is to lump people into categories. Because of this predisposition\, we are vulnerable to unconsciously believing the messages that bombard us from family\, media\, experience\, and society as a whole. But we are not stuck with our unconscious biases; we can defeat them. \nThe “Defeating Unconscious Bias” workshop is designed to address the hidden biases that can affect hiring\, team building and challenges the ability to create inclusivity in both professional and personal settings. A 14 minute video accompanies this training offering 5 simple\, actionable\, and memorable strategies to enhance workplace productivity and innovation by addressing bias. The authenticity and diversity of the scenarios utilized keeps participants attention\, and the solutions suggested support change without blame. \nSpace is limited! To reserve your seat\, please call or email: Elise Prezant (908) 725-7799 Ext. 106\, eprezant@jewishfamilysvc.org
URL:https://www.thegrwdb.org/event/free-career-workshop-5-strategies-to-defeating-unconscious-bias/
LOCATION:Jewish Family Services of Somerset\, Hunterdon and Warren County\, 150-A West High St\, Somerville\, NJ\, 08876\, United States
CATEGORIES:Training
ATTACH;FMTTYPE=image/png:https://www.thegrwdb.org/wp-content/uploads/2019/09/icon-calendar-2.png
ORGANIZER;CN="":MAILTO:aflanagan@co.somerset.nj.us
END:VEVENT
BEGIN:VEVENT
DTSTART;TZID=America/New_York:20191030T190000
DTEND;TZID=America/New_York:20191030T210000
DTSTAMP:20260421T132507
CREATED:20190916T203016Z
LAST-MODIFIED:20190916T203458Z
UID:1163-1572462000-1572469200@www.thegrwdb.org
SUMMARY:FREE Career Workshop: Mastering the Interview
DESCRIPTION:The interview is one of the key elements of the job search process. As with any skill\, we can get better at it with preparation and practice. In this workshop\, participants will explore how to prepare for an interview and become familiar with the types of questions to expect\, as well as the questions they should think about asking. They will learn how to prepare for second interviews\, testing\, and shadowing\, as well as how to follow up on their interview sessions. \nTopics Discussed: \n\nUnderstanding the Interview\nTypes of Questions\nPreparation\nStress Interviews\nFollowing up the Interview\nCommon Problems and Solutions\nPhase Two (after the interview)\nTrick Questions\nSealing the Deal\nGetting What You’re Worth\n\nHow You Will Beneﬁt: \n\nUnderstand the different types of interview questions and how to prepare to answer them.\nLearn the most effective ways to prepare for an interview\, including how to present yourself professionally.\nDevelop expertise at expressing yourself effectively.\nKnow how to ask for feedback following an interview.\nLearn how to answer the toughest interview questions.\n\nVisit: https://www.bernardsvillelibrary.org/\nSeats are limited\, therefore pre-registration is required. \nCall 908-766-0118 or 908-766-6630 to register. \nThis program is in partnership with The Greater Raritan One-Stop Career Center Training Services and the The Greater Raritan Workforce Development Board (GRWDB)
URL:https://www.thegrwdb.org/event/free-career-workshop-mastering-the-interview/
LOCATION:Bernardsville Public Library\, 1 Anderson Hill Road\, Bernardsville\, NJ\, 07924\, United States
CATEGORIES:Training
ATTACH;FMTTYPE=image/png:https://www.thegrwdb.org/wp-content/uploads/2019/09/icon-calendar-1.png
END:VEVENT
BEGIN:VEVENT
DTSTART;TZID=America/New_York:20191025T093000
DTEND;TZID=America/New_York:20191025T120000
DTSTAMP:20260421T132507
CREATED:20191017T162535Z
LAST-MODIFIED:20191017T162905Z
UID:1318-1571995800-1572004800@www.thegrwdb.org
SUMMARY:FREE Career Workshop: Don't Panic! A Recipe for Success in Times of Stress
DESCRIPTION:Greater Raritan One Stop Employment Services Free Career Workshop \n\nDo you ever feel like you’re having a panic attack?\nStressed in your current unemployment situation and out of control?\nWhy do you think people panic when facing a challenging or frightening situation?\nWhy is it important to step back when you’re in the middle of a stressful situation?\nHow does seeing yourself as a lifelong learner and insisting on learning from your mistakes and crises add value to all your life’s experiences?\n\nThere are many ways to physically and mentally reduce the negative effects of stress. Learn from top experts in the ﬁelds of: consulting\, education\, public safety\, government\, and author of “The Time Between Dreams: Successfully Navigating Change and Uncertainty in Life and Work.” \nSeats are limited! Reserve your seat today by calling Rick Peterson at (908) 704-3000
URL:https://www.thegrwdb.org/event/free-career-workshop-dont-panic-a-recipie-for-success-in-times-of-stress/
LOCATION:NJDOL Employment Services\, 75 Veterans Memorial Drive\, Somerville\, NJ\, 08876\, United States
CATEGORIES:Training
ATTACH;FMTTYPE=image/png:https://www.thegrwdb.org/wp-content/uploads/2019/09/icon-calendar-2.png
ORGANIZER;CN="":MAILTO:aflanagan@co.somerset.nj.us
END:VEVENT
BEGIN:VEVENT
DTSTART;TZID=America/New_York:20191023T133000
DTEND;TZID=America/New_York:20191023T153000
DTSTAMP:20260421T132507
CREATED:20191011T195656Z
LAST-MODIFIED:20191011T195718Z
UID:1295-1571837400-1571844600@www.thegrwdb.org
SUMMARY:FREE Career Workshop: Mastering the Job Interview
DESCRIPTION:Greater Raritan One Stop Career Center Free Career Workshop \nRegister at (908) 458-8425 or SCLSNJ.org \nClick here for the event flyer!
URL:https://www.thegrwdb.org/event/free-career-workshop-mastering-the-job-interview/
LOCATION:SCLSNJ’s Manville Library Branch\, 100 S 10th Ave\, Manville\, NJ\, 08835\, United States
CATEGORIES:Training
ATTACH;FMTTYPE=image/png:https://www.thegrwdb.org/wp-content/uploads/2019/09/icon-calendar-2.png
END:VEVENT
BEGIN:VEVENT
DTSTART;TZID=America/New_York:20191011T080000
DTEND;TZID=America/New_York:20191011T170000
DTSTAMP:20260421T132507
CREATED:20191011T203039Z
LAST-MODIFIED:20191011T203054Z
UID:1304-1570780800-1570813200@www.thegrwdb.org
SUMMARY:FREE Career Workshop: Creating a Dynamic Job Portfolio
DESCRIPTION:Greater Raritan One Stop Career Center Free Career Workshop \nThe job market continues to change\, as does the way we look for work. This Workshop examines the value of presenting yourself as a complete package by using a resume as an introduction to an employer and backing it up with a portfolio presented at the interview. \nWhat You Will Cover: \n\nWho Are You?\nWriting the resume\nCreating a noticeable package\nCover letters\nGetting into the ﬂow\nPersonal branding\nReﬁning and perfecting\nTransferable skills\nGetting to a new job\nGoal setting\nLinkedIn\n\nHow You Will Beneﬁt: \n\nLearn how clients need to brand themselves using descriptive language.\nExplore the new normal for essential elements of cover letters and resumes.\nLearn the components of a customized portfolio.\nDesign a personalized portfolio.\nHelp clients develop a plan to move them to a new job.\n\nVisit: https://www.sclibnj.org\nSeats are limited\, therefore pre-registration is required. Call Jennifer Sulligan at (908) 458-8425 to register.
URL:https://www.thegrwdb.org/event/free-career-workshop-creating-a-dynamic-job-portfolio-2/
LOCATION:NJ
CATEGORIES:Training
ATTACH;FMTTYPE=image/png:https://www.thegrwdb.org/wp-content/uploads/2019/09/icon-calendar-2.png
END:VEVENT
BEGIN:VEVENT
DTSTART;TZID=America/New_York:20190926T160000
DTEND;TZID=America/New_York:20190926T170000
DTSTAMP:20260421T132507
CREATED:20190903T190825Z
LAST-MODIFIED:20190903T190825Z
UID:1089-1569513600-1569517200@www.thegrwdb.org
SUMMARY:RVCC Information Sessions/Campus Tour
DESCRIPTION:Learn about all Raritan Valley Community College (RVCC) has to offer by attending an Information Session in August at RVCC’s Branchburg campus. \nIt’s not too late to register for Fall Semester classes beginning August 28 and a 12-week session starting September 11. \nDuring the sessions\, RVCC Admissions specialists will provide information about: \n\nEnrolling in classes for the Fall Semester\nPrograms designed to help students transfer to top colleges and universities in New Jersey\, across the country\, and even in Europe\nCareer training programs\, designed in partnership with local industry\, that can be completed in a year or less\nThe admissions process\nFinancial aid options and scholarship opportunities\n\nTo register for an Information Session\, visit www.raritanval.edu/visit. For additional information\, contact the Admissions Department at 908-526-1200\, ext. 7009 or admissions@raritanval.edu.
URL:https://www.thegrwdb.org/event/rvcc-information-sessions-campus-tour-5/
LOCATION:RVCC Event/Conference Center\, Room 102\, 118 Lamington Rd\, Branchburg\, NJ\, 08876\, United States
CATEGORIES:Training
ATTACH;FMTTYPE=image/png:https://www.thegrwdb.org/wp-content/uploads/2018/08/icon-calendar.png
END:VEVENT
BEGIN:VEVENT
DTSTART;TZID=America/New_York:20190926T100000
DTEND;TZID=America/New_York:20190926T113000
DTSTAMP:20260421T132507
CREATED:20191024T184619Z
LAST-MODIFIED:20191025T152034Z
UID:1377-1569492000-1569497400@www.thegrwdb.org
SUMMARY:GRWDB Disability Committee
DESCRIPTION:Through policy\, oversight\, and planning\, the GRWDB ensures that workforce training and education investments are responsive to and meet the needs of employers and jobseekers and is responsible for maintaining committees to help inform decision-making around services and priorities. One of those includes the GRWDB’s Disability Committee\, which works to coordinate and integrate local disability services with each other and the One-Stop Career Center while seeking ways to expand and integrate local disability resources and services. \nOur introductory meeting will take place on Monday\, August 26\, 2019\, 10:00 am\, at the Raritan Valley Community College Workforce Training Center Room 215\, 118 Lamington Rd\, Branchburg NJ 08876 to learn more about our potential members\, responsibilities and the Board itself. \nPlease find our meeting agenda attached to this invite\, or on our website\, as well as picture of the Workforce Training Center’s location on RVCC’s campus is attached below. \nIn the interim\, please don’t hesitate to reach out with any questions\, comments or concerns and we so look forward to seeing and meeting everyone (in person) this Monday!
URL:https://www.thegrwdb.org/event/greater-raritan-workforce-development-board-disability-committee/
LOCATION:Raritan Valley Community College Workforce Training Center\, Workforce Training Center Conference Room\, 118 Lamington Rd\, Branchburg\, NJ\, 08876\, United States
CATEGORIES:Training
ATTACH;FMTTYPE=image/png:https://www.thegrwdb.org/wp-content/uploads/2019/09/icon-calendar.png
END:VEVENT
BEGIN:VEVENT
DTSTART;TZID=America/New_York:20190925T190000
DTEND;TZID=America/New_York:20190925T210000
DTSTAMP:20260421T132507
CREATED:20190916T203406Z
LAST-MODIFIED:20190916T203406Z
UID:1166-1569438000-1569445200@www.thegrwdb.org
SUMMARY:FREE Career Workshop: Creating A Dynamic Job Portfolio
DESCRIPTION:The job market continues to change\, as does the way we look for work. This Workshop examines the value of presenting yourself as a complete package by using a resume as an introduction to an employer and backing it up with a portfolio presented at the interview. \nWhat You Will Cover: \n\nWho Are You?\nWriting the resume\nCreating a noticeable package\nCover letters\nGetting into the ﬂow\nPersonal branding\nReﬁning and perfecting\nTransferable skills\nGetting to a new job\nGoal setting\nLinkedIn\n\nHow You Will Beneﬁt: \n\nLearn how clients need to brand themselves using descriptive language.\nExplore the new normal for essential elements of cover letters and resumes.\nLearn the components of a customized portfolio.\nDesign a personalized portfolio.\nHelp clients develop a plan to move them to a new job.\n\nVisit: https://www.bernardsvillelibrary.org/\nSeats are limited\, therefore pre-registration is required. Call 908-766-0118 or 908-766-6630 to register. \nThis program is in partnership with The Greater Raritan One-Stop Career Center Training Services and The Greater Raritan Workforce Development Board (GRWDB).
URL:https://www.thegrwdb.org/event/free-career-workshop-creating-a-dynamic-job-portfolio/
LOCATION:Bernardsville Public Library\, 1 Anderson Hill Road\, Bernardsville\, NJ\, 07924\, United States
CATEGORIES:Training
ATTACH;FMTTYPE=image/png:https://www.thegrwdb.org/wp-content/uploads/2019/09/icon-calendar-1.png
END:VEVENT
BEGIN:VEVENT
DTSTART;TZID=America/New_York:20190920T100000
DTEND;TZID=America/New_York:20190920T110000
DTSTAMP:20260421T132507
CREATED:20190903T185647Z
LAST-MODIFIED:20190903T192252Z
UID:1080-1568973600-1568977200@www.thegrwdb.org
SUMMARY:RVCC Information Sessions/Campus Tour
DESCRIPTION:Learn about all Raritan Valley Community College (RVCC) has to offer by attending an Information Session in August at RVCC’s Branchburg campus. \nIt’s not too late to register for Fall Semester classes beginning August 28 and a 12-week session starting September 11. \nDuring the sessions\, RVCC Admissions specialists will provide information about: \n\nEnrolling in classes for the Fall Semester\nPrograms designed to help students transfer to top colleges and universities in New Jersey\, across the country\, and even in Europe\nCareer training programs\, designed in partnership with local industry\, that can be completed in a year or less\nThe admissions process\nFinancial aid options and scholarship opportunities\n\nTo register for an Information Session\, visit www.raritanval.edu/visit. For additional information\, contact the Admissions Department at 908-526-1200\, ext. 7009 or admissions@raritanval.edu.
URL:https://www.thegrwdb.org/event/rvcc-information-sessions-campus-tour-4/
LOCATION:Raritan Valley Community College Atrium\, Lamington Road\, Branchburg\, NJ\, 08876\, United States
CATEGORIES:Training
ATTACH;FMTTYPE=image/png:https://www.thegrwdb.org/wp-content/uploads/2018/08/icon-calendar.png
END:VEVENT
BEGIN:VEVENT
DTSTART;TZID=America/New_York:20190912T160000
DTEND;TZID=America/New_York:20190912T170000
DTSTAMP:20260421T132507
CREATED:20190903T184617Z
LAST-MODIFIED:20190903T192413Z
UID:1069-1568304000-1568307600@www.thegrwdb.org
SUMMARY:RVCC Information Sessions/Campus Tour
DESCRIPTION:Learn about all Raritan Valley Community College (RVCC) has to offer by attending an Information Session in August at RVCC’s Branchburg campus. \nIt’s not too late to register for Fall Semester classes beginning August 28 and a 12-week session starting September 11. \nDuring the sessions\, RVCC Admissions specialists will provide information about: \n\nEnrolling in classes for the Fall Semester\nPrograms designed to help students transfer to top colleges and universities in New Jersey\, across the country\, and even in Europe\nCareer training programs\, designed in partnership with local industry\, that can be completed in a year or less\nThe admissions process\nFinancial aid options and scholarship opportunities\n\nTo register for an Information Session\, visit www.raritanval.edu/visit. For additional information\, contact the Admissions Department at 908-526-1200\, ext. 7009 or admissions@raritanval.edu.
URL:https://www.thegrwdb.org/event/rvcc-information-sessions-campus-tour-3/
LOCATION:RVCC Event/Conference Center\, Room 101\, 118 Lamington Rd\, Branchburg\, NJ\, 08876\, United States
CATEGORIES:Training
ATTACH;FMTTYPE=image/png:https://www.thegrwdb.org/wp-content/uploads/2018/08/icon-calendar.png
END:VEVENT
BEGIN:VEVENT
DTSTART;TZID=America/New_York:20190911T150000
DTEND;TZID=America/New_York:20190911T163000
DTSTAMP:20260421T132507
CREATED:20190903T184427Z
LAST-MODIFIED:20190910T183223Z
UID:1067-1568214000-1568219400@www.thegrwdb.org
SUMMARY:RVCC’s Automotive Technology Information Session
DESCRIPTION:An Information Session for RVCC’s Automotive Technology program will be held Wednesday\, September 11\, from 3-4:30 p.m.\, in the College’s Workforce Training Center. During the event\, prospective students will have an opportunity to learn about the innovative and successful program\, meet with staff and faculty\, and explore the exciting career potential in the field of automotive technology. The Auto Tech program offers Subaru and Fiat Chrysler Automobiles (FCA) manufacturer training. Program graduates attain additional industry credentials from Automotive Service Excellence (ASE)\, Mobile Air Conditioning Society (MACS)\, Snap-On\, and other industry partners to allow students to stand out to potential employers. \nFor additional information about the College’s Automotive Technology program\, visit www.raritanval.edu/autotech or contact Inieka Stafford at inieka.stafford@raritanval.edu. \nTo register for an Information Session\, visit www.raritanval.edu/visit. For additional information\, contact the Admissions Department at 908-526-1200\, ext. 7009 or admissions@raritanval.edu.
URL:https://www.thegrwdb.org/event/rvccs-automotive-technology-information-session-2/
LOCATION:Raritan Valley Community College Workforce Training Center\, Workforce Training Center Conference Room\, 118 Lamington Rd\, Branchburg\, NJ\, 08876\, United States
CATEGORIES:Training
ATTACH;FMTTYPE=image/png:https://www.thegrwdb.org/wp-content/uploads/2018/09/icon-calendar.png
END:VEVENT
BEGIN:VEVENT
DTSTART;TZID=America/New_York:20190909T190000
DTEND;TZID=America/New_York:20190909T200000
DTSTAMP:20260421T132507
CREATED:20190903T184239Z
LAST-MODIFIED:20190903T184239Z
UID:1064-1568055600-1568059200@www.thegrwdb.org
SUMMARY:RVCC Information Session/Campus Tour for Adults
DESCRIPTION:Learn about all Raritan Valley Community College (RVCC) has to offer by attending an Information Session in August at RVCC’s Branchburg campus. \nIt’s not too late to register for Fall Semester classes beginning August 28 and a 12-week session starting September 11. \nDuring the sessions\, RVCC Admissions specialists will provide information about: \n\nEnrolling in classes for the Fall Semester\nPrograms designed to help students transfer to top colleges and universities in New Jersey\, across the country\, and even in Europe\nCareer training programs\, designed in partnership with local industry\, that can be completed in a year or less\nThe admissions process\nFinancial aid options and scholarship opportunities\n\nThe session will also introduce adults to RVCC’s new Fast Track program that makes it possible to earn an Associate Degree in two years by taking classes evenings and online. The session also will focus on transferring college credits\, earning credits for life experience\, and making a successful transition back to school after being away from the classroom for years. \nTo register for an Information Session\, visit www.raritanval.edu/visit. For additional information\, contact the Admissions Department at 908-526-1200\, ext. 7009 or admissions@raritanval.edu.
URL:https://www.thegrwdb.org/event/rvcc-information-session-campus-tour-for-adults/
LOCATION:RVCC Event/Conference Center\, Room 102\, 118 Lamington Rd\, Branchburg\, NJ\, 08876\, United States
CATEGORIES:Training
ATTACH;FMTTYPE=image/png:https://www.thegrwdb.org/wp-content/uploads/2018/08/icon-calendar.png
END:VEVENT
BEGIN:VEVENT
DTSTART;TZID=America/New_York:20190906T100000
DTEND;TZID=America/New_York:20190906T110000
DTSTAMP:20260421T132507
CREATED:20190903T183315Z
LAST-MODIFIED:20190905T201758Z
UID:1058-1567764000-1567767600@www.thegrwdb.org
SUMMARY:RVCC Information Sessions/Campus Tour
DESCRIPTION:Learn about all Raritan Valley Community College (RVCC) has to offer by attending an Information Session in August at RVCC’s Branchburg campus. \nIt’s not too late to register for Fall Semester classes beginning August 28 and a 12-week session starting September 11. \nDuring the sessions\, RVCC Admissions specialists will provide information about: \n\nEnrolling in classes for the Fall Semester\nPrograms designed to help students transfer to top colleges and universities in New Jersey\, across the country\, and even in Europe\nCareer training programs\, designed in partnership with local industry\, that can be completed in a year or less\nThe admissions process\nFinancial aid options and scholarship opportunities\n\nTo register for an Information Session\, visit www.raritanval.edu/visit. For additional information\, contact the Admissions Department at 908-526-1200\, ext. 7009 or admissions@raritanval.edu.
URL:https://www.thegrwdb.org/event/rvcc-information-sessions-campus-tour-2/
LOCATION:RVCC Event/Conference Center\, Room 101\, 118 Lamington Rd\, Branchburg\, NJ\, 08876\, United States
CATEGORIES:Training
ATTACH;FMTTYPE=image/png:https://www.thegrwdb.org/wp-content/uploads/2019/09/icon-calendar-2.png
END:VEVENT
BEGIN:VEVENT
DTSTART;TZID=America/New_York:20190828T100000
DTEND;TZID=America/New_York:20190828T110000
DTSTAMP:20260421T132507
CREATED:20190903T193250Z
LAST-MODIFIED:20190903T193526Z
UID:1105-1566986400-1566990000@www.thegrwdb.org
SUMMARY:RVCC Information Session/Campus Tour
DESCRIPTION:Learn about all Raritan Valley Community College (RVCC) has to offer by attending an Information Session in August at RVCC’s Branchburg campus. The College is offering General Information Sessions and an Adult Information Session\, as well as special sessions for those interested in its Automotive Technology\, Cosmetology and Esthetics (Skin Care) career programs. \nIt’s not too late to register for Fall Semester classes beginning August 28 and a 12-week session starting September 11. \nDuring the sessions\, RVCC Admissions specialists will provide information about: \n\nEnrolling in classes for the Fall Semester\nPrograms designed to help students transfer to top colleges and universities in New Jersey\, across the country\, and even in Europe\nCareer training programs\, designed in partnership with local industry\, that can be completed in a year or less\nThe admissions process\nFinancial aid options and scholarship opportunities\n\nTo register for an Information Session\, visit www.raritanval.edu/visit. For additional information\, contact the Admissions Department at 908-526-1200\, ext. 7009 or admissions@raritanval.edu.
URL:https://www.thegrwdb.org/event/rvcc-information-session-campus-tour/
LOCATION:RVCC Event/Conference Center\, Room 101\, 118 Lamington Rd\, Branchburg\, NJ\, 08876\, United States
CATEGORIES:Training
ATTACH;FMTTYPE=image/png:https://www.thegrwdb.org/wp-content/uploads/2018/08/icon-calendar.png
END:VEVENT
END:VCALENDAR