BEGIN:VCALENDAR
VERSION:2.0
PRODID:-//Greater Raritan - ECPv6.3.5//NONSGML v1.0//EN
CALSCALE:GREGORIAN
METHOD:PUBLISH
X-WR-CALNAME:Greater Raritan
X-ORIGINAL-URL:https://www.thegrwdb.org
X-WR-CALDESC:Events for Greater Raritan
REFRESH-INTERVAL;VALUE=DURATION:PT1H
X-Robots-Tag:noindex
X-PUBLISHED-TTL:PT1H
BEGIN:VTIMEZONE
TZID:America/New_York
BEGIN:DAYLIGHT
TZOFFSETFROM:-0500
TZOFFSETTO:-0400
TZNAME:EDT
DTSTART:20250309T070000
END:DAYLIGHT
BEGIN:STANDARD
TZOFFSETFROM:-0400
TZOFFSETTO:-0500
TZNAME:EST
DTSTART:20251102T060000
END:STANDARD
END:VTIMEZONE
BEGIN:VEVENT
DTSTART;TZID=America/New_York:20250716T110000
DTEND;TZID=America/New_York:20250716T113000
DTSTAMP:20260421T002538
CREATED:20250707T221935Z
LAST-MODIFIED:20250708T232435Z
UID:14403-1752663600-1752665400@www.thegrwdb.org
SUMMARY:GRWDB OPG Manufacturing Program Information Session
DESCRIPTION:The Greater Raritan Workforce Development Board and the New Jersey Manufacturing Extension Program are collaborating on a New Jersey Department of Labor and Workforce Development Opportunity Partnership Grant that provides free online training in manufacturing. \nHunterdon and Somerset County residents are invited to learn more by joining a series of introductory Manufacturing Program Orientations running at 11 a.m. Wednesdays\, from July 16 through August 27. The sessions\, on July 16\, July 23\, July 30\, August 6\, August 13\, August 20 and August 27\, will be conducted virtually via GoToMeeting and in-person at the GRWDB office at 27 Warren St.\, third floor\, Somerville. \nThe GRWDB OPG Program is designed for dislocated workers and underemployed individuals who are interested in starting a new manufacturing career. The program allows eligible participants to get an OSHA-10 certificate in safety standards and receive a certification for Certified Manufacturing Associate in fundamental production know-how. The 12-hour OSHA online class and the 25- to 30-hour online training program from Tooling U-SME introduce basic concepts in the areas needed to begin a successful entry-level manufacturing career. \nThere are 30 slots available. Applicants will work with the OPG Coordinator and the Greater Raritan One-Stop Career Center to complete eligibility documentation\, and instruction will be provided in cohorts directly from an instructor providing the teachings for the credential. \nTo join the session virtually\, go to https://meet.goto.com/337366277 on the day of the event. Interested applicants also can dial in. Call 1 (872) 240-3311; Access Code: 337-366-277. \nFor assistance on joining an orientation session or to get started immediately on the application process\, email OPG Coordinator Anthony Zarro at info@thegrwdb.org\, or call 908-203-6047. \n 
URL:https://www.thegrwdb.org/event/opportunity-partnership-grant-manufacturing-information-session/
LOCATION:GoToMeeting and In Person\, 27 Warren St.\, second-floor conference room\, Somerville\, NJ\, 08876\, United States
CATEGORIES:Training Program Info Session
END:VEVENT
END:VCALENDAR