BEGIN:VCALENDAR
VERSION:2.0
PRODID:-//Greater Raritan - ECPv6.3.5//NONSGML v1.0//EN
CALSCALE:GREGORIAN
METHOD:PUBLISH
X-WR-CALNAME:Greater Raritan
X-ORIGINAL-URL:https://www.thegrwdb.org
X-WR-CALDESC:Events for Greater Raritan
REFRESH-INTERVAL;VALUE=DURATION:PT1H
X-Robots-Tag:noindex
X-PUBLISHED-TTL:PT1H
BEGIN:VTIMEZONE
TZID:America/New_York
BEGIN:DAYLIGHT
TZOFFSETFROM:-0500
TZOFFSETTO:-0400
TZNAME:EDT
DTSTART:20260308T070000
END:DAYLIGHT
BEGIN:STANDARD
TZOFFSETFROM:-0400
TZOFFSETTO:-0500
TZNAME:EST
DTSTART:20261101T060000
END:STANDARD
END:VTIMEZONE
BEGIN:VEVENT
DTSTART;TZID=America/New_York:20260421T123000
DTEND;TZID=America/New_York:20260421T133000
DTSTAMP:20260421T013132
CREATED:20260413T193706Z
LAST-MODIFIED:20260413T194104Z
UID:16434-1776774600-1776778200@www.thegrwdb.org
SUMMARY:Victory Home Remodeling Hiring Event
DESCRIPTION:Victory Home Remodeling is hosting a Hiring Event from 12:30 to 1:30 p.m. Tuesday\, April 21\, in Room 215 of Raritan Valley Community College’s Workforce Training Center\, Lamington Road\, Branchburg. \nAttendees are asked to bring their resumes and questions. \nThe fast-growing company offers a comprehensive medical plan\, a 401 savings plan\, paid vacation and a $70\,000 to $90\,000 first-year salary range for entry level sales professionals (base plus commission/bonuses). \nTo register\, use the QR code in this flyer.
URL:https://www.thegrwdb.org/event/victory-home-remodeling-hiring-event/
LOCATION:Raritan Valley Community College Workforce Training Center\, 118 Lamington Road\, Branchburg\, NJ\, 08876\, United States
CATEGORIES:Recruitment Event
END:VEVENT
END:VCALENDAR