BEGIN:VCALENDAR
VERSION:2.0
PRODID:-//Greater Raritan - ECPv6.3.5//NONSGML v1.0//EN
CALSCALE:GREGORIAN
METHOD:PUBLISH
X-WR-CALNAME:Greater Raritan
X-ORIGINAL-URL:https://www.thegrwdb.org
X-WR-CALDESC:Events for Greater Raritan
REFRESH-INTERVAL;VALUE=DURATION:PT1H
X-Robots-Tag:noindex
X-PUBLISHED-TTL:PT1H
BEGIN:VTIMEZONE
TZID:America/New_York
BEGIN:DAYLIGHT
TZOFFSETFROM:-0500
TZOFFSETTO:-0400
TZNAME:EDT
DTSTART:20260308T070000
END:DAYLIGHT
BEGIN:STANDARD
TZOFFSETFROM:-0400
TZOFFSETTO:-0500
TZNAME:EST
DTSTART:20261101T060000
END:STANDARD
END:VTIMEZONE
BEGIN:VEVENT
DTSTART;VALUE=DATE:20260205
DTEND;VALUE=DATE:20260206
DTSTAMP:20260420T123540
CREATED:20260123T231603Z
LAST-MODIFIED:20260123T232909Z
UID:15812-1770249600-1770335999@www.thegrwdb.org
SUMMARY:Alternatives Inc. Open House and Info Session Day
DESCRIPTION:Alternatives Inc. is hosting an Open House and Information Session Day on Thursday\, February 5\, at its headquarters at 600 First Ave.\, Raritan Borough. Individuals interested in the human services field are invited to attend one of three sessions that will begin at 10 a.m.\, 12 p.m. and 2 p.m. \nOn-the-spot interviews will be conducted following each session. The agency has immediate openings in a variety of roles — including Direct Support Professional\, Registered Behavior Technician\, and Behavior Technician — and schedules as it prepares to open its newest Group Home in Hillsborough. No experience is required for some roles\, and the agency provides paid training and growth opportunities. There is also currently an open opportunity for an RN. \nAll attendees must complete an online application (available here) prior to attending a session. Those unable to attend the February 5 event may apply online. \n 
URL:https://www.thegrwdb.org/event/alternatives-open-house-and-info-session-day/
LOCATION:Alternatives Inc.\, 600 First Ave.\, Raritan\, NJ\, United States
CATEGORIES:Recruitment Event
END:VEVENT
END:VCALENDAR