BEGIN:VCALENDAR
VERSION:2.0
PRODID:-//Greater Raritan - ECPv6.3.5//NONSGML v1.0//EN
CALSCALE:GREGORIAN
METHOD:PUBLISH
X-WR-CALNAME:Greater Raritan
X-ORIGINAL-URL:https://www.thegrwdb.org
X-WR-CALDESC:Events for Greater Raritan
REFRESH-INTERVAL;VALUE=DURATION:PT1H
X-Robots-Tag:noindex
X-PUBLISHED-TTL:PT1H
BEGIN:VTIMEZONE
TZID:America/New_York
BEGIN:DAYLIGHT
TZOFFSETFROM:-0500
TZOFFSETTO:-0400
TZNAME:EDT
DTSTART:20260308T070000
END:DAYLIGHT
BEGIN:STANDARD
TZOFFSETFROM:-0400
TZOFFSETTO:-0500
TZNAME:EST
DTSTART:20261101T060000
END:STANDARD
END:VTIMEZONE
BEGIN:VEVENT
DTSTART;TZID=America/New_York:20260129T100000
DTEND;TZID=America/New_York:20260129T120000
DTSTAMP:20260420T121723
CREATED:20251212T223148Z
LAST-MODIFIED:20260122T231549Z
UID:15504-1769680800-1769688000@www.thegrwdb.org
SUMMARY:Multi-Employer Inclusive Hiring Recruitment Event in Somerville
DESCRIPTION:Employers in Somerset and Hunterdon counties are hiring. Learn more at an in-person Multi-Employer Inclusive Hiring Recruitment Event presented by the New Jersey Department of Labor and Workforce Development and the Greater Raritan Workforce Development Board on Thursday\, January 29\, 2026\, from 10 a.m. to 12 p.m. The event will be conducted in the first-floor conference room at 27 Warren St.\, Somerville. \nThis event\, while open to all job seekers\, is focused on job seekers with diverse abilities. Event co-sponsors include the New Jersey Division of Vocational Rehabilitation Services and the New Jersey Commission for the Blind and Visually Impaired. \nThe employers scheduled to be in attendance are: Archangels Services\, Bridgewater Marriott\, FedEx Corp.\, Hackensack Meridian Health\, Krapf School Bus\, Montauk Transit\, Ned Stevens LLC\, Saint Peter’s University Hospital\, Sherwin-Williams\, Summit Health Care Trident Maritime Systems\, United Sanitizing LLC\, and the United States Postal Service.  \nEmployers will be available for informational discussions\, and some employers will be doing on-site interviews. To register\, go to https://bit.ly/3MP3lTK or the QR code in this flyer. Registration is appreciated but not mandatory\, unless a job seeker wants to be considered for an interview by some of the participating employers. Job seekers are asked to email resumes within 24 hours of registration; resumes will be accepted until January 16. The registration form includes an updated list of employers\, and instructions for interview and resume sharing will accompany registration confirmation. Walk-ins are welcome. \nFor questions about the January 29 recruitment event\, email info@thegrwdb.org.
URL:https://www.thegrwdb.org/event/multi-employer-recruitment-event-in-somerville/
LOCATION:27 Warren St\, first floor\, Somerville\, NJ 08876\, 27 Warren St.\, first floor\, Somerville\, NJ\, 08876\, United States
CATEGORIES:Recruitment Event
END:VEVENT
BEGIN:VEVENT
DTSTART;TZID=America/New_York:20260129T113000
DTEND;TZID=America/New_York:20260129T133000
DTSTAMP:20260420T121723
CREATED:20260120T235559Z
LAST-MODIFIED:20260120T235809Z
UID:15777-1769686200-1769693400@www.thegrwdb.org
SUMMARY:Virtual Hiring Event for Hackensack Meridian Health Carrier Clinic
DESCRIPTION:Hackensack Meridian Health Carrier Clinic\, in the Belle Mead section of Montgomery\, is hiring. Find out everything you need to know at Virtual Food Services and Housekeeping Hiring Event being conducted on Thursday\, January 29\, from 11:30 a.m. to 1:30 p.m. \nThe employer will present an overview of Hackensack Meridian Health\, and details about open Hospitality roles\, in Food and Nutrition Servies and Environmental Service Aides. Hiring managers also will talk about team member benefits\, including health insurance. A \nTo register\, use this QR code in this flyer. \nFor questions\, email EarlyCareers@hmhn.org.
URL:https://www.thegrwdb.org/event/virtual-information-session-for-hackensack-meridian-health-carrier-clinic-2/
LOCATION:Virtual Event
CATEGORIES:Recruitment Event
END:VEVENT
END:VCALENDAR