BEGIN:VCALENDAR
VERSION:2.0
PRODID:-//Greater Raritan - ECPv6.3.5//NONSGML v1.0//EN
CALSCALE:GREGORIAN
METHOD:PUBLISH
X-ORIGINAL-URL:https://www.thegrwdb.org
X-WR-CALDESC:Events for Greater Raritan
REFRESH-INTERVAL;VALUE=DURATION:PT1H
X-Robots-Tag:noindex
X-PUBLISHED-TTL:PT1H
BEGIN:VTIMEZONE
TZID:America/New_York
BEGIN:DAYLIGHT
TZOFFSETFROM:-0500
TZOFFSETTO:-0400
TZNAME:EDT
DTSTART:20250309T070000
END:DAYLIGHT
BEGIN:STANDARD
TZOFFSETFROM:-0400
TZOFFSETTO:-0500
TZNAME:EST
DTSTART:20251102T060000
END:STANDARD
END:VTIMEZONE
BEGIN:VEVENT
DTSTART;TZID=America/New_York:20251031T140000
DTEND;TZID=America/New_York:20251031T170000
DTSTAMP:20260420T180317
CREATED:20251025T201507Z
LAST-MODIFIED:20251025T201558Z
UID:15037-1761919200-1761930000@www.thegrwdb.org
SUMMARY:Bridgewater Best Buy Holiday Hiring Event
DESCRIPTION:The Best Buy at 300 Commons Way\, Bridgewater\, is hosting a Holiday Hiring Event from 2 to 5 p.m. Friday\, October 31\, at the store. \nCurrent job openings are Retail Sales Associate and Retail Warehouse Associate. \nInterested job seekers are asked to bring an updated resume and dress in the business-casual style. \nJob seekers also may apply for a position now using the QR codes in this flyer. and following all instructions.
URL:https://www.thegrwdb.org/event/bridgewater-best-buy-holiday-hiring-event/
LOCATION:Best Buy\, 300 Commons Way\, Bridgewater\, NJ\, 08807\, United States
CATEGORIES:Recruitment Event
END:VEVENT
END:VCALENDAR