BEGIN:VCALENDAR
VERSION:2.0
PRODID:-//Greater Raritan - ECPv6.3.5//NONSGML v1.0//EN
CALSCALE:GREGORIAN
METHOD:PUBLISH
X-ORIGINAL-URL:https://www.thegrwdb.org
X-WR-CALDESC:Events for Greater Raritan
REFRESH-INTERVAL;VALUE=DURATION:PT1H
X-Robots-Tag:noindex
X-PUBLISHED-TTL:PT1H
BEGIN:VTIMEZONE
TZID:America/New_York
BEGIN:DAYLIGHT
TZOFFSETFROM:-0500
TZOFFSETTO:-0400
TZNAME:EDT
DTSTART:20250309T070000
END:DAYLIGHT
BEGIN:STANDARD
TZOFFSETFROM:-0400
TZOFFSETTO:-0500
TZNAME:EST
DTSTART:20251102T060000
END:STANDARD
END:VTIMEZONE
BEGIN:VEVENT
DTSTART;TZID=America/New_York:20250917T130000
DTEND;TZID=America/New_York:20250917T160000
DTSTAMP:20260420T213728
CREATED:20250829T233559Z
LAST-MODIFIED:20250829T233712Z
UID:14807-1758114000-1758124800@www.thegrwdb.org
SUMMARY:Carrier Clinic Hospitality Hiring Event
DESCRIPTION:The Hackensack Meridian Carrier Behavioral Health Clinic at 252 County Road 601\, Belle Mead\, is hosting a Hospitality Hiring Event from to 1 to 4 p.m. Wednesday\, September 17\, 2025. \nPositions include Food and Nutrition; Environmental Services\, Access Services and Admission. Free on-the-job training is available and there is a $1\,000 sign-on bonus for some roles. \nTo register or click on the link in this flyer. \nFor more information\, visit www.teamhmh.com.
URL:https://www.thegrwdb.org/event/carrier-clinic-hospitality-hiring-event-2/
LOCATION:Hackensack  Meridian Carrier Clinic\, 252 County Road 601\, Belle Mead\, NJ\, 08502\, United States
CATEGORIES:Recruitment Event
END:VEVENT
END:VCALENDAR