BEGIN:VCALENDAR
VERSION:2.0
PRODID:-//Greater Raritan - ECPv6.3.5//NONSGML v1.0//EN
CALSCALE:GREGORIAN
METHOD:PUBLISH
X-ORIGINAL-URL:https://www.thegrwdb.org
X-WR-CALDESC:Events for Greater Raritan
REFRESH-INTERVAL;VALUE=DURATION:PT1H
X-Robots-Tag:noindex
X-PUBLISHED-TTL:PT1H
BEGIN:VTIMEZONE
TZID:America/New_York
BEGIN:DAYLIGHT
TZOFFSETFROM:-0500
TZOFFSETTO:-0400
TZNAME:EDT
DTSTART:20250309T070000
END:DAYLIGHT
BEGIN:STANDARD
TZOFFSETFROM:-0400
TZOFFSETTO:-0500
TZNAME:EST
DTSTART:20251102T060000
END:STANDARD
END:VTIMEZONE
BEGIN:VEVENT
DTSTART;TZID=America/New_York:20250716T140000
DTEND;TZID=America/New_York:20250716T170000
DTSTAMP:20260421T012030
CREATED:20250708T230257Z
LAST-MODIFIED:20250708T230802Z
UID:14417-1752674400-1752685200@www.thegrwdb.org
SUMMARY:Carrier Clinic Hospitality Hiring Event
DESCRIPTION:The Hackensack Meridian Carrier Behavioral Health Clinic at 252 County Road 601\, Belle Mead\, is hosting a Hospitality Hiring Event from to 2 to 5 p.m. Wednesday\, July 16. \nPositions include: Food Service; EVS/Housekeeping; and Patient Access. Free on-the-job training is available and there is a $1\,000 sign-on bonus for some roles. \nGo here to register or click on the link in this flyer. \n 
URL:https://www.thegrwdb.org/event/carrier-clinic-hospitality-hiring-event/
LOCATION:Hackensack  Meridian Carrier Clinic\, 252 County Road 601\, Belle Mead\, NJ\, 08502\, United States
CATEGORIES:Recruitment Event
END:VEVENT
END:VCALENDAR