BEGIN:VCALENDAR
VERSION:2.0
PRODID:-//Greater Raritan - ECPv6.3.5//NONSGML v1.0//EN
CALSCALE:GREGORIAN
METHOD:PUBLISH
X-ORIGINAL-URL:https://www.thegrwdb.org
X-WR-CALDESC:Events for Greater Raritan
REFRESH-INTERVAL;VALUE=DURATION:PT1H
X-Robots-Tag:noindex
X-PUBLISHED-TTL:PT1H
BEGIN:VTIMEZONE
TZID:America/New_York
BEGIN:DAYLIGHT
TZOFFSETFROM:-0500
TZOFFSETTO:-0400
TZNAME:EDT
DTSTART:20250309T070000
END:DAYLIGHT
BEGIN:STANDARD
TZOFFSETFROM:-0400
TZOFFSETTO:-0500
TZNAME:EST
DTSTART:20251102T060000
END:STANDARD
END:VTIMEZONE
BEGIN:VEVENT
DTSTART;TZID=America/New_York:20250709T100000
DTEND;TZID=America/New_York:20250709T120000
DTSTAMP:20260421T012059
CREATED:20250703T222608Z
LAST-MODIFIED:20250703T222841Z
UID:14395-1752055200-1752062400@www.thegrwdb.org
SUMMARY:Right at Home Recruitment Event
DESCRIPTION:The New Jersey Department of Labor and Workforce Development and the Greater Raritan Workforce Development Board are presenting an in-person Recruitment Event from 10 a.m. to 12 p.m. Wednesday\, July 9\, for the Hillsborough-based Right at Home\, which has positions available throughout Somerset and Hunterdon Counties. \nThe agency is seeking to fill the following positions: N.J. Certified Home Health Aide (full- and part-time)\, Home Care Nurse Supervisor\, and Companion Caregivers. \nThis in-person event\, open to all job seekers\, will be conducted at the Greater Raritan One-Stop Career Center\, 75 Veterans Memorial Drive E.\, Conference Room B\, Somerville. \nAttendees will get details about the benefits offered by the company\, including flexible schedules\, competitive pay\, and different benefits. Details on the agency’s HHA Training School in Hillsborough offering online and in-person courses to eligible candidates also will be shared. \nTo register\, use the QR code in this flyer or go to https://bit.ly/4kLCNid. \n  \n  \n 
URL:https://www.thegrwdb.org/event/right-at-home-recruitment-event/
LOCATION:Somerville One-Stop Career Center\, 75 Veterans Memorial Drive East\, Somerville\, NJ\, 08876\, United States
CATEGORIES:Recruitment Event
END:VEVENT
END:VCALENDAR