BEGIN:VCALENDAR
VERSION:2.0
PRODID:-//Greater Raritan - ECPv6.3.5//NONSGML v1.0//EN
CALSCALE:GREGORIAN
METHOD:PUBLISH
X-ORIGINAL-URL:https://www.thegrwdb.org
X-WR-CALDESC:Events for Greater Raritan
REFRESH-INTERVAL;VALUE=DURATION:PT1H
X-Robots-Tag:noindex
X-PUBLISHED-TTL:PT1H
BEGIN:VTIMEZONE
TZID:America/New_York
BEGIN:DAYLIGHT
TZOFFSETFROM:-0500
TZOFFSETTO:-0400
TZNAME:EDT
DTSTART:20250309T070000
END:DAYLIGHT
BEGIN:STANDARD
TZOFFSETFROM:-0400
TZOFFSETTO:-0500
TZNAME:EST
DTSTART:20251102T060000
END:STANDARD
END:VTIMEZONE
BEGIN:VEVENT
DTSTART;TZID=America/New_York:20250508T110000
DTEND;TZID=America/New_York:20250508T140000
DTSTAMP:20260421T051615
CREATED:20250430T204650Z
LAST-MODIFIED:20250430T204948Z
UID:14013-1746702000-1746712800@www.thegrwdb.org
SUMMARY:Hackensack Meridian Carrier Clinic Hiring Event
DESCRIPTION:Carrier Clinic\, a Hackensack Meridian Health Behavioral Health Facility at 252 County Road 601 in the Belle Mead section of Montgomery\, is conducting a Hiring Event from 11 a.m. to 2 p.m. Thursday\, May 8. \nNumerous roles\, including RNs and LPNS\, youth residential technician\, admissions specialist\, mental health technician\, receptionist\, food service/dietary aide and housekeeping\, are open\, and part-time\, weekend\, evening\, and night shifts are available. Attendees will be able to engage with hiring managers\, learn about the facility’s innovative programs\, and discover how they can make a meaningful impact on the health and well-being of the local communities. \nHealth coverage begins on the first day of employment and various benefits are available\, including 401K\, paid time off and tuition reimbursement. \nThis in-person event\, and on-the-spot interviews will be conducted. \nTo register\, use the QR code in this flyer.
URL:https://www.thegrwdb.org/event/hackensack-meridian-carrier-clinic-hiring-event-4/
LOCATION:Hackensack  Meridian Carrier Clinic\, 252 County Road 601\, Belle Mead\, NJ\, 08502\, United States
CATEGORIES:Recruitment Event
END:VEVENT
END:VCALENDAR