BEGIN:VCALENDAR
VERSION:2.0
PRODID:-//Greater Raritan - ECPv6.3.5//NONSGML v1.0//EN
CALSCALE:GREGORIAN
METHOD:PUBLISH
X-WR-CALNAME:Greater Raritan
X-ORIGINAL-URL:https://www.thegrwdb.org
X-WR-CALDESC:Events for Greater Raritan
REFRESH-INTERVAL;VALUE=DURATION:PT1H
X-Robots-Tag:noindex
X-PUBLISHED-TTL:PT1H
BEGIN:VTIMEZONE
TZID:America/New_York
BEGIN:DAYLIGHT
TZOFFSETFROM:-0500
TZOFFSETTO:-0400
TZNAME:EDT
DTSTART:20260308T070000
END:DAYLIGHT
BEGIN:STANDARD
TZOFFSETFROM:-0400
TZOFFSETTO:-0500
TZNAME:EST
DTSTART:20261101T060000
END:STANDARD
END:VTIMEZONE
BEGIN:VEVENT
DTSTART;TZID=America/New_York:20260311T080000
DTEND;TZID=America/New_York:20260311T180000
DTSTAMP:20260420T090007
CREATED:20260224T174409Z
LAST-MODIFIED:20260224T183402Z
UID:16065-1773216000-1773252000@www.thegrwdb.org
SUMMARY:Atlantic Health Hiring Event at MetLife Stadium
DESCRIPTION:Atlantic Health is hosting a system-wide Hiring Event at MetLife Stadium from 8 a.m. to 6 p.m. Wednesday\, March 11. \nThe organization is hiring for range of roles — clinical\, allied health\, support services\, administrative\, corporate\, and more. \nParticipants will meet recruiters and leaders\, learn about opportunities throughout Atlantic Health’s facilities\, and discover what a career with Atlantic Health has to offer. \nTo register\, go here. For more information\, visit https://ahs.atlantichealth.org/careers.
URL:https://www.thegrwdb.org/event/atlantic-health-hiring-event-at-metlife-stadium/
LOCATION:MetLife Stadium\, 1 MetLife Stadium Dirve\, East Rutherford\, NJ\, 07073\, United States
CATEGORIES:Recruitment Event
END:VEVENT
BEGIN:VEVENT
DTSTART;TZID=America/New_York:20260325T100000
DTEND;TZID=America/New_York:20260325T130000
DTSTAMP:20260420T090007
CREATED:20260316T190903Z
LAST-MODIFIED:20260316T191101Z
UID:16212-1774432800-1774443600@www.thegrwdb.org
SUMMARY:Center for Educational Advancement (CEA) Recruitment Event in Somerville
DESCRIPTION:The Center for Educational Advancement (CEA) is hiring. Learn more at an in-person Recruitment Event being conducted from 10 a.m. to1 p.m. Wednesday\, March 25\, at the Greater Raritan One-Stop Career Center\, 75 Veterans Memorial Drive E.\, Conference Room B\, Somerville. \nThe CEA\, based in Flemington and providing services regionally\, facilitates career pathways and community employment for students and adults with disabilities. The agency is hiring for Employment Specialist\, Paraprofessional and CDL Driver positions. \nThe Recruitment Event will include a brief information session about agency positions and benefits followed by one-on-one interviews. Refreshments will be provided. \nTo register\, use the QR code in this flyer or this link: https://bit.ly/3PqtVUh. This event is presented by the N.J. Department of Labor and Workforce Development and the Greater Raritan Workforce Development Board.
URL:https://www.thegrwdb.org/event/center-for-educational-advancement-cea-recruitment-event-in-somerville/
LOCATION:Somerville One-Stop Career Center\, 75 Veterans Memorial Drive East\, Somerville\, NJ\, 08876\, United States
CATEGORIES:Recruitment Event
END:VEVENT
END:VCALENDAR