BEGIN:VCALENDAR
VERSION:2.0
PRODID:-//Greater Raritan - ECPv6.3.5//NONSGML v1.0//EN
CALSCALE:GREGORIAN
METHOD:PUBLISH
X-ORIGINAL-URL:https://www.thegrwdb.org
X-WR-CALDESC:Events for Greater Raritan
REFRESH-INTERVAL;VALUE=DURATION:PT1H
X-Robots-Tag:noindex
X-PUBLISHED-TTL:PT1H
BEGIN:VTIMEZONE
TZID:America/New_York
BEGIN:DAYLIGHT
TZOFFSETFROM:-0500
TZOFFSETTO:-0400
TZNAME:EDT
DTSTART:20250309T070000
END:DAYLIGHT
BEGIN:STANDARD
TZOFFSETFROM:-0400
TZOFFSETTO:-0500
TZNAME:EST
DTSTART:20251102T060000
END:STANDARD
END:VTIMEZONE
BEGIN:VEVENT
DTSTART;TZID=America/New_York:20250410T120000
DTEND;TZID=America/New_York:20250410T150000
DTSTAMP:20260421T045358
CREATED:20250331T172917Z
LAST-MODIFIED:20250331T201117Z
UID:13794-1744286400-1744297200@www.thegrwdb.org
SUMMARY:Hackensack Meridian Carrier Clinic Hiring Event
DESCRIPTION:Carrier Clinic\, a Hackensack Meridian Health Behavioral Health Facility at 252 County Road 601 in the Belle Mead section of Montgomery\, is conducting a Hiring Event from 12 to 3 p.m. Thursday\, April 10. \nNumerous roles\, ranging from nursing leaders\, RNs and LPNS to housekeeping and food services\, are open\, and part-time\, weekend\, evening\, and night shifts are available. Attendees will be able to engage with hiring managers\, learn about the facility’s innovative programs\, and discover how they can make a meaningful impact on the health and well-being of the local communities. \nHealth coverage begins on the first day of employment and various benefits are available\, including differentials and tuition reimbursement. \nThis in-person event\, and on-the-spot interviews will be conducted. \nTo register\, use the QR code in this flyer.
URL:https://www.thegrwdb.org/event/hackensack-meridian-carrier-clinic-hiring-event-3/
LOCATION:Hackensack  Meridian Carrier Clinic\, 252 County Road 601\, Belle Mead\, NJ\, 08502\, United States
CATEGORIES:Recruitment Event
END:VEVENT
BEGIN:VEVENT
DTSTART;TZID=America/New_York:20250422T100000
DTEND;TZID=America/New_York:20250422T120000
DTSTAMP:20260421T045358
CREATED:20250408T231539Z
LAST-MODIFIED:20250408T232812Z
UID:13829-1745316000-1745323200@www.thegrwdb.org
SUMMARY:Circle of Strength Recruitment Event
DESCRIPTION:Circle of Strength is hiring for positions located throughout the state. Learn more during an in-person Recruitment Event being conducted from 10 a.m. to 2 p.m. Tuesday\, April 22\, in the Greater Raritan One-Stop Career Center\, 75 Memorial Drive East\, Room B\, Somerville. \nThe company is looking to fill part-time and full-time Direct Support Professional and Home Healthcare positions\, located throughout the state. Incumbents will help those with physical and/or cognitive disabilities have a more rewarding life. The flexible positions (all shifts) are in the patients’ homes and pay $21 to $25-plus an hour (depending upon experience). \nDuring the event\, attendees will be educated on the opportunity and will be able to ask questions and learn how to apply. \nTo register\, use the QR code in this flyer or this link: https://bit.ly/3G05QiI. A confirmation email will be sent upon completion of the RSVP. \nThis Recruitment Event is presented by the New Jersey Department of Labor and Workforce Development and the Greater Raritan Workforce Development Board.
URL:https://www.thegrwdb.org/event/circle-of-strength-recruitment-event/
LOCATION:Somerville One-Stop Career Center\, 75 Veterans Memorial Drive East\, Somerville\, NJ\, 08876\, United States
CATEGORIES:Recruitment Event
END:VEVENT
END:VCALENDAR