BEGIN:VCALENDAR
VERSION:2.0
PRODID:-//Greater Raritan - ECPv6.3.5//NONSGML v1.0//EN
CALSCALE:GREGORIAN
METHOD:PUBLISH
X-WR-CALNAME:Greater Raritan
X-ORIGINAL-URL:https://www.thegrwdb.org
X-WR-CALDESC:Events for Greater Raritan
REFRESH-INTERVAL;VALUE=DURATION:PT1H
X-Robots-Tag:noindex
X-PUBLISHED-TTL:PT1H
BEGIN:VTIMEZONE
TZID:America/New_York
BEGIN:DAYLIGHT
TZOFFSETFROM:-0500
TZOFFSETTO:-0400
TZNAME:EDT
DTSTART:20240310T070000
END:DAYLIGHT
BEGIN:STANDARD
TZOFFSETFROM:-0400
TZOFFSETTO:-0500
TZNAME:EST
DTSTART:20241103T060000
END:STANDARD
END:VTIMEZONE
BEGIN:VEVENT
DTSTART;TZID=America/New_York:20241107T100000
DTEND;TZID=America/New_York:20241107T130000
DTSTAMP:20260421T124838
CREATED:20241015T193545Z
LAST-MODIFIED:20241015T193545Z
UID:12443-1730973600-1730984400@www.thegrwdb.org
SUMMARY:Getinge’s Second Annual Veterans Networking Celebration
DESCRIPTION:Getinge’s Second Annual Veterans Networking Celebration event will be conducted on Thursday\, November 7\, from 10 a.m. to 1 p.m. at the Getinge Experience Center Wayne at 45 Barbour Pond Road in Wayne. Doors open at 9:30 a.m. \nAttendees will learn how Getinge supports healthcare systems and professionals around the world in providing the best possible outcomes for their patients. As part of event\, sales and service leaders wil talk about how Getinge collaborates with medical and biotechnology facilities worldwide. The celebration will include a guided tour of Getinge’s Experience Center\, and there also will be a panel discussion with Getinge professionals – who are also veterans – as they provide insight on how they shifted from a career in the military to a career in med tech. Questions are encouraged! \nIn addition\, a Resume Workshop will be conducted during a coffee break where their hiring team will give tips for resume building. \nAvailable jobs from this medical equipment manufacturer are posted on their website and are in various departments such as legal\, manufacturing\, finance\, sales\, HR\, Q/A\, and R&D. \nThe event is free\, but registration is required. To register\, go here.
URL:https://www.thegrwdb.org/event/getinges-second-annual-veterans-networking-celebration/
LOCATION:Getinge Experience Center\, 45 Barbour Pond Road\, Wayne\, NJ\, 07470\, United States
CATEGORIES:Recruitment Event
END:VEVENT
BEGIN:VEVENT
DTSTART;TZID=America/New_York:20241121T133000
DTEND;TZID=America/New_York:20241121T160000
DTSTAMP:20260421T124838
CREATED:20241120T220300Z
LAST-MODIFIED:20241120T220555Z
UID:12610-1732195800-1732204800@www.thegrwdb.org
SUMMARY:Trident Maritime Systems Job Fair
DESCRIPTION:Trident Maritime Systems is hosting an in-house Job Fair on Thursday\, November 21\, from 1:30 to 4 p.m. at 3 Washington Ave.\, High Bridge. \nThe company is looking to connect with talented individuals in the manufacturing industry. More details are available here. \nInterested candidates can register here and walk-ins are welcomed: https://forms.office.com/g/d7AVLwPN7e.
URL:https://www.thegrwdb.org/event/trident-maritime-systems-job-fair/
LOCATION:Trident Marine Systems\, 3 Washington Ave.\, High Bridge\, NJ\, 08829\, United States
CATEGORIES:Recruitment Event
END:VEVENT
END:VCALENDAR