BEGIN:VCALENDAR
VERSION:2.0
PRODID:-//Greater Raritan - ECPv6.3.5//NONSGML v1.0//EN
CALSCALE:GREGORIAN
METHOD:PUBLISH
X-ORIGINAL-URL:https://www.thegrwdb.org
X-WR-CALDESC:Events for Greater Raritan
REFRESH-INTERVAL;VALUE=DURATION:PT1H
X-Robots-Tag:noindex
X-PUBLISHED-TTL:PT1H
BEGIN:VTIMEZONE
TZID:America/New_York
BEGIN:DAYLIGHT
TZOFFSETFROM:-0500
TZOFFSETTO:-0400
TZNAME:EDT
DTSTART:20260308T070000
END:DAYLIGHT
BEGIN:STANDARD
TZOFFSETFROM:-0400
TZOFFSETTO:-0500
TZNAME:EST
DTSTART:20261101T060000
END:STANDARD
END:VTIMEZONE
BEGIN:VEVENT
DTSTART;TZID=America/New_York:20260425T100000
DTEND;TZID=America/New_York:20260425T130000
DTSTAMP:20260419T181949
CREATED:20260226T231036Z
LAST-MODIFIED:20260305T230117Z
UID:16097-1777111200-1777122000@www.thegrwdb.org
SUMMARY:Somerset County Aging and Disability Expo
DESCRIPTION:The Somerset County Aging and Disability Expo will be conducted from 10 a.m. to 1 p.m. Saturday\, April 25\, at Bridgewater Senior Wellness Center 876 East Main St.\, Bridgewater NJ 08807. \nThe event will include educational discussions\, interactive demonstrations\, and preventative healthcare screenings aiming to provide essential tools to help older adults (60+) and individuals with physical disabilities (18+) and caregivers connect to local resources. Transportation can be provided upon request. \nAttendees can register here. \nVendor registration is available here. \nThere is no fee for vendors or attendees to take part in the county-sponsored event.
URL:https://www.thegrwdb.org/event/somerset-county-aging-and-disability-expo/
LOCATION:Somerset County Senior Wellness Center\, 876 E. Main St.\, Bridgewater\, NJ\, 08807\, United States
CATEGORIES:Community Event
END:VEVENT
END:VCALENDAR