BEGIN:VCALENDAR
VERSION:2.0
PRODID:-//Greater Raritan - ECPv6.3.5//NONSGML v1.0//EN
CALSCALE:GREGORIAN
METHOD:PUBLISH
X-WR-CALNAME:Greater Raritan
X-ORIGINAL-URL:https://www.thegrwdb.org
X-WR-CALDESC:Events for Greater Raritan
REFRESH-INTERVAL;VALUE=DURATION:PT1H
X-Robots-Tag:noindex
X-PUBLISHED-TTL:PT1H
BEGIN:VTIMEZONE
TZID:America/New_York
BEGIN:DAYLIGHT
TZOFFSETFROM:-0500
TZOFFSETTO:-0400
TZNAME:EDT
DTSTART:20260308T070000
END:DAYLIGHT
BEGIN:STANDARD
TZOFFSETFROM:-0400
TZOFFSETTO:-0500
TZNAME:EST
DTSTART:20261101T060000
END:STANDARD
END:VTIMEZONE
BEGIN:VEVENT
DTSTART;TZID=America/New_York:20260224T183000
DTEND;TZID=America/New_York:20260224T203000
DTSTAMP:20260419T215810
CREATED:20251119T193340Z
LAST-MODIFIED:20251220T214734Z
UID:15308-1771957800-1771965000@www.thegrwdb.org
SUMMARY:Planning Pathways Series: Intellectual and Developmental Disabilities Overview
DESCRIPTION:Planning Pathways is series of four informational webinars for families supporting adults with intellectual and developmental disabilities (IDD) being presented by the Hunterdon County Library. Two webinars in January will focus on key aspects of the Division of Developmental Disabilities (DDD) Eligibility application process. The February sessions will address logistical and legal planning topics to help families prepare for the futures of their loved ones. \nThe fourth and final session in the series\, Intellectual and Developmental Disabilities Overview\, will be presented by Eliot M. Goldstein\, Esq. from Gebhardt & Kiefer\, P.C.\, on Tuesday\, February 24\, from 6:30 to 8:30 p.m. \nThis webinar will provide information relevant to the families of persons with intellectual and developmental disabilities. Participants will gain a better understanding of what resources are available to an intellectually and developmentally disabled person and legal options available to the disabled person’s family. \nFor more information and to register for the event\, go here.
URL:https://www.thegrwdb.org/event/planning-pathways-series-intellectual-and-developmental-disabilities-overview/
LOCATION:Virtual Event
CATEGORIES:Community Event
END:VEVENT
END:VCALENDAR