BEGIN:VCALENDAR
VERSION:2.0
PRODID:-//Greater Raritan - ECPv6.3.5//NONSGML v1.0//EN
CALSCALE:GREGORIAN
METHOD:PUBLISH
X-WR-CALNAME:Greater Raritan
X-ORIGINAL-URL:https://www.thegrwdb.org
X-WR-CALDESC:Events for Greater Raritan
REFRESH-INTERVAL;VALUE=DURATION:PT1H
X-Robots-Tag:noindex
X-PUBLISHED-TTL:PT1H
BEGIN:VTIMEZONE
TZID:America/New_York
BEGIN:DAYLIGHT
TZOFFSETFROM:-0500
TZOFFSETTO:-0400
TZNAME:EDT
DTSTART:20190310T070000
END:DAYLIGHT
BEGIN:STANDARD
TZOFFSETFROM:-0400
TZOFFSETTO:-0500
TZNAME:EST
DTSTART:20191103T060000
END:STANDARD
BEGIN:DAYLIGHT
TZOFFSETFROM:-0500
TZOFFSETTO:-0400
TZNAME:EDT
DTSTART:20200308T070000
END:DAYLIGHT
BEGIN:STANDARD
TZOFFSETFROM:-0400
TZOFFSETTO:-0500
TZNAME:EST
DTSTART:20201101T060000
END:STANDARD
END:VTIMEZONE
BEGIN:VEVENT
DTSTART;TZID=America/New_York:20201105T160000
DTEND;TZID=America/New_York:20201105T170000
DTSTAMP:20260420T215032
CREATED:20200121T201042Z
LAST-MODIFIED:20201029T162528Z
UID:3253-1604592000-1604595600@www.thegrwdb.org
SUMMARY:GRWDB One-Stop Committee Meeting - GoToMeeting
DESCRIPTION:Through policy\, oversight\, and planning\, the GRWDB ensures that workforce training and education investments are responsive to and meet the needs of employers and jobseekers and is responsible for maintaining committees to help inform decision-making around services and priorities for targeted populations. One of those includes the GRWDB’s One-Stop Committee\, which provides strategy and direction for the services and programs offered by the One-Stop locations in Flemington (Hunterdon County) and Somerville (Somerset County). \nBecause of the current Coronavirus situation\, this meeting will be held remotely. \nPlease note: this committee was originally scheduled for Oct. 29\, 2020\, but had to be postponed. \nGreater-Raritan One-Stop Committee Meeting \nPlease join the meeting from your computer\, tablet or smartphone.\nhttps://global.gotomeeting.com/join/800451181 \nYou can also dial in using your phone.\nUnited States: +1 (646) 749-3122 \nAccess Code: 800-451-181 \nMeeting agendas will be posted here on the GRWDB website. \nNewcomers\, please RSVP to info@thegrwdb.org for more information!
URL:https://www.thegrwdb.org/event/grwdb-one-stop-committee-meeting-2-2-2-2-2/
LOCATION:GoToMeeting
CATEGORIES:Committee Meeting
END:VEVENT
BEGIN:VEVENT
DTSTART;TZID=America/New_York:20201020T140000
DTEND;TZID=America/New_York:20201020T150000
DTSTAMP:20260420T215032
CREATED:20200306T212612Z
LAST-MODIFIED:20201007T225351Z
UID:3168-1603202400-1603206000@www.thegrwdb.org
SUMMARY:GRWDB Literacy Committee - GoToMeeting
DESCRIPTION:Through policy\, oversight\, and planning\, the GRWDB ensures that workforce training and education investments are responsive to and meet the needs of employers and jobseekers and is responsible for maintaining committees to help inform decision-making around services and priorities for targeted populations. One of those includes the GRWDB’s Literacy Committee\, which works with Title II literacy providers and volunteer literacy organizations in Hunterdon and Somerset counties to ensure literacy training is connected to the other services offered in Greater Raritan’s workforce system. \nMeeting agendas can be found here on the GRWDB website. \nBecause of the COVID-19 pandemic\, this meeting will be virtual. Here are the meeting details: \nPlease join the meeting from your computer\, tablet or smartphone.\nhttps://global.gotomeeting.com/join/723991861 \nYou can also dial in using your phone.\nUnited States: +1 (872) 240-3311 \nAccess Code: 723-991-861 \nAll are welcomed to attend. Newcomers\, please RSVP to info@thegrwdb.org to join.
URL:https://www.thegrwdb.org/event/grwdb-literacy-committee-2-2/
LOCATION:GoToMeeting
CATEGORIES:Committee Meeting
END:VEVENT
BEGIN:VEVENT
DTSTART;TZID=America/New_York:20200916T103000
DTEND;TZID=America/New_York:20200916T113000
DTSTAMP:20260420T215032
CREATED:20191120T210211Z
LAST-MODIFIED:20200904T151405Z
UID:3038-1600252200-1600255800@www.thegrwdb.org
SUMMARY:GRWDB Youth Committee Meeting - GoToMeeting
DESCRIPTION:Through policy\, oversight\, and planning\, the GRWDB ensures that workforce training and education investments are responsive to and meet the needs of employers and jobseekers and is responsible for maintaining committees to help inform decision-making around services and priorities for targeted populations. One of those is the GRWDB’s Youth Committee\, which works to coordinate and integrate local youth services with each other and the One Stop while seeking ways to expand and develop local youth services. \nBecause of the current Coronavirus situation\, this meeting will be held remotely. \nGRWDB Youth Committee Meeting\nWed\, Sep 16\, 2020 10:30 AM – 11:30 AM (EDT) \nPlease join the meeting from your computer\, tablet or smartphone.\nhttps://global.gotomeeting.com/join/237892277 \nYou can also dial in using your phone.\nUnited States: +1 (312) 757-3121 \nAccess Code: 237-892-277 \nA meeting agenda will be posted here on the GRWDB website. \nNewcomers\, please RSVP to info@thegrwdb.org for details. \n 
URL:https://www.thegrwdb.org/event/grwdb-youth-committee-meeting-2-2-2/
LOCATION:GoToMeeting
CATEGORIES:Committee Meeting
END:VEVENT
BEGIN:VEVENT
DTSTART;TZID=America/New_York:20200811T100000
DTEND;TZID=America/New_York:20200811T110000
DTSTAMP:20260420T215032
CREATED:20191120T205905Z
LAST-MODIFIED:20200806T153906Z
UID:2869-1597140000-1597143600@www.thegrwdb.org
SUMMARY:GRWDB Disabilities Committee Meeting
DESCRIPTION:Through policy\, oversight\, and planning\, the GRWDB ensures that workforce training and education investments are responsive to and meet the needs of employers and jobseekers and is responsible for maintaining committees to help inform decision-making around services and priorities. One of those includes the GRWDB’s Disabilities Committee\, which works to coordinate and integrate local disability services with each other and the One-Stop Career Center while seeking ways to expand and integrate local disability resources and services. \nBecause of the current Coronavirus situation\, this meeting will be held remotely. \nGRWDB Disabilities Committee Meeting \nPlease join the meeting from your computer\, tablet or smartphone.\nhttps://global.gotomeeting.com/join/702529461 \nYou can also dial in using your phone.\nUnited States: +1 (872) 240-3412 \nAccess Code: 702-529-461 \nA meeting agenda will be posted here on the GRWDB website. \nNewcomers\, please RSVP to info@thegrwdb.org for details.
URL:https://www.thegrwdb.org/event/grwdb-disabilities-committee-meeting-2-2-2/
LOCATION:GoToMeeting
CATEGORIES:Committee Meeting
END:VEVENT
BEGIN:VEVENT
DTSTART;TZID=America/New_York:20200806T150000
DTEND;TZID=America/New_York:20200806T160000
DTSTAMP:20260420T215032
CREATED:20200121T201042Z
LAST-MODIFIED:20200806T154140Z
UID:2871-1596726000-1596729600@www.thegrwdb.org
SUMMARY:GRWDB One-Stop Committee Meeting - GoToMeeting
DESCRIPTION:Through policy\, oversight\, and planning\, the GRWDB ensures that workforce training and education investments are responsive to and meet the needs of employers and jobseekers and is responsible for maintaining committees to help inform decision-making around services and priorities for targeted populations. One of those includes the GRWDB’s One-Stop Committee\, which provides strategy and direction for the services and programs offered by the One-Stop locations in Flemington (Hunterdon County) and Somerville (Somerset County). \nBecause of the current Coronavirus situation\, this meeting will be held remotely. \nOne Stop Committee Meeting \nPlease join the meeting from your computer\, tablet or smartphone.\nhttps://global.gotomeeting.com/join/382949549 \nYou can also dial in using your phone.\nUnited States: +1 (571) 317-3122 \nAccess Code: 382-949-549 \nMeeting agendas will be posted here on the GRWDB website. \nNewcomers\, please RSVP to info@thegrwdb.org for more information!
URL:https://www.thegrwdb.org/event/grwdb-one-stop-committee-meeting-2-2-2-2/
LOCATION:GoToMeeting
CATEGORIES:Committee Meeting
END:VEVENT
BEGIN:VEVENT
DTSTART;TZID=America/New_York:20200519T100000
DTEND;TZID=America/New_York:20200519T110000
DTSTAMP:20260420T215032
CREATED:20191120T205905Z
LAST-MODIFIED:20200504T233345Z
UID:2089-1589882400-1589886000@www.thegrwdb.org
SUMMARY:GRWDB Disabilities Committee Meeting
DESCRIPTION:Through policy\, oversight\, and planning\, the GRWDB ensures that workforce training and education investments are responsive to and meet the needs of employers and jobseekers and is responsible for maintaining committees to help inform decision-making around services and priorities. One of those includes the GRWDB’s Disabilities Committee\, which works to coordinate and integrate local disability services with each other and the One-Stop Career Center while seeking ways to expand and integrate local disability resources and services. \nBecause of the current Coronavirus situation\, this meeting will be held remotely. \nGRWDB Disabilities Committee Meeting \nPlease join my meeting from your computer\, tablet or smartphone.\nhttps://global.gotomeeting.com/join/672836733 \nYou can also dial in using your phone.\nUnited States: +1 (571) 317-3122 \nAccess Code: 672-836-733 \nA meeting agenda will be posted here on the GRWDB website. \nNewcomers\, please RSVP to info@thegrwdb.org for details.
URL:https://www.thegrwdb.org/event/grwdb-disabilities-committee-meeting-2-2/
LOCATION:GoToMeeting
CATEGORIES:Committee Meeting
END:VEVENT
BEGIN:VEVENT
DTSTART;TZID=America/New_York:20200513T110000
DTEND;TZID=America/New_York:20200513T120000
DTSTAMP:20260420T215032
CREATED:20191120T210211Z
LAST-MODIFIED:20200504T233443Z
UID:2394-1589367600-1589371200@www.thegrwdb.org
SUMMARY:GRWDB Youth Committee Meeting - GoToMeeting
DESCRIPTION:Through policy\, oversight\, and planning\, the GRWDB ensures that workforce training and education investments are responsive to and meet the needs of employers and jobseekers and is responsible for maintaining committees to help inform decision-making around services and priorities for targeted populations. One of those is the GRWDB’s Youth Committee\, which works to coordinate and integrate local youth services with each other and the One Stop while seeking ways to expand and develop local youth services. \nBecause of the current Coronavirus situation\, this meeting will be held remotely. \nGRWDB Youth Committee Meeting \nPlease join my meeting from your computer\, tablet or smartphone.\nhttps://global.gotomeeting.com/join/204689597 \nYou can also dial in using your phone.\nUnited States: +1 (571) 317-3122 \nAccess Code: 204-689-597 \nA meeting agenda will be posted here on the GRWDB website. \nNewcomers\, please RSVP to info@thegrwdb.org for details. \n 
URL:https://www.thegrwdb.org/event/grwdb-youth-committee-meeting-2-2/
LOCATION:GoToMeeting
CATEGORIES:Committee Meeting
END:VEVENT
BEGIN:VEVENT
DTSTART;TZID=America/New_York:20200511T150000
DTEND;TZID=America/New_York:20200511T160000
DTSTAMP:20260420T215032
CREATED:20200121T201042Z
LAST-MODIFIED:20200504T233511Z
UID:2408-1589209200-1589212800@www.thegrwdb.org
SUMMARY:GRWDB One-Stop Committee Meeting - GoToMeeting
DESCRIPTION:Through policy\, oversight\, and planning\, the GRWDB ensures that workforce training and education investments are responsive to and meet the needs of employers and jobseekers and is responsible for maintaining committees to help inform decision-making around services and priorities for targeted populations. One of those includes the GRWDB’s One-Stop Committee\, which provides strategy and direction for the services and programs offered by the One-Stop locations in Flemington (Hunterdon County) and Somerville (Somerset County). \nBecause of the current Coronavirus situation\, this meeting will be held remotely. \nOne Stop Committee Meeting \nPlease join my meeting from your computer\, tablet or smartphone.\nhttps://global.gotomeeting.com/join/732335117 \nYou can also dial in using your phone.\nUnited States: +1 (312) 757-3121 \nAccess Code: 732-335-117 \nMeeting agendas will be posted here on the GRWDB website. \nNewcomers\, please RSVP to info@thegrwdb.org for more information!
URL:https://www.thegrwdb.org/event/grwdb-one-stop-committee-meeting-2-2-2/
LOCATION:Raritan Valley Community College Workforce Training Center\, 118 Lamington Road\, Branchburg\, NJ\, 08876\, United States
CATEGORIES:Committee Meeting
END:VEVENT
BEGIN:VEVENT
DTSTART;TZID=America/New_York:20200407T140000
DTEND;TZID=America/New_York:20200407T143000
DTSTAMP:20260420T215032
CREATED:20200306T212612Z
LAST-MODIFIED:20200403T205438Z
UID:2105-1586268000-1586269800@www.thegrwdb.org
SUMMARY:GRWDB Literacy Committee - GoToMeeting
DESCRIPTION:Through policy\, oversight\, and planning\, the GRWDB ensures that workforce training and education investments are responsive to and meet the needs of employers and jobseekers and is responsible for maintaining committees to help inform decision-making around services and priorities for targeted populations. One of those includes the GRWDB’s Literacy Committee\, which works with Title II literacy providers and volunteer literacy organizations in Hunterdon and Somerset counties to ensure literacy training is connected to the other services offered in Greater Raritan’s workforce system. \nMeeting agendas can be found here on the GRWDB website. \nNewcomers\, please RSVP to info@thegrwdb.org to join.
URL:https://www.thegrwdb.org/event/grwdb-literacy-committee-2/
LOCATION:Call-in\, NJ
CATEGORIES:Committee Meeting
END:VEVENT
BEGIN:VEVENT
DTSTART;TZID=America/New_York:20200402T150000
DTEND;TZID=America/New_York:20200402T163000
DTSTAMP:20260420T215032
CREATED:20200121T201042Z
LAST-MODIFIED:20200319T173357Z
UID:2091-1585839600-1585845000@www.thegrwdb.org
SUMMARY:CANCELLED: GRWDB One-Stop Committee Meeting
DESCRIPTION:Through policy\, oversight\, and planning\, the GRWDB ensures that workforce training and education investments are responsive to and meet the needs of employers and jobseekers and is responsible for maintaining committees to help inform decision-making around services and priorities for targeted populations. One of those includes the GRWDB’s One-Stop Committee\, which provides strategy and direction for the services and programs offered by the One-Stop locations in Flemington (Hunterdon County) and Somerville (Somerset County). \nMeeting agendas can be found here on the GRWDB website. \nNewcomers\, please RSVP to info@thegrwdb.org to ensure ample seating!
URL:https://www.thegrwdb.org/event/grwdb-one-stop-committee-meeting-2-2/
LOCATION:Raritan Valley Community College Workforce Training Center\, 118 Lamington Road\, Branchburg\, NJ\, 08876\, United States
CATEGORIES:Committee Meeting
END:VEVENT
BEGIN:VEVENT
DTSTART;TZID=America/New_York:20200318T103000
DTEND;TZID=America/New_York:20200318T120000
DTSTAMP:20260420T215032
CREATED:20191120T210211Z
LAST-MODIFIED:20200316T203630Z
UID:2093-1584527400-1584532800@www.thegrwdb.org
SUMMARY:CANCELLED: GRWDB Youth Committee Meeting
DESCRIPTION:Through policy\, oversight\, and planning\, the GRWDB ensures that workforce training and education investments are responsive to and meet the needs of employers and jobseekers and is responsible for maintaining committees to help inform decision-making around services and priorities for targeted populations. One of those is the GRWDB’s Youth Committee\, which works to coordinate and integrate local youth services with each other and the One Stop while seeking ways to expand and develop local youth services. \nBecause of the current Coronavirus situation\, this meeting will be held remotely\, with details on the meeting agenda when it is posted. Meeting agendas can be found here on the GRWDB website. \nNewcomers\, please RSVP to info@thegrwdb.org to ensure ample seating! \n 
URL:https://www.thegrwdb.org/event/grwdb-youth-committee-meeting-2/
LOCATION:teleconference\, NJ\, United States
CATEGORIES:Committee Meeting
END:VEVENT
BEGIN:VEVENT
DTSTART;TZID=America/New_York:20200310T190000
DTEND;TZID=America/New_York:20200310T200000
DTSTAMP:20260420T215032
CREATED:20200227T002728Z
LAST-MODIFIED:20200227T002747Z
UID:2024-1583866800-1583870400@www.thegrwdb.org
SUMMARY:Free Seminar on NJ's New Expungement Law
DESCRIPTION:The New Jersey statute on expungement was revised in a law signed on Dec. 18\, 2019. If someone has been arrested\, has a private criminal complaint signed against them in Municipal Court\, or has a criminal record (even if the charges were dismissed or received a Conditional Discharge under N.J. law)\, past criminal arrests and convictions can be expunged/erased in certain instances. \nSpeakers Kenneth Vercammen and Allan Marain will discuss the process and address questions during a seminar on the “New Expungement Law for Removal of Criminal Arrests and Convictions” running from 7 to 8 p.m. Tuesday\, March 10\, at the North Brunswick Public Library\, 880 Hermann Road. \nThis event is open to adults and registration is required. Call the library at 732-246-3545 or sign up at northbrunswicklibrary.org.
URL:https://www.thegrwdb.org/event/free-seminar-on-njs-new-expungement-law/
LOCATION:North Brunswick Public Library\, 880 Hermann Road\, North Brunswick\, NJ\, 08902\, United States
CATEGORIES:Committee Meeting
END:VEVENT
BEGIN:VEVENT
DTSTART;TZID=America/New_York:20200204T100000
DTEND;TZID=America/New_York:20200204T120000
DTSTAMP:20260420T215032
CREATED:20191120T205905Z
LAST-MODIFIED:20191120T205905Z
UID:1488-1580810400-1580817600@www.thegrwdb.org
SUMMARY:GRWDB Disabilities Committee Meeting
DESCRIPTION:Through policy\, oversight\, and planning\, the GRWDB ensures that workforce training and education investments are responsive to and meet the needs of employers and jobseekers and is responsible for maintaining committees to help inform decision-making around services and priorities. One of those includes the GRWDB’s Disability Committee\, which works to coordinate and integrate local disability services with each other and the One-Stop Career Center while seeking ways to expand and integrate local disability resources and services. \nNewcomers\, please RSVP to info@thegrwdb.org to ensure ample seating!
URL:https://www.thegrwdb.org/event/grwdb-disabilities-committee-meeting-2/
LOCATION:Raritan Valley Community College Workforce Training Center\, 118 Lamington Rd\, Branchburg\, NJ\, 08876\, United States
CATEGORIES:Committee Meeting
END:VEVENT
BEGIN:VEVENT
DTSTART;TZID=America/New_York:20200127T150000
DTEND;TZID=America/New_York:20200127T163000
DTSTAMP:20260420T215032
CREATED:20200121T201042Z
LAST-MODIFIED:20200121T201042Z
UID:1790-1580137200-1580142600@www.thegrwdb.org
SUMMARY:GRWDB One-Stop Committee Meeting
DESCRIPTION:The first 2020 of the Greater Raritan Workforce Development Board’s One-Stop Committee will be conducted at 3 p.m. Monday\, Jan. 27\, at the Raritan Valley Community College Workforce Training Center. \nThe committee will review it’s mission statement and discuss other topics. \nThe committee meeting is open to the public\, and all are invited to attend. A call-in option is available. \nCall GRWDB Director Paul Grzella at 908-203-6044.
URL:https://www.thegrwdb.org/event/grwdb-one-stop-committee-meeting-2/
LOCATION:Raritan Valley Community College Workforce Training Center\, 118 Lamington Road\, Branchburg\, NJ\, 08876\, United States
CATEGORIES:Committee Meeting
END:VEVENT
BEGIN:VEVENT
DTSTART;TZID=America/New_York:20200122T103000
DTEND;TZID=America/New_York:20200122T123000
DTSTAMP:20260420T215032
CREATED:20191120T210211Z
LAST-MODIFIED:20200121T214733Z
UID:1490-1579689000-1579696200@www.thegrwdb.org
SUMMARY:GRWDB Youth Committee Meeting
DESCRIPTION:Through policy\, oversight\, and planning\, the GRWDB ensures that workforce training and education investments are responsive to and meet the needs of employers and jobseekers and is responsible for maintaining committees to help inform decision-making around services and priorities for targeted populations. One of those includes the GRWDB’s Youth Committee\, which works to coordinate and integrate local youth services with each other and the One Stop while seeking ways to expand and develop local youth services. \nMeeting agendas can be found on the GRWDB website. For the Jan. 22 meeting\, go here. \nNewcomers\, please RSVP to info@thegrwdb.org to ensure ample seating! \n 
URL:https://www.thegrwdb.org/event/grwdb-youth-committee-meeting/
LOCATION:Raritan Valley Community College Workforce Training Center\, 118 Lamington Rd\, Branchburg\, NJ\, 08876\, United States
CATEGORIES:Committee Meeting
END:VEVENT
BEGIN:VEVENT
DTSTART;TZID=America/New_York:20191104T100000
DTEND;TZID=America/New_York:20191104T120000
DTSTAMP:20260420T215032
CREATED:20191101T181234Z
LAST-MODIFIED:20191101T182703Z
UID:1405-1572861600-1572868800@www.thegrwdb.org
SUMMARY:GRWDB Disabilities Committee Meeting
DESCRIPTION:Through policy\, oversight\, and planning\, the GRWDB ensures that workforce training and education investments are responsive to and meet the needs of employers and jobseekers and is responsible for maintaining committees to help inform decision-making around services and priorities. One of those includes the GRWDB’s Disability Committee\, which works to coordinate and integrate local disability services with each other and the One-Stop Career Center while seeking ways to expand and integrate local disability resources and services. \nPlease click here to view the meeting’s agenda. \nNewcomers\, please RSVP to info@thegrwdb.org to ensure ample seating!
URL:https://www.thegrwdb.org/event/grwdb-disabilities-committee-meeting/
LOCATION:Raritan Valley Community College Workforce Training Center\, 118 Lamington Rd\, Branchburg\, NJ\, 08876\, United States
CATEGORIES:Committee Meeting
ATTACH;FMTTYPE=image/png:https://www.thegrwdb.org/wp-content/uploads/2019/09/icon-calendar-2.png
END:VEVENT
BEGIN:VEVENT
DTSTART;TZID=America/New_York:20191016T100000
DTEND;TZID=America/New_York:20191016T113000
DTSTAMP:20260420T215032
CREATED:20191015T172350Z
LAST-MODIFIED:20191015T173341Z
UID:1309-1571220000-1571225400@www.thegrwdb.org
SUMMARY:GRWDB Youth Committee Meeting
DESCRIPTION:Through policy\, oversight\, and planning\, the GRWDB ensures that workforce training and education investments are responsive to and meet the needs of employers and jobseekers and is responsible for maintaining committees to help inform decision-making around services and priorities for targeted populations. One of those includes the GRWDB’s Youth Committee\, which works to coordinate and integrate local youth services with each other and the One Stop while seeking ways to expand and develop local youth services. \nThe second Greater Raritan Workforce Development Board Youth Committee Meeting will be on Wednesday October 16\, 2019\, at 10:00 AM at the Raritan Valley Community College Workforce Training Center Room 205\, 118 Lamington Rd\, Branchburg NJ 08876. \nClick here for the meeting agenda. \nNewcomers\, please RSVP to info@thegrwdb.org to ensure ample seating!
URL:https://www.thegrwdb.org/event/1309/
LOCATION:Raritan Valley Community College Workforce Training Center Computer Room 205\, 118 Lamington Rd\, Branchburg\, NJ\, 08876\, United States
CATEGORIES:Committee Meeting
ATTACH;FMTTYPE=image/png:https://www.thegrwdb.org/wp-content/uploads/2019/09/icon-calendar-2.png
END:VEVENT
BEGIN:VEVENT
DTSTART;TZID=America/New_York:20191010T150000
DTEND;TZID=America/New_York:20191010T163000
DTSTAMP:20260420T215032
CREATED:20191008T204319Z
LAST-MODIFIED:20191010T170129Z
UID:1278-1570719600-1570725000@www.thegrwdb.org
SUMMARY:GRWDB One Stop Committee Meeting
DESCRIPTION:Through policy\, oversight\, and planning\, the GRWDB ensures that workforce training and education investments are responsive to and meet the needs of employers and jobseekers and is responsible for maintaining committees to help inform decision-making around services and priorities. One of those includes the GRWDB’s One-Stop Committee\, which works with the local area’s One-Stop Operator to ensure timely and needed services are being provided based upon the terms of the Operator contract\, while using metrics and customer feedback to develop continuous improvement strategies. \nClick here for the meeting agenda.\nClick here for the local One Stop Dashboard through September 2019.
URL:https://www.thegrwdb.org/event/grwdb-one-stop-committee-meeting/
LOCATION:Raritan Valley Community College Workforce Training Center\, 118 Lamington Rd\, Branchburg\, NJ\, 08876\, United States
CATEGORIES:Committee Meeting
ATTACH;FMTTYPE=image/png:https://www.thegrwdb.org/wp-content/uploads/2019/09/icon-calendar-2.png
END:VEVENT
BEGIN:VEVENT
DTSTART;TZID=America/New_York:20190916T140000
DTEND;TZID=America/New_York:20190916T153000
DTSTAMP:20260420T215032
CREATED:20190903T185154Z
LAST-MODIFIED:20190913T200528Z
UID:1074-1568642400-1568647800@www.thegrwdb.org
SUMMARY:GRWDB Literacy Committee
DESCRIPTION:Through policy\, oversight\, and planning\, the GRWDB ensures that workforce training and education investments are responsive to and meet the needs of employers and jobseekers and is responsible for maintaining committees to help inform decision-making around services and priorities. One of those includes the GRWDB’s Literacy Committee\, which works to coordinate and integrate local literacy attainment services with each other and the One-Stop Career Center while seeking ways to expand and integrate local literacy resources and services. \nThe meeting will take place on Monday\, September 16\, 2019\, 2:00 pm\, at the Human Services Building at 27 Warren St in Somerville NJ\, 08876. \nclick here to download the meeting agenda\nNewcomers\, please RSVP to info@thegrwdb.org to ensure ample seating!
URL:https://www.thegrwdb.org/event/grwdb-literacy-committee/
LOCATION:Somerset County Human Services Building\, 27 Warren Street\, 1st floor conference room\, Somerville\, NJ\, 08876\, United States
CATEGORIES:Committee Meeting
ATTACH;FMTTYPE=image/png:https://www.thegrwdb.org/wp-content/uploads/2019/09/icon-calendar-1.png
END:VEVENT
BEGIN:VEVENT
DTSTART;TZID=America/New_York:20190801T100000
DTEND;TZID=America/New_York:20190801T113000
DTSTAMP:20260420T215032
CREATED:20191024T185556Z
LAST-MODIFIED:20191025T153503Z
UID:1382-1564653600-1564659000@www.thegrwdb.org
SUMMARY:GRWDB Youth Committee Meeting
DESCRIPTION:Through policy\, oversight\, and planning\, the GRWDB ensures that workforce training and education investments are responsive to and meet the needs of employers and jobseekers and is responsible for maintaining committees to help inform decision-making around services and priorities for targeted populations. One of those includes the GRWDB’s Youth Committee\, which works to coordinate and integrate local youth services with each other and the One Stop while seeking ways to expand and develop local youth services. \nOur introductory meeting will take place on Thursday\, August 1\, 10:00 am\, at the Raritan Valley Community College Workforce Training Center Room 215\, 118 Lamington Rd\, Branchburg NJ 08876 to learn more about our potential members\, responsibilities and the Board itself. Please respond to this calendar invitation to indicate your availability. \nPlease find the meeting agenda attached below\, or on our website. Picture of the Workforce Training Center’s location on RVCC’s campus is attached below. \nIn the interim\, please don’t hesitate to reach out with any questions\, comments or concerns and we so look forward to seeing and meeting everyone (in person) this August! \n 
URL:https://www.thegrwdb.org/event/greater-raritan-workforce-development-board-youth-committee-meeting/
LOCATION:Raritan Valley Community College Workforce Training Center\, Workforce Training Center Conference Room\, 118 Lamington Rd\, Branchburg\, NJ\, 08876\, United States
CATEGORIES:Committee Meeting
ATTACH;FMTTYPE=image/png:https://www.thegrwdb.org/wp-content/uploads/2019/09/icon-calendar.png
END:VEVENT
BEGIN:VEVENT
DTSTART;TZID=America/New_York:20190722T100000
DTEND;TZID=America/New_York:20190722T113000
DTSTAMP:20260420T215032
CREATED:20191024T185116Z
LAST-MODIFIED:20191025T151524Z
UID:1380-1563789600-1563795000@www.thegrwdb.org
SUMMARY:GRWDB One-Stop Committee Meeting
DESCRIPTION:  \nThrough policy\, oversight\, and planning\, the GRWDB ensures that workforce training and education investments are responsive to and meet the needs of employers and jobseekers and is responsible for maintaining committees to help inform decision-making around services and priorities. One of those includes the GRWDB’s One-Stop Committee\, which works with the local area’s One-Stop Operator to ensure timely and needed services are being provided based upon the terms of the Operator contract\, while using metrics and customer feedback to develop continuous improvement strategies. \nOur introductory meeting will take place on Monday\, July 22\, 2019\, 10:00 am\, at the Raritan Valley Community College Workforce Training Center Room 215\, 118 Lamington Rd\, Branchburg NJ 08876 to learn more about our potential members\, responsibilities and the Board itself. Please
URL:https://www.thegrwdb.org/event/greater-raritan-workforce-development-board-one-stop-committee-meeting/
LOCATION:Raritan Valley Community College Workforce Training Center\, Workforce Training Center Conference Room\, 118 Lamington Rd\, Branchburg\, NJ\, 08876\, United States
CATEGORIES:Committee Meeting
ATTACH;FMTTYPE=image/png:https://www.thegrwdb.org/wp-content/uploads/2019/09/icon-calendar.png
END:VEVENT
END:VCALENDAR