BEGIN:VCALENDAR
VERSION:2.0
PRODID:-//Greater Raritan - ECPv6.3.5//NONSGML v1.0//EN
CALSCALE:GREGORIAN
METHOD:PUBLISH
X-ORIGINAL-URL:https://www.thegrwdb.org
X-WR-CALDESC:Events for Greater Raritan
REFRESH-INTERVAL;VALUE=DURATION:PT1H
X-Robots-Tag:noindex
X-PUBLISHED-TTL:PT1H
BEGIN:VTIMEZONE
TZID:America/New_York
BEGIN:DAYLIGHT
TZOFFSETFROM:-0500
TZOFFSETTO:-0400
TZNAME:EDT
DTSTART:20260308T070000
END:DAYLIGHT
BEGIN:STANDARD
TZOFFSETFROM:-0400
TZOFFSETTO:-0500
TZNAME:EST
DTSTART:20261101T060000
END:STANDARD
END:VTIMEZONE
BEGIN:VEVENT
DTSTART;TZID=America/New_York:20260205T150000
DTEND;TZID=America/New_York:20260205T164500
DTSTAMP:20260420T124609
CREATED:20260205T225408Z
LAST-MODIFIED:20260205T225408Z
UID:15887-1770303600-1770309900@www.thegrwdb.org
SUMMARY:GRWDB Operations Committee Meeting – Virtual
DESCRIPTION:Through policy\, oversight\, and planning\, the GRWDB ensures that workforce training and education investments are responsive to and meet the needs of employers and jobseekers and is responsible for maintaining committees to help inform decision-making around services and priorities for targeted populations. One of those includes the GRWDB’s One-Stop Operations Committee\, which provides strategy and direction for the services and programs offered by the One-Stop locations in Flemington (Hunterdon County) and Somerville (Somerset County). \nAttendees may join via GoToMeeting. \nGRWDB Operations Committee Meeting\nFebruary 5\, 2026\, 3:00 – 3:45 PM \nPlease join the meeting from your computer\, tablet or smartphone.\nhttps://meet.goto.com/837381285 \nYou can also dial in using your phone.\nAccess Code: 837-381-285\nUnited States: +1 (224) 501-3412 \nMeeting agendas are posted here on the GRWDB website. \nNewcomers\, please RSVP to info@thegrwdb.org for more information!
URL:https://www.thegrwdb.org/event/grwdb-operations-committee-meeting-virtual-5/
LOCATION:Virtual Meeting
CATEGORIES:Committee Meeting
END:VEVENT
END:VCALENDAR