BEGIN:VCALENDAR
VERSION:2.0
PRODID:-//Greater Raritan - ECPv6.3.5//NONSGML v1.0//EN
CALSCALE:GREGORIAN
METHOD:PUBLISH
X-WR-CALNAME:Greater Raritan
X-ORIGINAL-URL:https://www.thegrwdb.org
X-WR-CALDESC:Events for Greater Raritan
REFRESH-INTERVAL;VALUE=DURATION:PT1H
X-Robots-Tag:noindex
X-PUBLISHED-TTL:PT1H
BEGIN:VTIMEZONE
TZID:America/New_York
BEGIN:DAYLIGHT
TZOFFSETFROM:-0500
TZOFFSETTO:-0400
TZNAME:EDT
DTSTART:20260308T070000
END:DAYLIGHT
BEGIN:STANDARD
TZOFFSETFROM:-0400
TZOFFSETTO:-0500
TZNAME:EST
DTSTART:20261101T060000
END:STANDARD
END:VTIMEZONE
BEGIN:VEVENT
DTSTART;TZID=America/New_York:20260422T180000
DTEND;TZID=America/New_York:20260422T200000
DTSTAMP:20260420T024928
CREATED:20260327T222401Z
LAST-MODIFIED:20260327T222401Z
UID:16288-1776880800-1776888000@www.thegrwdb.org
SUMMARY:Raritan Valley Community College Adult Learning Experience Information Session
DESCRIPTION:Adult learners ages 25 and older who are interested in starting college for the first time\, returning to school to finish a degree\, exploring a new career path\, seeking professional development\, or improving their English are invited to attend Raritan Valley Community College’s Adult Learning Experience Information Session\, Wednesday\, April 22\, from 6-8 p.m. The program will be conducted in the Atrium at the College’s Branchburg campus. \nThe event will include information about academic and certificate programs\, applying to Raritan Valley Community College (RVCC)\, learning options and support services tailored for non-traditional students\, paying for college\, and navigating financial aid resources. \nVeterans are also encouraged to attend the Information Session to learn about how they can use their education benefits to enroll at RVCC. The Manager of International and Veteran Services will be available to answer prospective students’ questions. \nTo assist students juggling work\, family\, and other responsibilities\, RVCC offers 14-week (full-term)\, 12-week\, 10-week\, and 7-week (for some programs) semesters to provide learners of all ages with a more convenient academic schedule. Adult students may enroll in career training\, certificate\, or degree programs at RVCC. \nSome programs that may be of special interest to adult students include: \n\nAdvanced Manufacturing (includes OSHA 10 and NIMS certification)\nBusiness Administration – Associate of Science\nBusiness Management – Associate of Applied Science\nElectrocardiograph (ECG) Technician – Certificate\nEnglish as a Second Language\nFitness Specialist – Certificate\nMedical Assistant – Certificate\nNursing/RN – Associate of Applied Science\nOccupational Therapy Assistant – Associated of Applied Science\nParalegal Studies – Associate of Applied Science or Certificate\nSupply Chain Management – Associate of Science\, Associate of Applied Science\, or Certificate\nWelding – Certificate\n\nIn addition\, RVCC offers a number of online degrees and certificate programs. To learn more about online programs\, visit Online Courses & Programs | Raritan Valley Community College\, NJ or https://www.raritanval.edu/career-training/career-training-programs. \nTo register for an Information Session\, go to http://www.raritanval.edu/visit. For additional information\, email adultlearning@raritanval.edu or contact Michelle Amparbin\, Coordinator of the Adult Learning Experience\, at 908-526-1200\, ext. 8338. To learn more\, visit http://www.raritanval.edu/admissions-information/adult-learners.
URL:https://www.thegrwdb.org/event/raritan-valley-community-college-adult-learning-experience-information-session/
LOCATION:Raritan Valley Community College Event Center\, 118 Lamington Road\, Branchburg\, NJ\, 08876\, United States
CATEGORIES:College Event
END:VEVENT
END:VCALENDAR