BEGIN:VCALENDAR
VERSION:2.0
PRODID:-//Greater Raritan - ECPv6.3.5//NONSGML v1.0//EN
CALSCALE:GREGORIAN
METHOD:PUBLISH
X-ORIGINAL-URL:https://www.thegrwdb.org
X-WR-CALDESC:Events for Greater Raritan
REFRESH-INTERVAL;VALUE=DURATION:PT1H
X-Robots-Tag:noindex
X-PUBLISHED-TTL:PT1H
BEGIN:VTIMEZONE
TZID:America/New_York
BEGIN:DAYLIGHT
TZOFFSETFROM:-0500
TZOFFSETTO:-0400
TZNAME:EDT
DTSTART:20260308T070000
END:DAYLIGHT
BEGIN:STANDARD
TZOFFSETFROM:-0400
TZOFFSETTO:-0500
TZNAME:EST
DTSTART:20261101T060000
END:STANDARD
END:VTIMEZONE
BEGIN:VEVENT
DTSTART;TZID=America/New_York:20260424T113000
DTEND;TZID=America/New_York:20260424T153000
DTSTAMP:20260420T071957
CREATED:20260226T212933Z
LAST-MODIFIED:20260226T225240Z
UID:16090-1777030200-1777044600@www.thegrwdb.org
SUMMARY:Rutgers Spring Career and Internship Fair
DESCRIPTION:The Office of Career Exploration and Success at Rutgers University will presents its Spring Career & Internship Fair from 11:30 a.m. to 3:30 p.m. Friday\, April 24\, at Jersey Mike’s Arena\, 83 Rockafeller Ave.\, Piscataway. \nThis in-person event is open to employers with full-time\, part-time\, and internship opportunities from a variety of fields. Job seekers from Rutgers University’s (New Brunswick\, Camden\, Newark\, and RBHS) student and alumni population in all academic disciplines\, as well as the general public\, are invited to attend. Organizers expect up to 150 employers to attend and up to 1\,500 career seekers to participate. \nGo to careers.rutgers.edu/fair for details. This page includes a tab for the list of participating employers as well as the separate registration pages for employers and job seekers. Employers who register by March 27 will get a $100 savings in the table pricing and employers may sign up through April 10. There is no charge for job seekers to attend the event.
URL:https://www.thegrwdb.org/event/rutgers-spring-career-and-internship-fair/
LOCATION:Jersey Mike’s Arena\, 83 Rockafeller Ave.\, Piscataway\, NJ\, 08854\, United States
CATEGORIES:Career Fair
END:VEVENT
END:VCALENDAR