BEGIN:VCALENDAR
VERSION:2.0
PRODID:-//Greater Raritan - ECPv6.3.5//NONSGML v1.0//EN
CALSCALE:GREGORIAN
METHOD:PUBLISH
X-WR-CALNAME:Greater Raritan
X-ORIGINAL-URL:https://www.thegrwdb.org
X-WR-CALDESC:Events for Greater Raritan
REFRESH-INTERVAL;VALUE=DURATION:PT1H
X-Robots-Tag:noindex
X-PUBLISHED-TTL:PT1H
BEGIN:VTIMEZONE
TZID:America/New_York
BEGIN:DAYLIGHT
TZOFFSETFROM:-0500
TZOFFSETTO:-0400
TZNAME:EDT
DTSTART:20260308T070000
END:DAYLIGHT
BEGIN:STANDARD
TZOFFSETFROM:-0400
TZOFFSETTO:-0500
TZNAME:EST
DTSTART:20261101T060000
END:STANDARD
END:VTIMEZONE
BEGIN:VEVENT
DTSTART;TZID=America/New_York:20260401T110000
DTEND;TZID=America/New_York:20260401T133000
DTSTAMP:20260420T071822
CREATED:20260320T201532Z
LAST-MODIFIED:20260320T201532Z
UID:16252-1775041200-1775050200@www.thegrwdb.org
SUMMARY:Berkeley College Spring Career Fair in Woodland Park
DESCRIPTION:Berkeley College encourages businesses with full-time\, part-time\, and internship opportunities to participate in its upcoming Spring Career Fair where employers can meet students\, alumni and community jobseekers looking to be their next hire.  \nThe event takes place Wednesday\, April 1\, from 11 a.m. to 1:30 p.m. at Berkeley College’s Woodland Park campus at 44 Rifle Camp Road. Businesses that would like to participate can complete the online employer registration form here.  \nThis event provides an opportunity for attendees to explore career paths\, network with industry professionals\, and learn about job openings across various fields. Some of the companies scheduled to be in attendance include BAYADA Home Health Care\, Chase Bank\, multiple police departments\, the New York State Police\, the YMCA\, and others.  \nJob seekers should bring several copies of their resumes\, dress professionally\, and be prepared for conversations with employers. Registration is required for this free event. To register\, go here.
URL:https://www.thegrwdb.org/event/berkeley-college-spring-career-fair-in-woodland-park/
LOCATION:Berkeley College – Woodland Park Campus\, 44 Rifle Camp Road\, Woodland Park\, NJ\, 07424\, United States
CATEGORIES:Career Fair
END:VEVENT
END:VCALENDAR