BEGIN:VCALENDAR
VERSION:2.0
PRODID:-//Greater Raritan - ECPv6.3.5//NONSGML v1.0//EN
CALSCALE:GREGORIAN
METHOD:PUBLISH
X-ORIGINAL-URL:https://www.thegrwdb.org
X-WR-CALDESC:Events for Greater Raritan
REFRESH-INTERVAL;VALUE=DURATION:PT1H
X-Robots-Tag:noindex
X-PUBLISHED-TTL:PT1H
BEGIN:VTIMEZONE
TZID:America/New_York
BEGIN:DAYLIGHT
TZOFFSETFROM:-0500
TZOFFSETTO:-0400
TZNAME:EDT
DTSTART:20260308T070000
END:DAYLIGHT
BEGIN:STANDARD
TZOFFSETFROM:-0400
TZOFFSETTO:-0500
TZNAME:EST
DTSTART:20261101T060000
END:STANDARD
END:VTIMEZONE
BEGIN:VEVENT
DTSTART;TZID=America/New_York:20260226T100000
DTEND;TZID=America/New_York:20260226T120000
DTSTAMP:20260420T091449
CREATED:20260111T202502Z
LAST-MODIFIED:20260111T204234Z
UID:15665-1772100000-1772107200@www.thegrwdb.org
SUMMARY:Hillsborough Township Job Fair
DESCRIPTION:The Hillsborough Business Association (HBA) will present the fourth annual Hillsborough Job Fair from 10 a.m. to 12 p.m. Thursday\, February 26\, in the Township Municipal Building at 379 South Branch Road. \nThe annual event will feature dozens of local businesses and career-related agencies\, including the Greater Raritan Workforce Development Board which will offer information on crafting effective resumes and interview preparation. \nBusinesses interested in being involved in the event can scan the QR code in this flyer to sign up. \nJob seekers can scan the QR code in this flyer or simply show up and talk to the business and agency representatives on the day of the event. The event will be conducted in municipal building’s Multipurpose Room. \nFor more information\, interested prospective business participants can contact the Hillsborough Office of Economic and Business Development at 908-369-4313\, Ext. 7115\, or email HBA@Hillsboroughnj.gov.
URL:https://www.thegrwdb.org/event/hillsborough-township-job-fair-3/
LOCATION:Hillsborough Municipal Building Multipurpose Room\, 379 S. Branch Road\, Hillsborough\, NJ\, 08844\, United States
CATEGORIES:Career Fair
END:VEVENT
END:VCALENDAR