BEGIN:VCALENDAR
VERSION:2.0
PRODID:-//Greater Raritan - ECPv6.3.5//NONSGML v1.0//EN
CALSCALE:GREGORIAN
METHOD:PUBLISH
X-WR-CALNAME:Greater Raritan
X-ORIGINAL-URL:https://www.thegrwdb.org
X-WR-CALDESC:Events for Greater Raritan
REFRESH-INTERVAL;VALUE=DURATION:PT1H
X-Robots-Tag:noindex
X-PUBLISHED-TTL:PT1H
BEGIN:VTIMEZONE
TZID:America/New_York
BEGIN:DAYLIGHT
TZOFFSETFROM:-0500
TZOFFSETTO:-0400
TZNAME:EDT
DTSTART:20260308T070000
END:DAYLIGHT
BEGIN:STANDARD
TZOFFSETFROM:-0400
TZOFFSETTO:-0500
TZNAME:EST
DTSTART:20261101T060000
END:STANDARD
END:VTIMEZONE
BEGIN:VEVENT
DTSTART;TZID=America/New_York:20260224T100000
DTEND;TZID=America/New_York:20260224T130000
DTSTAMP:20260420T091223
CREATED:20260102T161116Z
LAST-MODIFIED:20260102T161245Z
UID:15639-1771927200-1771938000@www.thegrwdb.org
SUMMARY:Employers Invited to Register for Middlesex County Biosciences Career Expo
DESCRIPTION:Companies in life sciences and related sectors are invited to participate in the Middlesex County Biosciences Career Expo\, taking place from 10 a.m. to 1 p.m. Tuesday\, February 24\, 2026\, (set-up starts at 9am) at Middlesex College (Parkview Room) in Edison. \nThis event will bring together top talent from across the biotech and pharmaceutical sectors who are actively seeking new opportunities. Participation is free of charge\, and participating companies will be provided with a dedicated exhibitor table. Employer participants may set up starting at 9 a.m.\, and are encouraged to bring a tablecloth\, banner\, handouts\, and any recruitment materials to maximize visibility and engagement with attendees. \nThe event will allow employer participants to connect with qualified talent representing a range of professionals spanning scientific research\, regulatory affairs\, technical development\, pharmaceutical formulation\, and executive leadership. \nInterested employers may complete sign-up here or by clicking on the QR code in this flyer.
URL:https://www.thegrwdb.org/event/employers-invited-to-register-for-middlesex-county-biosciences-career-expo/
LOCATION:Middlesex College\, 2600 Woodbridge Ave.\, Edison\, NJ\, 08818\, United States
CATEGORIES:Career Fair
END:VEVENT
END:VCALENDAR