BEGIN:VCALENDAR
VERSION:2.0
PRODID:-//Greater Raritan - ECPv6.3.5//NONSGML v1.0//EN
CALSCALE:GREGORIAN
METHOD:PUBLISH
X-ORIGINAL-URL:https://www.thegrwdb.org
X-WR-CALDESC:Events for Greater Raritan
REFRESH-INTERVAL;VALUE=DURATION:PT1H
X-Robots-Tag:noindex
X-PUBLISHED-TTL:PT1H
BEGIN:VTIMEZONE
TZID:America/New_York
BEGIN:DAYLIGHT
TZOFFSETFROM:-0500
TZOFFSETTO:-0400
TZNAME:EDT
DTSTART:20250309T070000
END:DAYLIGHT
BEGIN:STANDARD
TZOFFSETFROM:-0400
TZOFFSETTO:-0500
TZNAME:EST
DTSTART:20251102T060000
END:STANDARD
END:VTIMEZONE
BEGIN:VEVENT
DTSTART;TZID=America/New_York:20251029T100000
DTEND;TZID=America/New_York:20251029T130000
DTSTAMP:20260420T160120
CREATED:20251001T215552Z
LAST-MODIFIED:20251001T215552Z
UID:14903-1761732000-1761742800@www.thegrwdb.org
SUMMARY:Middlesex County Biosciences Career Expo
DESCRIPTION:The Middlesex County Biosciences Career Expo will be conducted from 10 a.m. to 1 p.m. Wednesday\, October 20\, at Middlesex College\, Parkview Room\, 2600 Woodbridge Ave.\, Edison. \nThis event brings together job seekers\, employers\, and industry leaders to support workforce development and career growth in biosciences – biosciences and pharmaceutical. \nRegister using the QR code in this flyer or go here. \nThis event is presented by Middlesex County and the New Jersey Department of Labor and Workforce Development’s New Jersey Industry Partnership team. \n 
URL:https://www.thegrwdb.org/event/middlesex-county-biosciences-career-expo/
LOCATION:Middlesex College\, 2600 Woodbridge Ave.\, Edison\, NJ\, 08818\, United States
CATEGORIES:Career Fair
END:VEVENT
END:VCALENDAR