BEGIN:VCALENDAR
VERSION:2.0
PRODID:-//Greater Raritan - ECPv6.3.5//NONSGML v1.0//EN
CALSCALE:GREGORIAN
METHOD:PUBLISH
X-ORIGINAL-URL:https://www.thegrwdb.org
X-WR-CALDESC:Events for Greater Raritan
REFRESH-INTERVAL;VALUE=DURATION:PT1H
X-Robots-Tag:noindex
X-PUBLISHED-TTL:PT1H
BEGIN:VTIMEZONE
TZID:America/New_York
BEGIN:DAYLIGHT
TZOFFSETFROM:-0500
TZOFFSETTO:-0400
TZNAME:EDT
DTSTART:20250309T070000
END:DAYLIGHT
BEGIN:STANDARD
TZOFFSETFROM:-0400
TZOFFSETTO:-0500
TZNAME:EST
DTSTART:20251102T060000
END:STANDARD
END:VTIMEZONE
BEGIN:VEVENT
DTSTART;TZID=America/New_York:20251023T070000
DTEND;TZID=America/New_York:20251023T150000
DTSTAMP:20260420T174252
CREATED:20251006T164202Z
LAST-MODIFIED:20251006T164202Z
UID:14916-1761202800-1761231600@www.thegrwdb.org
SUMMARY:New Jersey Eastern Star Job Fair
DESCRIPTION:New Jersey Eastern Start at 111 Finderne Ave.\, Bridgewater\, is hosting an in-person Job Fair from 7 a.m. to 3 p.m. Thursday\, October 23. \nThe rehabilitation and nursing center is hiring for Registered Nurses\, Licensed Practical Nurses\, Certified Nursing Assistants and other department staff. \nBenefits include a $3\,000 sign-on bonus\, a transportation allowance\, medical and dental insurance and more. \nWalks-ins are welcome for an immediate interview.
URL:https://www.thegrwdb.org/event/new-jersey-eastern-star-job-fair-2/
LOCATION:New Jersey Eastern Star\, 111 Finderne Ave.\, Bridgewater\, NJ\, 08807\, United States
CATEGORIES:Career Fair
END:VEVENT
END:VCALENDAR