BEGIN:VCALENDAR
VERSION:2.0
PRODID:-//Greater Raritan - ECPv6.3.5//NONSGML v1.0//EN
CALSCALE:GREGORIAN
METHOD:PUBLISH
X-WR-CALNAME:Greater Raritan
X-ORIGINAL-URL:https://www.thegrwdb.org
X-WR-CALDESC:Events for Greater Raritan
REFRESH-INTERVAL;VALUE=DURATION:PT1H
X-Robots-Tag:noindex
X-PUBLISHED-TTL:PT1H
BEGIN:VTIMEZONE
TZID:America/New_York
BEGIN:DAYLIGHT
TZOFFSETFROM:-0500
TZOFFSETTO:-0400
TZNAME:EDT
DTSTART:20250309T070000
END:DAYLIGHT
BEGIN:STANDARD
TZOFFSETFROM:-0400
TZOFFSETTO:-0500
TZNAME:EST
DTSTART:20251102T060000
END:STANDARD
END:VTIMEZONE
BEGIN:VEVENT
DTSTART;TZID=America/New_York:20251004T100000
DTEND;TZID=America/New_York:20251004T150000
DTSTAMP:20260420T174011
CREATED:20250924T223205Z
LAST-MODIFIED:20250924T224453Z
UID:14849-1759572000-1759590000@www.thegrwdb.org
SUMMARY:Hackensack Meridian Health Draft Day
DESCRIPTION:Hackensack Meridian Health is hosting a Draft Day event at MetLife Stadium on Saturday\, October 4\, from 10 a.m. to 3 p.m. \nAttendees will have the opportunity to meet with hiring leaders\, learn more about a variety of open positions around the state and have on-the-spot interviews. Positions in clinical care\, technology\, administration and support services are available. \nTo register for the event\, go here. \nParking is complimentary for all attendees in Lot A; attendees should enter through the East VIP Lobby Entrance.\n 
URL:https://www.thegrwdb.org/event/hackensack-meridian-health-draft-day/
LOCATION:MetLife Stadium\, 1 MetLife Stadium Dirve\, East Rutherford\, NJ\, 07073\, United States
CATEGORIES:Career Fair
END:VEVENT
END:VCALENDAR