BEGIN:VCALENDAR
VERSION:2.0
PRODID:-//Greater Raritan - ECPv6.3.5//NONSGML v1.0//EN
CALSCALE:GREGORIAN
METHOD:PUBLISH
X-ORIGINAL-URL:https://www.thegrwdb.org
X-WR-CALDESC:Events for Greater Raritan
REFRESH-INTERVAL;VALUE=DURATION:PT1H
X-Robots-Tag:noindex
X-PUBLISHED-TTL:PT1H
BEGIN:VTIMEZONE
TZID:America/New_York
BEGIN:DAYLIGHT
TZOFFSETFROM:-0500
TZOFFSETTO:-0400
TZNAME:EDT
DTSTART:20260308T070000
END:DAYLIGHT
BEGIN:STANDARD
TZOFFSETFROM:-0400
TZOFFSETTO:-0500
TZNAME:EST
DTSTART:20261101T060000
END:STANDARD
END:VTIMEZONE
BEGIN:VEVENT
DTSTART;TZID=America/New_York:20260212T113000
DTEND;TZID=America/New_York:20260212T123000
DTSTAMP:20260420T113908
CREATED:20260208T200208Z
LAST-MODIFIED:20260208T200221Z
UID:15904-1770895800-1770899400@www.thegrwdb.org
SUMMARY:RVCC Event: Future of Opticianry
DESCRIPTION:Raritan Valley Community College’s Ophthalmic Science program will host a public presentation titled “Dream Big\, One Year Later: The Future of Opticianry in Action\,” Thursday\, February 12\, at 11:30 a.m. The event\, which is free and open to the public\, will be in the Atrium at the College’s Branchburg campus. at 118 Lamington Road. The Ophthalmic Science program is part of RVCC’s Health Science Education department. \nThe presentation will feature David Friedfeld\, owner of ClearVision Optical and a nationally recognized leader in the optical industry. Friedfeld will share insights on how opticianry is evolving amid advances in technology\, changes in healthcare delivery\, and shifting consumer expectations. \nOpticianry is a centuries-old profession in the United States\, dating back more than 250 years to Benjamin Franklin’s invention of the bifocal lens. Over time\, opticians have played a critical role in eye care\, from dispensing complex eyewear to supporting patient outcomes across a wide range of practice settings. Today\, the profession continues to adapt to new technologies\, expanded care models\, and emerging opportunities. \nDuring this one-hour presentation and interactive discussion\, Friedfeld will explore topics such as the future role of opticians\, innovation within the profession\, and how opticianry may continue to develop over the next several decades. \nRaritan Valley Community College offers two opticianry programs: an Associate of Applied Science Degree in Ophthalmics and an Ophthalmic Science Certificate – Apprenticeship Option. \nFor additional information about the program\, contact Judy Quinones at judy.quinones@raritanval.edu. \nFor further information\, visit http://www.raritanval.edu/.
URL:https://www.thegrwdb.org/event/rvcc-event-future-of-opticianry/
LOCATION:Raritan Valley Community College Atrium\, Lamington Road\, Branchburg\, NJ\, 08876\, United States
CATEGORIES:Career Event
END:VEVENT
END:VCALENDAR