BEGIN:VCALENDAR
VERSION:2.0
PRODID:-//Greater Raritan - ECPv6.3.5//NONSGML v1.0//EN
CALSCALE:GREGORIAN
METHOD:PUBLISH
X-WR-CALNAME:Greater Raritan
X-ORIGINAL-URL:https://www.thegrwdb.org
X-WR-CALDESC:Events for Greater Raritan
REFRESH-INTERVAL;VALUE=DURATION:PT1H
X-Robots-Tag:noindex
X-PUBLISHED-TTL:PT1H
BEGIN:VTIMEZONE
TZID:America/New_York
BEGIN:DAYLIGHT
TZOFFSETFROM:-0500
TZOFFSETTO:-0400
TZNAME:EDT
DTSTART:20250309T070000
END:DAYLIGHT
BEGIN:STANDARD
TZOFFSETFROM:-0400
TZOFFSETTO:-0500
TZNAME:EST
DTSTART:20251102T060000
END:STANDARD
END:VTIMEZONE
BEGIN:VEVENT
DTSTART;TZID=America/New_York:20251011T093000
DTEND;TZID=America/New_York:20251011T113000
DTSTAMP:20260420T184026
CREATED:20250924T231032Z
LAST-MODIFIED:20250924T231051Z
UID:14853-1760175000-1760182200@www.thegrwdb.org
SUMMARY:Breakfast Club NJ presents ChatGPT & AI for the Job Seeker
DESCRIPTION:AI isn’t replacing the job search—it’s rewriting the rules. At 9:30 a.m. Saturday\, October 11\, in the Conference Center of the East Brunswick Public Library\, 2 Jean Walling Civic Center Drive\, The Breakfast Club NJ will host Sam Velu who will talk about “ChatGPT & AI for the Job Seeker.”\n\nIn this session\, Velu will break down how job seekers can use ChatGPT and other AI tools to gain an edge at every stage of their career journey. From crafting resumes that beat applicant tracking systems\, to preparing for interviews with personalized coaching\, to building a stronger online presence\, his talk is designed to offer practical\, real-world strategies that will help job seekers stand out. Attendees will walk away with actionable tactics that can be used immediately to find and land the right opportunities faster. \nVelu is a C-level staffing executive\, AI consultant\, and keynote speaker with over two decades of experience helping job seekers connect with meaningful work. He has built and led teams across the U.S. and India\, with expertise spanning IT staffing\, AI-driven recruiting\, and business transformation. As founder of Pura Vida\, Sam is pioneering the use of AI tools to reshape how candidates and companies connect. He’s passionate about equipping job seekers with practical strategies that combine technology\, mindset\, and storytelling to unlock career growth. \nDoors open at 9 a.m. and his presentation will run from 9:30 to 10:30 a.m.\, followed by networking through 11:30 a.m. A $10 fee will be collected at the door to pay for the cost of the room. \nTo RSVP for this event\, go to https://www.meetup.com/The-Breakfast-Club-NJ/.
URL:https://www.thegrwdb.org/event/breakfast-club-nj-presents-chatgpt-ai-for-the-job-seeker/
LOCATION:East Brunswick Public Library\, 2 Jean Walling Civic Center Drive\, East Brunswick\, NJ\, 08816\, United States
CATEGORIES:Career Event
END:VEVENT
END:VCALENDAR