BEGIN:VCALENDAR
VERSION:2.0
PRODID:-//Greater Raritan - ECPv6.3.5//NONSGML v1.0//EN
CALSCALE:GREGORIAN
METHOD:PUBLISH
X-WR-CALNAME:Greater Raritan
X-ORIGINAL-URL:https://www.thegrwdb.org
X-WR-CALDESC:Events for Greater Raritan
REFRESH-INTERVAL;VALUE=DURATION:PT1H
X-Robots-Tag:noindex
X-PUBLISHED-TTL:PT1H
BEGIN:VTIMEZONE
TZID:America/New_York
BEGIN:DAYLIGHT
TZOFFSETFROM:-0500
TZOFFSETTO:-0400
TZNAME:EDT
DTSTART:20200308T070000
END:DAYLIGHT
BEGIN:STANDARD
TZOFFSETFROM:-0400
TZOFFSETTO:-0500
TZNAME:EST
DTSTART:20201101T060000
END:STANDARD
BEGIN:DAYLIGHT
TZOFFSETFROM:-0500
TZOFFSETTO:-0400
TZNAME:EDT
DTSTART:20210314T070000
END:DAYLIGHT
BEGIN:STANDARD
TZOFFSETFROM:-0400
TZOFFSETTO:-0500
TZNAME:EST
DTSTART:20211107T060000
END:STANDARD
END:VTIMEZONE
BEGIN:VEVENT
DTSTART;TZID=America/New_York:20210330T073000
DTEND;TZID=America/New_York:20210330T083000
DTSTAMP:20260420T225620
CREATED:20210323T174908Z
LAST-MODIFIED:20210323T174908Z
UID:4241-1617089400-1617093000@www.thegrwdb.org
SUMMARY:Bridgewater Professional Group Open House
DESCRIPTION:The Bridgewater Professionals Group\, an active referral network supported by the Jewish Federation of Somerset\, Hunterdon & Warren Counties\, is hosting a special virtual Open House at 7:30 p.m. Tuesday\, March 30. \nAnyone interested in highlighting their business and/or learning more about joining the BPG is invited to attend. There are rotating vacancies for a number of professional roles which attendees can learn more about during this event. \nFor more information\, email Shaina Sherman at ssherman@jfedshaw.org. \n 
URL:https://www.thegrwdb.org/event/bridgewater-professional-group-open-house/
LOCATION:Virtual Meeting
CATEGORIES:Business Event
END:VEVENT
BEGIN:VEVENT
DTSTART;TZID=America/New_York:20210312T090000
DTEND;TZID=America/New_York:20210312T100000
DTSTAMP:20260420T225620
CREATED:20210302T212953Z
LAST-MODIFIED:20210302T213150Z
UID:4047-1615539600-1615543200@www.thegrwdb.org
SUMMARY:Virtual Employer Session: Success Strategies for Virtual Selling/Communicating in Business and in Life
DESCRIPTION:Selling/Communicating in this new normal has created challenges and unique opportunities in the world of virtual face-to-face interaction. Communicating via video offers significant advantages for engaging and winning opportunities in a new way. \nIn this virtual session sponsored by the Franklin Township Chamber of Commerce\, Jim Barnoski will teach participants how to use the Sandler Selling System to win clients faster and more consistently in Video (Zoom) sales presentations. \n \nThe session starts at 9 a.m. on Friday\, March 21. \nVisit www.franklinchambernj.org.
URL:https://www.thegrwdb.org/event/virtual-employer-session-success-strategies-for-virtual-selling-communicating-in-business-and-in-life/
LOCATION:Virtual Event
CATEGORIES:Business Event
END:VEVENT
BEGIN:VEVENT
DTSTART;TZID=America/New_York:20210126T090000
DTEND;TZID=America/New_York:20210126T100000
DTSTAMP:20260420T225620
CREATED:20201208T225225Z
LAST-MODIFIED:20201222T220201Z
UID:3619-1611651600-1611655200@www.thegrwdb.org
SUMMARY:Business Services For Somerset County Employers
DESCRIPTION:The New Jersey Department of Labor and Workforce Development offers an array of free services for businesses. \nDuring “Growing Your Business: Department of Labor’s Business Services 101\,” running from 9 a.m. to 10 a.m. Tuesday\, Jan. 26\, three system team members and partners will talk about the free services available to employers in Somerset County. \nPresenters include Jessica Johannesen\, the NJDOL Business Service Representative for Hunterdon County; Amanda Modale\, the Business Service Representative for Somerset County and a regional team supervisor; and Paul Grzella\, director of the Greater Raritan Workforce Development Board\, which services Hunterdon and Somerset counties. \nThis event is co-sponsored by the Somerset County Business Partnership. The event is free for partnership members. Go to the Somerset County Business Partnership website for more information and to register.
URL:https://www.thegrwdb.org/event/hunterdon-info-on-business-services-for-employers-2/
LOCATION:Virtual Event
CATEGORIES:Business Event
END:VEVENT
BEGIN:VEVENT
DTSTART;TZID=America/New_York:20210121T090000
DTEND;TZID=America/New_York:20210121T100000
DTSTAMP:20260420T225620
CREATED:20201208T225225Z
LAST-MODIFIED:20201222T215312Z
UID:3532-1611219600-1611223200@www.thegrwdb.org
SUMMARY:Business Services For Hunterdon County Employers
DESCRIPTION:The New Jersey Department of Labor and Workforce Development offers an array of free services for businesses. \nDuring a virtual Info Session running from 9 a.m. to 10 a.m. Thursday\, Jan. 21\, three system team members and partners will talk about the free services available to employers in Hunterdon County. (Please note that this session was originally set for for Dec. 17 but rescheduled due to weather.) \nPresenters include Jessica Johannesen\, the NJDOL Business Service Representative for Hunterdon County; Amanda Modale\, the Business Service Representative for Somerset County and a regional team supervisor; and Paul Grzella\, director of the Greater Raritan Workforce Development Board\, which services Hunterdon and Somerset counties. \nThis event is co-sponsored by the Hunterdon County Chamber of Commerce. A RSVP is required to attend. Visit www.hunterdonchamber.org or email info@hunterdon-chamber.org.
URL:https://www.thegrwdb.org/event/hunterdon-info-on-business-services-for-employers/
LOCATION:Virtual Event
CATEGORIES:Business Event
END:VEVENT
BEGIN:VEVENT
DTSTART;TZID=America/New_York:20201029T110000
DTEND;TZID=America/New_York:20201029T140000
DTSTAMP:20260420T225620
CREATED:20200519T134931Z
LAST-MODIFIED:20200519T135113Z
UID:2512-1603969200-1603980000@www.thegrwdb.org
SUMMARY:SCBP Workplace Wellness Expo featuring BizFest
DESCRIPTION:The Somerset County Business Partnership will present Workplace Wellness Expo featuring BizFest on Thursday\, Oct. 29\, from 11 a.m. to 2 p.m.\, at The Imperia in the Somerset section of Franklin. The free event\, conducted in observance of Healthier Somerset Month\, aims to engage companies and community partners countywide in an effort to support employee wellness and promote healthy living in Somerset County. At the event\, exhibitors offer information\, comprehensive screenings\, nutritious food samplings\, prize drawings and more.\n\n\nBecause of the COVID-related events of 2020\, the Somerset County Business Partnership is combining the Workplace Wellness and its BizFest Signature Events\, to provide members with the most coverage possible. A Virtual BizFest 2020 is also set for Thursday\, June 18. \nFor more information and to register\, visit https://www.scbp.org/health-wellness-expo/.
URL:https://www.thegrwdb.org/event/scbp-workplace-wellness-expo-featuring-bizfest/
LOCATION:The Imperia\, 1414 Easton Ave.\, Somerset\, NJ\, 08873\, United States
CATEGORIES:Business Event
END:VEVENT
BEGIN:VEVENT
DTSTART;TZID=America/New_York:20201007T173000
DTEND;TZID=America/New_York:20201007T190000
DTSTAMP:20260420T225620
CREATED:20200922T195431Z
LAST-MODIFIED:20200922T195431Z
UID:3094-1602091800-1602097200@www.thegrwdb.org
SUMMARY:The Changing Employment Landscape During Unprecedented Times
DESCRIPTION:The Business Networking Group of the Jewish Federation of Somerset\, Hunterdon and Warren Counties is hosting a networking event\, The Changing Employment Landscape During Unprecedented Times\, on Wednesday\, Oct. 7\, via Zoom. \nPaul Grzella\, director of the Greater Raritan Workforce Development Board\, will speak about the mission and work of the board and its partners\, and also share insights on what local labor market information is showing. The event and network will run from 5:30 to 6:30 p.m.\, and there will be additional networking time from 6:30 to  7 p.m. \nThe couvert is $18. To register\, visit Jfedshaw.org/BNG\, or call Lauren at 908-758-2003.
URL:https://www.thegrwdb.org/event/the-changing-employment-landscape-during-unprecedented-times/
LOCATION:Zoom
CATEGORIES:Business Event
END:VEVENT
BEGIN:VEVENT
DTSTART;TZID=America/New_York:20201002T090000
DTEND;TZID=America/New_York:20201002T100000
DTSTAMP:20260420T225620
CREATED:20200928T214724Z
LAST-MODIFIED:20200928T214724Z
UID:3135-1601629200-1601632800@www.thegrwdb.org
SUMMARY:SCBP Minority Business Leaders Roundtable
DESCRIPTION:The Somerset County Business Partnership is launching a minority-owned business leaders roundtable forum to provide a unified voice for its members. \nFor the group’s first meeting from 9 to 10 a.m. Friday\, Oct. 2\, participants will hear from Paula A. Gutierrez\, MHA\, CPTC – Director\, Diversity & Inclusion and Babs Siperstein PROUD Center & Robert Wood Johnson University Hospital Somerset/RWJBarnabas Health.  As Director of Diversity and Inclusion\, Gutierrez drives the D&I strategy for RWJUH Somerset\, an affiliate of RWJBarnabas Health\, NJ’s largest academic healthcare system. \nGo here to register for this virtual event. \nThe SCBP is looking for the community’s assistance in shaping this group\, and welcome feedback;  reach out to info@scbp.org.
URL:https://www.thegrwdb.org/event/scbp-minority-business-leaders-roundtable/
LOCATION:Virtual Meeting
CATEGORIES:Business Event
END:VEVENT
BEGIN:VEVENT
DTSTART;TZID=America/New_York:20201002T073000
DTEND;TZID=America/New_York:20201002T130000
DTSTAMP:20260420T225620
CREATED:20200922T193511Z
LAST-MODIFIED:20200922T193525Z
UID:3089-1601623800-1601643600@www.thegrwdb.org
SUMMARY:Manufacturing Day 2020 - Made in New Jersey
DESCRIPTION:National Manufacturing Day is an important way for the New Jersey Manufacturing Extension Program (NJMEP) to spread the word about the benefits that manufacturing provides to the Garden State. \nAs a supporter of Manufacturing Day\, NJMEP is working to drive awareness of manufacturing\, the career opportunities that are available\, and the advanced technologies that are driving the industry. \nThis year’s celebration on Friday\, Oct. 2\, will be virtual\, with NJMEP celebrating every New Jersey manufacturing business and essential employee. \nHighlights include a Virtual Exhibit Hall focusing on the companies supporting the industry and the manufacturers that keep the world moving; breakout sessions ranging from Manufacturing Cyber Risks to exploring Workforce Strategies; and one-on-one strategy sessions allowing participants to talk with companies via video conference. The Virtual Exhibit all runs from 7:30 to 9:30 a.m.\, followed by the breakout sessions going to noon. The day ends with the one-on-one strategy sessions. \nFor more information and to register\, go to https://www.njmep.org/manufacturing-day-2020-new-jersey/.
URL:https://www.thegrwdb.org/event/manufacturing-day-2020-made-in-new-jersey/
LOCATION:Virtual Event
CATEGORIES:Business Event
END:VEVENT
BEGIN:VEVENT
DTSTART;TZID=America/New_York:20200819T100000
DTEND;TZID=America/New_York:20200819T113000
DTSTAMP:20260420T225620
CREATED:20200811T173752Z
LAST-MODIFIED:20200811T173752Z
UID:2900-1597831200-1597836600@www.thegrwdb.org
SUMMARY:Virtual Networking 101 sponsored by Newark International Airport Terminal One Redevelopment Program
DESCRIPTION:A Virtual Networking 101 event will be sponsored from 10 to 11:30 a.m. Wednesday\, Aug. 19\, the Newark International Airport Terminal One Redevelopment Program. \nPart of a job readiness workshop series\, the program’s outreach team will provide insight on the proper way to successfully promote one’s self or business when seeking employment or contract opportunities. \nRSVP here.
URL:https://www.thegrwdb.org/event/virtual-networking-101-sponsored-by-newark-international-airport-terminal-one-redevelopment-program/
LOCATION:Virtual Meeting
CATEGORIES:Business Event
END:VEVENT
BEGIN:VEVENT
DTSTART;TZID=America/New_York:20200618T080000
DTEND;TZID=America/New_York:20200618T170000
DTSTAMP:20260420T225620
CREATED:20200519T134044Z
LAST-MODIFIED:20200519T134103Z
UID:2509-1592467200-1592499600@www.thegrwdb.org
SUMMARY:SCBP Virtual BizFest 2020
DESCRIPTION:The Somerset County Business Partnership is hosting Virtual BizFest 2020 on Thursday\, June 18\, starting at 8 a.m. \nThe event’s schedule: \n8-9:30 a.m. –  Back to Business Virtual Networking Event  (limited to 25 attendees) \n\n9:30 a.m. to 3:30 p.m.  – Business Presentations (half-hour sessions\, limited to first 20 companies; the schedule of webinars will be released in early June \n3:30-5 p.m. – Back to Business Virtual Networking Event  (limited to 25 attendees) \nFor details and registration\, go to https://web.scbp.org/events/VirtualBizFest%202020-19428/details. \n 
URL:https://www.thegrwdb.org/event/scbp-virtual-bizfest-2020/
LOCATION:Virtual Meeting
CATEGORIES:Business Event
END:VEVENT
BEGIN:VEVENT
DTSTART;TZID=America/New_York:20200528T090000
DTEND;TZID=America/New_York:20200528T100000
DTSTAMP:20260420T225620
CREATED:20200522T155859Z
LAST-MODIFIED:20200522T155859Z
UID:2533-1590656400-1590660000@www.thegrwdb.org
SUMMARY:Hunterdon County Chamber of Commerce Virtual Open House
DESCRIPTION:The Hunterdon County Chamber of Commerce continues to provide a variety of services to its members and county businesses during the COVID era. \nProspective members can learn more during a Virtual Open House being conducted from 9 to 10 .m. Thursday\, May 28. Members of the chamber staff will explore the organization’s many services\, including a constantly expanded resource page for businesses. \nTo register\, go to https://hunterdonnjcoc.wliinc15.com/events/VirtualMembership%20Open%20House-4942/details
URL:https://www.thegrwdb.org/event/hunterdon-county-chamber-of-commerce-virtual-open-house/
LOCATION:Virtual Meeting
CATEGORIES:Business Event
END:VEVENT
END:VCALENDAR