BEGIN:VCALENDAR
VERSION:2.0
PRODID:-//Greater Raritan - ECPv6.3.5//NONSGML v1.0//EN
CALSCALE:GREGORIAN
METHOD:PUBLISH
X-WR-CALNAME:Greater Raritan
X-ORIGINAL-URL:https://www.thegrwdb.org
X-WR-CALDESC:Events for Greater Raritan
REFRESH-INTERVAL;VALUE=DURATION:PT1H
X-Robots-Tag:noindex
X-PUBLISHED-TTL:PT1H
BEGIN:VTIMEZONE
TZID:America/New_York
BEGIN:DAYLIGHT
TZOFFSETFROM:-0500
TZOFFSETTO:-0400
TZNAME:EDT
DTSTART:20260308T070000
END:DAYLIGHT
BEGIN:STANDARD
TZOFFSETFROM:-0400
TZOFFSETTO:-0500
TZNAME:EST
DTSTART:20261101T060000
END:STANDARD
END:VTIMEZONE
BEGIN:VEVENT
DTSTART;TZID=America/New_York:20260326T153000
DTEND;TZID=America/New_York:20260326T160000
DTSTAMP:20260420T105314
CREATED:20260306T204237Z
LAST-MODIFIED:20260306T205604Z
UID:16146-1774539000-1774540800@www.thegrwdb.org
SUMMARY:Employer Webinar: Using Metrix Learning/SkillUp for Employee Training
DESCRIPTION:Employers in Somerset and Hunterdon Counties are invited to attend one of two webinars to learn how SkillUp Greater Raritan can be used to provide free upskilling training to staff. The sessions will be conducted at 11 a.m. Tuesday\, March 24\, 2026\, and at 3:30 p.m. Thursday\, March 26\, 2026. During each session\, there will be examples of how local employers are using the platform for staff training and participants will also learn about other GRWDB paid-training opportunities for businesses. \nEmployers may join either session by using the following link: https://meet.goto.com/510433933. \nThe SkillUp Greater Raritan Metrix Learning® platform is a free online learning-management system featuring more than 7\,000 courses\, which can be done individually or with cohorts. The courses can be used for new hires\, development for longtime workers and manager skill enhancement. The $199 per person cost of the employee training program will be covered by GRWDB grant dollars. \nEmployers can choose a preset learning path\, or they can customize the employee learning system to fit their needs. Metrix Learning® personnel will collaborate with employers to create a program that fits their learning needs. This easy online learning-management system will also keep track of employees’ course progress\, course completion\, and hours of training. \nEmployers interested in getting started with this program immediately may email info@thegrwdb.org or call 908-541-5790\, and they will be connected to the GRWDB’s Metrix Learning training partner.
URL:https://www.thegrwdb.org/event/employer-webinar-using-metrix-learning-skillup-for-employee-training-2/
LOCATION:Virtual Event
CATEGORIES:Business Event
END:VEVENT
END:VCALENDAR