BEGIN:VCALENDAR
VERSION:2.0
PRODID:-//Greater Raritan - ECPv6.3.5//NONSGML v1.0//EN
CALSCALE:GREGORIAN
METHOD:PUBLISH
X-ORIGINAL-URL:https://www.thegrwdb.org
X-WR-CALDESC:Events for Greater Raritan
REFRESH-INTERVAL;VALUE=DURATION:PT1H
X-Robots-Tag:noindex
X-PUBLISHED-TTL:PT1H
BEGIN:VTIMEZONE
TZID:America/New_York
BEGIN:DAYLIGHT
TZOFFSETFROM:-0500
TZOFFSETTO:-0400
TZNAME:EDT
DTSTART:20250309T070000
END:DAYLIGHT
BEGIN:STANDARD
TZOFFSETFROM:-0400
TZOFFSETTO:-0500
TZNAME:EST
DTSTART:20251102T060000
END:STANDARD
END:VTIMEZONE
BEGIN:VEVENT
DTSTART;TZID=America/New_York:20251003T073000
DTEND;TZID=America/New_York:20251003T160000
DTSTAMP:20260420T213929
CREATED:20250801T221501Z
LAST-MODIFIED:20250801T221804Z
UID:14564-1759476600-1759507200@www.thegrwdb.org
SUMMARY:NJ Conference for Women 2025 in Princeton
DESCRIPTION:NJ Conference for Women 2025 will be conducted from 7:30 a.m. to 4 p.m. Friday\, October 3\, at the Hyatt Regency Princeton\, 102 Carnegie Center\,\nPrinceton. Presented by the Princeton Mercer Regional Chamber of Commerce Women in Business Alliance\, this is the largest one-day gathering of professional women in the Garden State\, typically attracting 700-plus attendees. \nThe event will include 40-plus exhibitors\, breakout sessions\, a breakfast buffet and a celebration luncheon. The opening keynote speaker is Melanie Curtis\, a former investment banker turned stunt-woman world-record pro skydiver (she’s jumped out of an airplane over 12\,000 times)\, life coach\, author\, activist and entrepreneur. The closing keynote speaker is Adriana Carrig\, founder of Little Words Project\, a jewelry brand focusing on inspiring a kinder world. \nFor more information and costs\, visit njconferenceforwomen.org.
URL:https://www.thegrwdb.org/event/nj-conference-for-women/
LOCATION:Hyatt Regency Princeton\, 102 Carnegie Center\, Princeton\, NJ\, 08540\, United States
CATEGORIES:Business Event
END:VEVENT
END:VCALENDAR