BEGIN:VCALENDAR
VERSION:2.0
PRODID:-//Greater Raritan - ECPv6.3.5//NONSGML v1.0//EN
CALSCALE:GREGORIAN
METHOD:PUBLISH
X-WR-CALNAME:Greater Raritan
X-ORIGINAL-URL:https://www.thegrwdb.org
X-WR-CALDESC:Events for Greater Raritan
REFRESH-INTERVAL;VALUE=DURATION:PT1H
X-Robots-Tag:noindex
X-PUBLISHED-TTL:PT1H
BEGIN:VTIMEZONE
TZID:America/New_York
BEGIN:DAYLIGHT
TZOFFSETFROM:-0500
TZOFFSETTO:-0400
TZNAME:EDT
DTSTART:20250309T070000
END:DAYLIGHT
BEGIN:STANDARD
TZOFFSETFROM:-0400
TZOFFSETTO:-0500
TZNAME:EST
DTSTART:20251102T060000
END:STANDARD
END:VTIMEZONE
BEGIN:VEVENT
DTSTART;TZID=America/New_York:20250116T110000
DTEND;TZID=America/New_York:20250116T123000
DTSTAMP:20260421T114610
CREATED:20241226T160840Z
LAST-MODIFIED:20241226T161804Z
UID:13000-1737025200-1737030600@www.thegrwdb.org
SUMMARY:Webinar: The Impact of Immigration on American Workers
DESCRIPTION:Under what circumstances does immigration strengthen the overall economy\, including the job prospects and earnings levels of American workers?\nAnd when might immigration harm the interests of U.S.-born workers? \nA webinar\, The Impact of Immigration on American Workers\, aims to address these questions while providing insight into labor conditions in New Jersey and the extent to which the Garden State should rely on immigrant labor in the future. \nThe webinar will run from 11 a.m. to 12:30 p.m. Thursday\, January 16\, and is hosted by The Garden State Immigration Policy Institute\, a joint project of the NJ Business and Industry Association and the NJ Business Immigration Coalition. \nThe keynote speaker is Professor Zeke Hernandez\, Wharton School\, University of Pennsylvania\, and the author of the recently published book “The Truth About Immigration.” His talk will be followed by a panel discussion of industry representatives. \nThe event is free and open to the general public. To register\, go here. \n 
URL:https://www.thegrwdb.org/event/webinar-the-impac-of-immigration-on-american-workers/
LOCATION:Zoom
CATEGORIES:Business Event
END:VEVENT
END:VCALENDAR