BEGIN:VCALENDAR
VERSION:2.0
PRODID:-//Greater Raritan - ECPv6.3.5//NONSGML v1.0//EN
CALSCALE:GREGORIAN
METHOD:PUBLISH
X-ORIGINAL-URL:https://www.thegrwdb.org
X-WR-CALDESC:Events for Greater Raritan
REFRESH-INTERVAL;VALUE=DURATION:PT1H
X-Robots-Tag:noindex
X-PUBLISHED-TTL:PT1H
BEGIN:VTIMEZONE
TZID:America/New_York
BEGIN:DAYLIGHT
TZOFFSETFROM:-0500
TZOFFSETTO:-0400
TZNAME:EDT
DTSTART:20250309T070000
END:DAYLIGHT
BEGIN:STANDARD
TZOFFSETFROM:-0400
TZOFFSETTO:-0500
TZNAME:EST
DTSTART:20251102T060000
END:STANDARD
END:VTIMEZONE
BEGIN:VEVENT
DTSTART;TZID=America/New_York:20250716T100000
DTEND;TZID=America/New_York:20250716T130000
DTSTAMP:20260420T232612
CREATED:20250617T225500Z
LAST-MODIFIED:20250617T225500Z
UID:14295-1752660000-1752670800@www.thegrwdb.org
SUMMARY:Business Resource Event at Middlesex College
DESCRIPTION:In partnership with Middlesex County Economic Development\, the New Jersey Business Action Center (NJBAC) will host a “Resources for Growth” event from 10 a.m. to 1 p.m. Wednesday\, July 16\, at Middlesex College’s West Hall in Edison. \nThis initiative brings state agencies and other business organizations directly to the small business community to help business owners and entrepreneurs discover the various financing and incentive programs\, technical assistance\, and services available to facilitate business growth and success. \nAgencies to be on hand include the N.J. Small Business Development Center\, N.J. Economic Development Authority\, Department of Labor and Workforce Development\, Department of the Treasury\, Retire Ready NJ\, Board of Public Utilities\, N.J. Department of Environment Protection and serval more. \nAll businesses are invited to attend. To register for the free event\, go here. Registration and entry will open at 9:45 a.m. Free parking is available\, and light refreshments will be provided (Pre-registration and ID are required.)
URL:https://www.thegrwdb.org/event/business-resource-event-at-middlesex-college/
LOCATION:Middlesex College\, 2600 Woodbridge Ave.\, Edison\, NJ\, 08818\, United States
CATEGORIES:Business Event
END:VEVENT
BEGIN:VEVENT
DTSTART;TZID=America/New_York:20250729T090000
DTEND;TZID=America/New_York:20250729T110000
DTSTAMP:20260420T232612
CREATED:20250708T225310Z
LAST-MODIFIED:20250708T225310Z
UID:14414-1753779600-1753786800@www.thegrwdb.org
SUMMARY:InnovationNJ Coalition Meeting
DESCRIPTION:The next InnovationNJ Coalition Meeting will be conducted from 9 to 11 a.m. Tuesday\, July 29\, at the New Brunswick Performing Arts Center: 11 Livingston Ave.\, New Brunswick \nChristopher Paladino\, president\, New Brunswick Development Corporation (DEVCO) and CEO of HELIX NJ\, will be the main presenter. An update from NJBioFutures also will be given. The meeting also will include general updates and open discussion. \nTo register\, go here. \n 
URL:https://www.thegrwdb.org/event/innovationnj-coalition-meeting/
LOCATION:New Brunswick Performing Arts Center\, 11 Livingston Ave.\, New Brunswick\, NJ\, 08901\, United States
CATEGORIES:Business Event
END:VEVENT
END:VCALENDAR