BEGIN:VCALENDAR
VERSION:2.0
PRODID:-//Greater Raritan - ECPv6.3.5//NONSGML v1.0//EN
CALSCALE:GREGORIAN
METHOD:PUBLISH
X-ORIGINAL-URL:https://www.thegrwdb.org
X-WR-CALDESC:Events for Greater Raritan
REFRESH-INTERVAL;VALUE=DURATION:PT1H
X-Robots-Tag:noindex
X-PUBLISHED-TTL:PT1H
BEGIN:VTIMEZONE
TZID:America/New_York
BEGIN:DAYLIGHT
TZOFFSETFROM:-0500
TZOFFSETTO:-0400
TZNAME:EDT
DTSTART:20250309T070000
END:DAYLIGHT
BEGIN:STANDARD
TZOFFSETFROM:-0400
TZOFFSETTO:-0500
TZNAME:EST
DTSTART:20251102T060000
END:STANDARD
END:VTIMEZONE
BEGIN:VEVENT
DTSTART;TZID=America/New_York:20250611T120000
DTEND;TZID=America/New_York:20250611T130000
DTSTAMP:20260421T011734
CREATED:20250523T224524Z
LAST-MODIFIED:20250523T224524Z
UID:14169-1749643200-1749646800@www.thegrwdb.org
SUMMARY:Lunch and Learn: Keeping Your Employee Handbook Current and Why it Matters
DESCRIPTION:The Hunterdon County Chamber of Commerce Foundation\, with support from the Hunterdon County Commissioners\, is offering a Lunch and Learn Wednesday\, June 11 at 12 p.m. on an important topic for all employers — “Keeping Your Employee Handbook Current and Why it Matters.”   This workshop is for business owners\, managers and HR representatives.  Lunch will be provided. \nThe speaker\, Leslie Parikh\, Gebhardt & Kiefer Law Offices\, will focus on how an Employee Handbook should align with today’s workplace and legal requirements to effectively communicate policies and standards.  Her practice concentrates in the areas of employment law\, civil rights litigation and municipal law. At the conclusion of the workshop\, attendees will walk away with practical information which can be used immediately to ensure an organization’s Employee Handbook is the resource and tool that provides up to date\, clear information on policies\, procedures\, and workplace requirements. \nThe workshop will be conducted at the Unity Center for Business and Entrepreneurship\, 119 Main St.\, Flemington\, NJ 08822.  To register\, go to Keeping Your Employee Handbook Current and Why it Matters – Center for Business & Entrepreneurship Workshop – Hunterdon County Chamber of Commerce.   For more information\, visit the Chamber’s website or call 908-782-7115.
URL:https://www.thegrwdb.org/event/lunch-and-learn-keeping-your-employee-handbook-current-and-why-it-matters/
LOCATION:Hunterdon County Chamber of Commerce Center for Business & Entrepreneurship\, 119 Main St.\, Flemington\, NJ\, 08812\, United States
CATEGORIES:Business Event
END:VEVENT
END:VCALENDAR