BEGIN:VCALENDAR
VERSION:2.0
PRODID:-//Greater Raritan - ECPv6.3.5//NONSGML v1.0//EN
CALSCALE:GREGORIAN
METHOD:PUBLISH
X-WR-CALNAME:Greater Raritan
X-ORIGINAL-URL:https://www.thegrwdb.org
X-WR-CALDESC:Events for Greater Raritan
REFRESH-INTERVAL;VALUE=DURATION:PT1H
X-Robots-Tag:noindex
X-PUBLISHED-TTL:PT1H
BEGIN:VTIMEZONE
TZID:America/New_York
BEGIN:DAYLIGHT
TZOFFSETFROM:-0500
TZOFFSETTO:-0400
TZNAME:EDT
DTSTART:20240310T070000
END:DAYLIGHT
BEGIN:STANDARD
TZOFFSETFROM:-0400
TZOFFSETTO:-0500
TZNAME:EST
DTSTART:20241103T060000
END:STANDARD
END:VTIMEZONE
BEGIN:VEVENT
DTSTART;TZID=America/New_York:20241009T120000
DTEND;TZID=America/New_York:20241009T130000
DTSTAMP:20260421T151534
CREATED:20240930T214816Z
LAST-MODIFIED:20240930T214841Z
UID:12354-1728475200-1728478800@www.thegrwdb.org
SUMMARY:NJDOL Employer Lunch & Learn Webinar: Wage & Hour
DESCRIPTION:The next New Jersey Department of Labor Lunch & Learn webinar will focus on Wage & Hour rules. The session will be conducted at noon on Wednesday\, October 9. \nParticipants will learn about rules and regulations for: Minimum Wage; Record Keeping; Methods of Wage Payment; Overtime; Earned Sick Leave; Misclassification; Workers’ Compensation; and Anti-retaliation. \nThis session will be conducted on Microsoft Teams. To participate online\, use this link: Join the meeting\, Meeting ID: 247 187 538 10; Passcode: i5L4Gt.  To join by phone\, call 856-338-7074. \nIn addition\, the NJDOL Division of Wage and Hour Compliance is collecting questions from webinar participants in advance of the presentation. Applications can be submitted using this link: https://forms.office.com/g/F8ZcW57qPQ.
URL:https://www.thegrwdb.org/event/njdol-employer-lunch-learn-webinar-wage-hour/
LOCATION:Virtual Event
CATEGORIES:Business Event
END:VEVENT
BEGIN:VEVENT
DTSTART;TZID=America/New_York:20241017T110000
DTEND;TZID=America/New_York:20241017T120000
DTSTAMP:20260421T151534
CREATED:20240702T185819Z
LAST-MODIFIED:20240702T185819Z
UID:11900-1729162800-1729166400@www.thegrwdb.org
SUMMARY:Using SkillUp Greater Raritan for Employer Training Needs
DESCRIPTION:Employers are invited to attend a series of webinars to learn how SkillUp Greater Raritan can be utilized to provide free upskilling training to staff. The sessions are conducted at 11 a.m. on the third Thursday of the month – on September 19\, October 17\, November 21\, and December 19\, 2024. During each session\, examples of how local employers are using the platform for training will be shared. In addition\, other business-focused programs offered by the Greater Raritan Workforce Development Board (GRWDB) and state partners will be reviewed. \nSkillUp Greater Raritan using Metrix Learning® is a learning management system with more than 7\,000 courses that can be used for internal employee assessment and upskilling. Employers can choose from preset tracks or customize courses based on their department needs. Employers in Hunterdon and Somerset counties are using the platform for: \n\nNew Hires – Onboarding standards\nCareer Ascendancy – Identify skills for promotion\nManagers/Supervisors – Skill development for managers\, new and old\nTechnology Training – Ensure staff are familiar with current best practices.\n\nEmployers can have individuals or cohorts trained. As part of the program\, employers can keep track of employee course progress with reports on accesses\, course completions\, and training hours. \nThis service is free to employers\, covered through grant programs offered by the Greater Raritan Workforce Development Board. To participate in any one of the webinars\, go to https://meet.goto.com/510433933 \nFor details or to get started with the program immediately\, email info@thegrwdb.org or call 908-541-5790.
URL:https://www.thegrwdb.org/event/using-skillup-greater-raritan-for-employer-training-needs-2/
LOCATION:GoToMeeting
CATEGORIES:Business Event
END:VEVENT
BEGIN:VEVENT
DTSTART;TZID=America/New_York:20241022T120000
DTEND;TZID=America/New_York:20241022T130000
DTSTAMP:20260421T151534
CREATED:20241015T200615Z
LAST-MODIFIED:20241015T221822Z
UID:12450-1729598400-1729602000@www.thegrwdb.org
SUMMARY:Resources for Employers to Pay For Employee Training\, Degrees
DESCRIPTION:New Jersey Higher Education Student Assistance Authority (HESAA) is hosting a webinar at noon on Tuesday\, October 22\, for employers to learn about resources that can be used to pay for employee training and postsecondary degrees. \nNJ State Higher Education Financial Aid can complement existing benefits packages. \nGo here to register for this webinar.
URL:https://www.thegrwdb.org/event/resources-for-employers-to-pay-for-employee-training-degrees/
LOCATION:Virtual Event
CATEGORIES:Business Event
END:VEVENT
END:VCALENDAR