BEGIN:VCALENDAR
VERSION:2.0
PRODID:-//Greater Raritan - ECPv6.3.5//NONSGML v1.0//EN
CALSCALE:GREGORIAN
METHOD:PUBLISH
X-ORIGINAL-URL:https://www.thegrwdb.org
X-WR-CALDESC:Events for Greater Raritan
REFRESH-INTERVAL;VALUE=DURATION:PT1H
X-Robots-Tag:noindex
X-PUBLISHED-TTL:PT1H
BEGIN:VTIMEZONE
TZID:America/New_York
BEGIN:DAYLIGHT
TZOFFSETFROM:-0500
TZOFFSETTO:-0400
TZNAME:EDT
DTSTART:20260308T070000
END:DAYLIGHT
BEGIN:STANDARD
TZOFFSETFROM:-0400
TZOFFSETTO:-0500
TZNAME:EST
DTSTART:20261101T060000
END:STANDARD
END:VTIMEZONE
BEGIN:VEVENT
DTSTART;TZID=America/New_York:20260430T173000
DTEND;TZID=America/New_York:20260430T193000
DTSTAMP:20260420T170559
CREATED:20260226T231755Z
LAST-MODIFIED:20260409T225036Z
UID:16099-1777570200-1777577400@www.thegrwdb.org
SUMMARY:Pathways to the Future\, A Celebration for National Apprenticeship Week 2026
DESCRIPTION:The Greater Raritan Workforce Development Board’s Youth Committee is hosting Pathways to the Future\, a free in-person celebration for National Apprenticeship Week 2026\, at the Raritan Valley Community College Conference Center in Branchburg on Thursday\, April 30\, 2026\, from 5:30 p.m. to 7:30 p.m. \nThis event is open to middle school\, high school and college-age youth as well as recent graduates and other job seekers. \nBusinesses and union organizations\, school programs\, service providers\, governmental agencies and other entities are invited to take part in the event as exhibitors and use this opportunity to network with attendees. In addition\, a light meal will be served and there will be time set aside for workforce members and community leaders to share their career success stories. \nOrganizations registered to attend as of April 10 include A Votre Service Events LLC | AVS Events and Floral Art Institute\, Eastern Atlantic States Regional Council of Carpenters\, Edison Job Corps\, Hunterdon County Vocational School\, Indigo Station LLC\, Qunnections Management Group\, LLC\, Richard Hall Community Health and Wellness Center\, Schaible`s Plumbing\, Heating\, and Water Treatment\, Vanguard Energy Partners and\nVisions & Pathways. \nTo register to attend this event as an exhibitor\, go to https://bit.ly/4tWnNTH\, email nbrown@somersetcountynj.gov or call 908-203-6047. Employer registration will close on Monday\, April 27. \nCommunity members have the option to register by going to https://bit.ly/4rZWuGV. Walk-ins are welcome. \nThere is no charge to attend this workforce development event as an exhibitor or as attendee. \nFor more information\, email info@thegrwdb.org.
URL:https://www.thegrwdb.org/event/pathways-to-the-future-a-celebration-for-national-apprenticeship-week-2026/
LOCATION:Raritan Valley Community College Event Center\, 118 Lamington Road\, Branchburg\, NJ\, 08876\, United States
CATEGORIES:Apprenticeship Event
END:VEVENT
END:VCALENDAR