BEGIN:VCALENDAR
VERSION:2.0
PRODID:-//Greater Raritan - ECPv6.3.5//NONSGML v1.0//EN
CALSCALE:GREGORIAN
METHOD:PUBLISH
X-ORIGINAL-URL:https://www.thegrwdb.org
X-WR-CALDESC:Events for Greater Raritan
REFRESH-INTERVAL;VALUE=DURATION:PT1H
X-Robots-Tag:noindex
X-PUBLISHED-TTL:PT1H
BEGIN:VTIMEZONE
TZID:America/New_York
BEGIN:DAYLIGHT
TZOFFSETFROM:-0500
TZOFFSETTO:-0400
TZNAME:EDT
DTSTART:20250309T070000
END:DAYLIGHT
BEGIN:STANDARD
TZOFFSETFROM:-0400
TZOFFSETTO:-0500
TZNAME:EST
DTSTART:20251102T060000
END:STANDARD
END:VTIMEZONE
BEGIN:VEVENT
DTSTART;TZID=America/New_York:20250820T110000
DTEND;TZID=America/New_York:20250820T120000
DTSTAMP:20260421T095216
CREATED:20250812T222622Z
LAST-MODIFIED:20250812T223913Z
UID:14612-1755687600-1755691200@www.thegrwdb.org
SUMMARY:Healthcare Careers Apprenticeship Information Session
DESCRIPTION:Jobseekers are invited to join a virtual Information Session on Registered Healthcare Apprenticeships being conducted from 11 am. to 12 p.m. Wednesday\, August 20. \nThe session\, presented by Kaizen Technologies and the Greater Raritan Workforce Development Board\, will include information on the fully paid On-the-Job Training available to participants. The program includes free online technical instruction\, transportation support\, full-time employment and state certification awarded in the following areas: Medical Administrative Assistant; Medical Billing and Coding; Electronic Health Records; and Certified Clinical Medical Assistant. \nParticipating employers include RWJBarnabas Health\, Be Well Medical Practice\, APS Dental Center and others. \nJoin the Zoom session by using the link in this flyer or by going here. \n  \n 
URL:https://www.thegrwdb.org/event/healthcare-careers-apprenticeship-information-session/
LOCATION:Virtual Event
CATEGORIES:Apprenticeship Event
END:VEVENT
END:VCALENDAR