BEGIN:VCALENDAR
VERSION:2.0
PRODID:-//Greater Raritan - ECPv6.3.5//NONSGML v1.0//EN
CALSCALE:GREGORIAN
METHOD:PUBLISH
X-WR-CALNAME:Greater Raritan
X-ORIGINAL-URL:https://www.thegrwdb.org
X-WR-CALDESC:Events for Greater Raritan
REFRESH-INTERVAL;VALUE=DURATION:PT1H
X-Robots-Tag:noindex
X-PUBLISHED-TTL:PT1H
BEGIN:VTIMEZONE
TZID:America/New_York
BEGIN:DAYLIGHT
TZOFFSETFROM:-0500
TZOFFSETTO:-0400
TZNAME:EDT
DTSTART:20250309T070000
END:DAYLIGHT
BEGIN:STANDARD
TZOFFSETFROM:-0400
TZOFFSETTO:-0500
TZNAME:EST
DTSTART:20251102T060000
END:STANDARD
END:VTIMEZONE
BEGIN:VEVENT
DTSTART;TZID=America/New_York:20251106T130000
DTEND;TZID=America/New_York:20251106T140000
DTSTAMP:20260421T032344
CREATED:20251030T221514Z
LAST-MODIFIED:20251030T222212Z
UID:15073-1762434000-1762437600@www.thegrwdb.org
SUMMARY:Apprenticeship Learning Webinar For Training Providers\, Job Seekers and Employers
DESCRIPTION:The District 1199C Training & Upgrading Fund is one of 15 U.S. Department of Labor–funded Registered Apprenticeship Industry Intermediaries. \nAs part of this national effort\, the agency is offering complimentary technical assistance and learning opportunities webinar at 1 p.m. Thursday\, November 6. \nThis session will explore the Workforce Innovation and Opportunity Act (WIOA) and its benefits for training providers\, job seekers\, and employers. The presentation is tailored for those involved in apprenticeship and work-based learning\, with presenters sharing practical strategies and actionable steps to help attendees engage more effectively with the workforce development system. \nTo register\, go here.
URL:https://www.thegrwdb.org/event/apprenticeship-learning-webinar-for-training-providers-job-seekers-and-employers/
LOCATION:Virtual Meeting
CATEGORIES:Apprenticeship Event
END:VEVENT
BEGIN:VEVENT
DTSTART;TZID=America/New_York:20251125T110000
DTEND;TZID=America/New_York:20251125T120000
DTSTAMP:20260421T032344
CREATED:20251119T184801Z
LAST-MODIFIED:20251119T184801Z
UID:15297-1764068400-1764072000@www.thegrwdb.org
SUMMARY:Registered Healthcare Apprenticeship Virtual Information Session
DESCRIPTION:Kaizen Technologies is hosting a Virtual Information Session on Registered Healthcare Apprenticeships on Tuesday\, November 25 from 11 a.m. to 12 p.m. \nThe session will focus on requirements for individuals who wish to join the program. This includes being age 18 and older; a high school graduate proficient in English\, basic computer skills\, and have transportation available. \nKaizen is working with an employer with immediate openings. Being accepted into the registered healthcare apprenticeship will allow the participant to earn while they learn. \nFor more information\, including details on how to join the Zoom session\, refer to this flyer. \n  \n 
URL:https://www.thegrwdb.org/event/registered-healthcare-apprenticeship-virtual-information-session/
LOCATION:Virtual Event
CATEGORIES:Apprenticeship Event
END:VEVENT
END:VCALENDAR