BEGIN:VCALENDAR
VERSION:2.0
PRODID:-//Greater Raritan - ECPv6.3.5//NONSGML v1.0//EN
CALSCALE:GREGORIAN
METHOD:PUBLISH
X-ORIGINAL-URL:https://www.thegrwdb.org
X-WR-CALDESC:Events for Greater Raritan
REFRESH-INTERVAL;VALUE=DURATION:PT1H
X-Robots-Tag:noindex
X-PUBLISHED-TTL:PT1H
BEGIN:VTIMEZONE
TZID:America/New_York
BEGIN:DAYLIGHT
TZOFFSETFROM:-0500
TZOFFSETTO:-0400
TZNAME:EDT
DTSTART:20250309T070000
END:DAYLIGHT
BEGIN:STANDARD
TZOFFSETFROM:-0400
TZOFFSETTO:-0500
TZNAME:EST
DTSTART:20251102T060000
END:STANDARD
END:VTIMEZONE
BEGIN:VEVENT
DTSTART;TZID=America/New_York:20250903T140000
DTEND;TZID=America/New_York:20250903T153000
DTSTAMP:20260421T064057
CREATED:20250826T192017Z
LAST-MODIFIED:20250826T192046Z
UID:14759-1756908000-1756913400@www.thegrwdb.org
SUMMARY:Registered Apprenticeship Academy Training: Adjusting Program Design for Growth and Expansion
DESCRIPTION:Are you a business owner with a registered apprenticeship program that you want to grow but you’re not sure where to start? Do you have a lot of ideas to grow your program but need support implementing a plan? \nAdjusting Program Design for Growth and Expansion: Using Tools for Program Evaluation is an expert-led training designed to help registered apprenticeship sponsors access their programs; current strengths\, gaps and growth opportunities to drive informed decision-making and enhance program success. \nThe Registered Apprenticeship Academy invites new and experienced program sponsors and employer partners to attend one of the following sessions. \nRegister for Option 1: Wednesday September 3\, 2025\, at 2 p.m. \nRegister for Option 2: Thursday September 25\, 2025\, at 12 p.m. \nIn this interactive training\, participants will: \n\nGain practical\, expert-led strategies.\nEngage in live discussions with peers and presenters.\nLeave with tools that can be implemented right away.\n\nSpace is limited so early registration is encouraged. Each session is hosted live via Microsoft Teams\, with links provided after registration.
URL:https://www.thegrwdb.org/event/registered-apprenticeship-academy-training-adjusting-program-design-for-growth-and-expansion/
LOCATION:Virtual Event
CATEGORIES:Apprenticeship Event
END:VEVENT
BEGIN:VEVENT
DTSTART;TZID=America/New_York:20250917T130000
DTEND;TZID=America/New_York:20250917T140000
DTSTAMP:20260421T064057
CREATED:20250826T182224Z
LAST-MODIFIED:20250826T182257Z
UID:14756-1758114000-1758117600@www.thegrwdb.org
SUMMARY:Business Workshop: Apprenticeship Advantage
DESCRIPTION:District 1199C Training & Upgrading Fund invites businesses and workforce-related agencies to a special event designed to expand knowledge and practices for apprenticeships. \nThe virtual event beginning at 1 p.m. Wednesday\, September 17\, will focus on Early Childhood Education and Healthcare careers. The presentation will offer guidance on how these programs can support professional growth. \nThe event is designed for agencies and businesses involved in workforce development\, education\, or community support. \nTo register\, go here. \nFor more information\, contact Jim Reese at jreese@1199ctraining.org.
URL:https://www.thegrwdb.org/event/business-workshop-apprenticeship-advantage/
LOCATION:Virtual Event
CATEGORIES:Apprenticeship Event
END:VEVENT
BEGIN:VEVENT
DTSTART;TZID=America/New_York:20250925T120000
DTEND;TZID=America/New_York:20250925T133000
DTSTAMP:20260421T064057
CREATED:20250826T192212Z
LAST-MODIFIED:20250826T192909Z
UID:14762-1758801600-1758807000@www.thegrwdb.org
SUMMARY:Registered Apprenticeship Academy Training: Adjusting Program Design for Growth and Expansion
DESCRIPTION:Are you a business owner with a registered apprenticeship program that you want to grow but you’re not sure where to start? Do you have a lot of ideas to grow your program but need support implementing a plan? \nAdjusting Program Design for Growth and Expansion: Using Tools for Program Evaluation is an expert-led training designed to help registered apprenticeship sponsors access their programs; current strengths\, gaps and growth opportunities to drive informed decision-making and enhance program success. \nThe Registered Apprenticeship Academy invites new and experienced program sponsors and employer partners to attend one of the following sessions. \nRegister for Option 1: Wednesday September 3\, 2025\, at 2 p.m. \nRegister for Option 2: Thursday September 25\, 2025\, at 12 p.m. \nIn this interactive training\, participants will: \n\nGain practical\, expert-led strategies.\nEngage in live discussions with peers and presenters.\nLeave with tools that can be implemented right away.\n\nSpace is limited so early registration is encouraged. Each session is hosted live via Microsoft Teams\, with links provided after registration.
URL:https://www.thegrwdb.org/event/registered-apprenticeship-academy-training-adjusting-program-design-for-growth-and-expansion-2/
LOCATION:Virtual Event
CATEGORIES:Apprenticeship Event
END:VEVENT
END:VCALENDAR