BEGIN:VCALENDAR
VERSION:2.0
PRODID:-//Greater Raritan - ECPv6.3.5//NONSGML v1.0//EN
CALSCALE:GREGORIAN
METHOD:PUBLISH
X-WR-CALNAME:Greater Raritan
X-ORIGINAL-URL:https://www.thegrwdb.org
X-WR-CALDESC:Events for Greater Raritan
REFRESH-INTERVAL;VALUE=DURATION:PT1H
X-Robots-Tag:noindex
X-PUBLISHED-TTL:PT1H
BEGIN:VTIMEZONE
TZID:America/New_York
BEGIN:DAYLIGHT
TZOFFSETFROM:-0500
TZOFFSETTO:-0400
TZNAME:EDT
DTSTART:20260308T070000
END:DAYLIGHT
BEGIN:STANDARD
TZOFFSETFROM:-0400
TZOFFSETTO:-0500
TZNAME:EST
DTSTART:20261101T060000
END:STANDARD
END:VTIMEZONE
BEGIN:VEVENT
DTSTART;TZID=America/New_York:20260402T090000
DTEND;TZID=America/New_York:20260402T130000
DTSTAMP:20260421T075630
CREATED:20251203T225857Z
LAST-MODIFIED:20251203T225857Z
UID:15403-1775120400-1775134800@www.thegrwdb.org
SUMMARY:Free Forklift Certificate Class at Greater Raritan One-Stop Career Center\, Somerville
DESCRIPTION:The Greater Raritan One-Stop Career Employment Services office at 75 Veterans Memorial Drive in Somerville offers a free forklift certificate class on the first Thursday of each month from 9 a.m. to 1 p.m. throughout the year. \nThe Powered Industrial Trucks (PIT) Certificate Class will enable successful participants to receive an operator’s permit from their employer upon passing a practical skills evaluation at their workplace. To take the course\, participants must have an office government ID (driver’s license\, passport\, etc.) The Greater Raritan One-Stop Career Center services residents of Hunterdon and Somerset counties. \nClasses in 2026 are scheduled for January 8 (because of the New Year’s holiday)\, February 5\, March 5\, April 2\, May 7\, June 4\, July 2\, August 6\, September 3\, October 1\, November 5\, and December 3. Participants are asked to arrive at 8:30 a.m. on the day of the class. \nClasses may fill up quickly. To register\, go to the Somerville One-Stop Career Center walk-in window and ring the bell\, or call 908-704-3000. \n 
URL:https://www.thegrwdb.org/event/free-forklift-certificate-class-at-greater-raritan-one-stop-career-center-somerville-11/
LOCATION:Somerville One-Stop Career Center\, 75 Veterans Memorial Drive East\, Somerville\, NJ\, 08876\, United States
CATEGORIES:Class
END:VEVENT
BEGIN:VEVENT
DTSTART;TZID=America/New_York:20260402T090000
DTEND;TZID=America/New_York:20260402T150000
DTSTAMP:20260421T075630
CREATED:20260108T231449Z
LAST-MODIFIED:20260108T231642Z
UID:15658-1775120400-1775142000@www.thegrwdb.org
SUMMARY:NJ Reentry Corp. 2026 Annual Conference
DESCRIPTION:The NJ Reentry Corp. 2026 Annual Conference will focus on Trauma. The event will be conducted on Thursday\, April 2\, at Saint Peter’s University in Jersey City. \nTrauma shapes behavior long after prison\, war\, or addiction ends\, and science shows why clinical care heals. \nThe conference will feature Dr. Jill Bolte Taylor. a Harvard-trained neuroanatomist\, and other national leaders in neuroscience\, medicine\, psychiatry\, and justice who will present an evidence-based conference on trauma\, recovery\, and reentry. \nTo register\, use the following Eventbrite link: https://www.eventbrite.com/e/1978413737747?aff=oddtdtcreator. \n  \n  \n 
URL:https://www.thegrwdb.org/event/nj-reentry-corp-2026-annual-conference/
LOCATION:Saint Peter’s University\, 2641 John F. Kennedy Blvd.\, Jersey City\, NJ\, 07306\, United States
CATEGORIES:Community Event
END:VEVENT
BEGIN:VEVENT
DTSTART;TZID=America/New_York:20260402T130000
DTEND;TZID=America/New_York:20260402T140000
DTSTAMP:20260421T075630
CREATED:20260317T201258Z
LAST-MODIFIED:20260317T201354Z
UID:16233-1775134800-1775138400@www.thegrwdb.org
SUMMARY:Virtual Information Session for Hackensack Meridian Health Carrier Clinic
DESCRIPTION:Hackensack Meridian Health Carrier Clinic\, in the Belle Mead section of Montgomery\, is hiring. Find out everything you need to know at Virtual Information Session running from 1 to 2 p.m. Thursday\, April 2\, 2026. \nThis session\, focusing on the Hospitality Sector\, is presented by the New Jersey Department of Labor and Workforce Development and the Greater Raritan Workforce Development Board. \nOpen positions include Food Service Worker\, Environmental Service Aide (Housekeeping)\, Admissions Specialist and Security. \nThe employer will present an overview of Hackensack Meridian Health\, and details about open Hospitality and Support roles and team member benefits\, including health insurance. Application instructions will be shared along with additional information\, including resume tips. \nTo register\, use this QR code in this flyer or this link: https://bit.ly/4bitMLi.
URL:https://www.thegrwdb.org/event/virtual-information-session-for-hackensack-meridian-health-carrier-clinic-3/
LOCATION:Virtual Event
CATEGORIES:Virtual Information Job Session
END:VEVENT
END:VCALENDAR