BEGIN:VCALENDAR
VERSION:2.0
PRODID:-//Greater Raritan - ECPv6.3.5//NONSGML v1.0//EN
CALSCALE:GREGORIAN
METHOD:PUBLISH
X-ORIGINAL-URL:https://www.thegrwdb.org
X-WR-CALDESC:Events for Greater Raritan
REFRESH-INTERVAL;VALUE=DURATION:PT1H
X-Robots-Tag:noindex
X-PUBLISHED-TTL:PT1H
BEGIN:VTIMEZONE
TZID:America/New_York
BEGIN:DAYLIGHT
TZOFFSETFROM:-0500
TZOFFSETTO:-0400
TZNAME:EDT
DTSTART:20260308T070000
END:DAYLIGHT
BEGIN:STANDARD
TZOFFSETFROM:-0400
TZOFFSETTO:-0500
TZNAME:EST
DTSTART:20261101T060000
END:STANDARD
END:VTIMEZONE
BEGIN:VEVENT
DTSTART;TZID=America/New_York:20260330T100000
DTEND;TZID=America/New_York:20260330T113000
DTSTAMP:20260421T063728
CREATED:20260219T233144Z
LAST-MODIFIED:20260310T221946Z
UID:16025-1774864800-1774870200@www.thegrwdb.org
SUMMARY:Jersey Job Club Workshop: Acing the Interview 1
DESCRIPTION:The Greater Raritan One-Stop Career Center in Somerville is hosting a series of Jersey Job Club Workshops in March and April. These workshops will be virtual\, through Zoom\, but a limited number of seats are available for in-person attendance at the One-Stop Career Center\, 75 Veterans Memorial Drive\, Somerville. \nThe partners in the Greater Raritan One-Stop Career Center have the expertise and knowledge to help job seekers have success. In Jersey Job Club workshops\, a Greater Raritan One-Stop Career Coach leads hour- to 90-minute-long discussions on topics aimed at assisting job seekers in Hunterdon and Somerset Counties. There is no charge to attend. \nDates and topics are: \n\nMonday\, March 2\, 10 to 11:30 a.m.: Acing the Interview 1 – Preparing for the Interview\nWednesday\, March 4\, 10 to 11:30 a.m.: Acing the Interview 2 – Answering Interview Questions\nFriday\, March 6\, 10 to 11:30 a.m.: Resume Writing Workshop 1 – Top Notch Resume\nMonday\, March 9\, 10 to 11:30 a.m.: Resume Writing Workshop 2 – Cover Letters and More\nWednesday\, March 11\, 10 to 11:30 a.m.: Planning Your Job Search – Path to Employment\nFriday\, March 13\, 10 to 11:30 a.m.: Networking – Best (fastest) way to find a job\nMonday\, March 16\, 10 to 11:30 a.m.: Acing the Interview 1 – Preparing for the Interview\nWednesday\, March 18\, 10 to 11:30 a.m.: Acing the Interview 2 – Answering Interview Questions\nFriday\, March 20\, 10 to 11:30 a.m.: Resume Writing Workshop 1 – Top Notch Resume\nMonday\, March 23\, 10 to 11:30 a.m.: Resume Writing Workshop 2 – Cover Letters and More\nWednesday\, March 25\, 10 to 11:30 a.m.: Planning Your Job Search – Path to Employment\nFriday\, March 27\, 10 to 11:30 a.m.: Networking – Best (fastest) way to find a job\nMonday\, March 30\, 10 to 11:30 a.m.: Acing the Interview 1 – Preparing for the Interview\nWednesday\, April 1\, 10 to 11:30 a.m.: Acing the Interview 2 – Answering Interview Questions\nMonday\, April 6\, 10 to 11:30 a.m.: Resume Writing Workshop 1 – Top Notch Resume\nWednesday\, April 8\, 10 to 11:30 a.m.: Resume Writing Workshop 2 – Cover Letters and More\nFriday\, April 10\, 10 to 11:30 a.m.: Planning Your Job Search – Path to Employment\nMonday\, April 13\, 10 to 11:30 a.m.: Networking – Best (fastest) way to find a job\nWednesday\, April 15\, 10 to 11:30 a.m.: Acing the Interview 1 – Preparing for the Interview\nFriday\, April 17\, 10 to 11:30 a.m.: Acing the Interview 2 – Answering Interview Questions\nMonday\, April 20\, 10 to 11:30 a.m.: Resume Writing Workshop 1 – Top Notch Resume\nWednesday\, April 22\, 10 to 11:30 a.m.: Resume Writing Workshop 2 – Cover Letters and More\nFriday\, April 24\, 10 to 11:30 a.m.: Planning Your Job Search – Path to Employment\nMonday\, April 27\, 10 to 11:30 a.m.: Networking – Best (fastest) way to find a job\nWednesday\, April 29\, 10 to 11:30 a.m.: Acing the Interview 1 – Preparing for the Interview\n\nTo attend virtually or in person\, fill out an information/registration form. Once completed\, email it to shiela.gaa@dol.nj.gov by the Wednesday before the scheduled workshop\, or for more information or assistance\, call 908-704-3000.
URL:https://www.thegrwdb.org/event/jersey-job-club-workshop-acing-the-interview-1-5/
LOCATION:Greater Raritan One-Stop Career Center\, Somerville\, and virtual (hybrid event)\, 75 Veterans Memorial Drive\, Somerville\, NJ\, 08876\, United States
CATEGORIES:Workshops
END:VEVENT
BEGIN:VEVENT
DTSTART;TZID=America/New_York:20260330T100000
DTEND;TZID=America/New_York:20260330T123000
DTSTAMP:20260421T063728
CREATED:20260226T155448Z
LAST-MODIFIED:20260226T174055Z
UID:16086-1774864800-1774873800@www.thegrwdb.org
SUMMARY:PSGCNJ Virtual Career Workshop: Navigating the Pre-Employment Minefield
DESCRIPTION:The Professional Service Group of Central New Jersey (PSGCNJ) will host National Workrights Institute President Lewis Maltby\, who will present “Navigating the Pre Employment Minefield – Avoid Losing Your Job Offer to Pre-Employment Screens\,” at 10 a.m. Monday\, March 30.  The workshop is designed to help job seekers navigate their career. \nAll PSGCNJ members\, guests\, and speakers must pre-register for each general meeting by 11 p.m. EST the Friday before Monday’s presentation. \nTo register for the virtual event: click the link. \nPSGCNJ is the nation’s first employment community that helps unemployed and underemployed college-educated professionals land their next job. Members volunteer their time and talent to operate the 501(c)3 nonprofit.
URL:https://www.thegrwdb.org/event/psgcnj-virtual-career-workshop-navigating-the-pre-employment-minefield/
LOCATION:Virtual Meeting
CATEGORIES:Workshops
END:VEVENT
BEGIN:VEVENT
DTSTART;TZID=America/New_York:20260330T190000
DTEND;TZID=America/New_York:20260330T203000
DTSTAMP:20260421T063728
CREATED:20260323T215112Z
LAST-MODIFIED:20260323T215449Z
UID:16269-1774897200-1774902600@www.thegrwdb.org
SUMMARY:Community Conversation: Navigating SSI and SSDI Benefits
DESCRIPTION:Community members are invited to a conversation on Navigating SSI and SSID Benefits being conducted from 7 to 8:30 p.m. Monday\, March 30\, at Bernards Township Town Hall\, 1 Collyer Lane\, Basking Ridge. \nThe conversation will be facilitated by J.D. Bryden\, Deputy District Director for U.S. Rep.\, Tom Kean Jr. He will offer practical ways to address common challenges such as delays\, denials and coverage issues with key federal social service programs. \nThe Bernards Township Committee is presenting the conversation in recognition of Developmental Disability Awareness Month. For more information\, call 908-766-2510. \n 
URL:https://www.thegrwdb.org/event/community-conversation-navigating-ssi-and-ssdi-benefits/
LOCATION:Bernards Township Town Hall\, 1 Collyer Lane\, Basking Ridge\, NJ\, 07920\, United States
CATEGORIES:Community Event
END:VEVENT
END:VCALENDAR